BEGIN:VCALENDAR
METHOD:REQUEST
PRODID:-//github.com/rianjs/ical.net//NONSGML ical.net 4.0//EN
VERSION:2.0
BEGIN:VEVENT
DESCRIPTION:Apex Racing League \nARL Mazda Cup \nRound 1 \nPractice
DTEND:20220124T194000Z
DTSTAMP:20260425T170408Z
DTSTART:20220124T170000Z
GEO:50.333444;6.939243
LOCATION:N?rburgring Combined
ORGANIZER:mailto:support@xtremescoring.com
SEQUENCE:0
SUMMARY:ARL Mazda Cup - Round 1 - Practice
UID:2c2c1706-af15-4f2c-a8b6-f68817b7fdaf-Practice
END:VEVENT
BEGIN:VEVENT
DESCRIPTION:Apex Racing League \nARL Mazda Cup \nRound 1 \nQualify
DTEND:20220124T201000Z
DTSTAMP:20260425T170408Z
DTSTART:20220124T194000Z
GEO:50.333444;6.939243
LOCATION:N?rburgring Combined
ORGANIZER:mailto:support@xtremescoring.com
SEQUENCE:0
SUMMARY:ARL Mazda Cup - Round 1 - Qualify
UID:2c2c1706-af15-4f2c-a8b6-f68817b7fdaf-Qualify
END:VEVENT
BEGIN:VEVENT
DESCRIPTION:Apex Racing League \nARL Mazda Cup \nRound 1 \nRace
DTEND:20220124T211000Z
DTSTAMP:20260425T170408Z
DTSTART:20220124T201000Z
GEO:50.333444;6.939243
LOCATION:N?rburgring Combined
ORGANIZER:mailto:support@xtremescoring.com
SEQUENCE:0
SUMMARY:ARL Mazda Cup - Round 1 - Race
UID:2c2c1706-af15-4f2c-a8b6-f68817b7fdaf-Race
END:VEVENT
BEGIN:VEVENT
DESCRIPTION:Apex Racing League \nARL Mazda Cup \nRound 2 \nPractice
DTEND:20220131T200000Z
DTSTAMP:20260425T170408Z
DTSTART:20220131T170000Z
GEO:53.175139;-2.622580
LOCATION:Oulton Park Circuit
ORGANIZER:mailto:support@xtremescoring.com
SEQUENCE:0
SUMMARY:ARL Mazda Cup - Round 2 - Practice
UID:19854eed-185f-431b-a001-8fb771464a24-Practice
END:VEVENT
BEGIN:VEVENT
DESCRIPTION:Apex Racing League \nARL Mazda Cup \nRound 2 \nQualify
DTEND:20220131T201000Z
DTSTAMP:20260425T170408Z
DTSTART:20220131T200000Z
GEO:53.175139;-2.622580
LOCATION:Oulton Park Circuit
ORGANIZER:mailto:support@xtremescoring.com
SEQUENCE:0
SUMMARY:ARL Mazda Cup - Round 2 - Qualify
UID:19854eed-185f-431b-a001-8fb771464a24-Qualify
END:VEVENT
BEGIN:VEVENT
DESCRIPTION:Apex Racing League \nARL Mazda Cup \nRound 2 \nRace
DTEND:20220131T210000Z
DTSTAMP:20260425T170408Z
DTSTART:20220131T201000Z
GEO:53.175139;-2.622580
LOCATION:Oulton Park Circuit
ORGANIZER:mailto:support@xtremescoring.com
SEQUENCE:0
SUMMARY:ARL Mazda Cup - Round 2 - Race
UID:19854eed-185f-431b-a001-8fb771464a24-Race
END:VEVENT
BEGIN:VEVENT
DESCRIPTION:Apex Racing League \nARL Mazda Cup \nRound 3 \nPractice
DTEND:20220207T200000Z
DTSTAMP:20260425T170408Z
DTSTART:20220207T170000Z
GEO:34.912586;134.216053
LOCATION:Okayama International Circuit
ORGANIZER:mailto:support@xtremescoring.com
SEQUENCE:0
SUMMARY:ARL Mazda Cup - Round 3 - Practice
UID:87d7f83a-fdbc-4bdc-833a-fc300b3ec6c2-Practice
END:VEVENT
BEGIN:VEVENT
DESCRIPTION:Apex Racing League \nARL Mazda Cup \nRound 3 \nQualify
DTEND:20220207T201000Z
DTSTAMP:20260425T170408Z
DTSTART:20220207T200000Z
GEO:34.912586;134.216053
LOCATION:Okayama International Circuit
ORGANIZER:mailto:support@xtremescoring.com
SEQUENCE:0
SUMMARY:ARL Mazda Cup - Round 3 - Qualify
UID:87d7f83a-fdbc-4bdc-833a-fc300b3ec6c2-Qualify
END:VEVENT
BEGIN:VEVENT
DESCRIPTION:Apex Racing League \nARL Mazda Cup \nRound 3 \nRace
DTEND:20220207T205500Z
DTSTAMP:20260425T170408Z
DTSTART:20220207T201000Z
GEO:34.912586;134.216053
LOCATION:Okayama International Circuit
ORGANIZER:mailto:support@xtremescoring.com
SEQUENCE:0
SUMMARY:ARL Mazda Cup - Round 3 - Race
UID:87d7f83a-fdbc-4bdc-833a-fc300b3ec6c2-Race
END:VEVENT
BEGIN:VEVENT
DESCRIPTION:Apex Racing League \nARL Mazda Cup \nRound 4 \nPractice
DTEND:20220215T074000Z
DTSTAMP:20260425T170408Z
DTSTART:20220214T171000Z
GEO:52.073301;-1.016858
LOCATION:Silverstone Circuit
ORGANIZER:mailto:support@xtremescoring.com
SEQUENCE:0
SUMMARY:ARL Mazda Cup - Round 4 - Practice
UID:584ff81d-bbab-43c3-991d-857493d246a9-Practice
END:VEVENT
BEGIN:VEVENT
DESCRIPTION:Apex Racing League \nARL Mazda Cup \nRound 4 \nQualify
DTEND:20220215T201000Z
DTSTAMP:20260425T170408Z
DTSTART:20220215T074000Z
GEO:52.073301;-1.016858
LOCATION:Silverstone Circuit
ORGANIZER:mailto:support@xtremescoring.com
SEQUENCE:0
SUMMARY:ARL Mazda Cup - Round 4 - Qualify
UID:584ff81d-bbab-43c3-991d-857493d246a9-Qualify
END:VEVENT
BEGIN:VEVENT
DESCRIPTION:Apex Racing League \nARL Mazda Cup \nRound 4 \nRace
DTEND:20220215T211000Z
DTSTAMP:20260425T170408Z
DTSTART:20220215T201000Z
GEO:52.073301;-1.016858
LOCATION:Silverstone Circuit
ORGANIZER:mailto:support@xtremescoring.com
SEQUENCE:0
SUMMARY:ARL Mazda Cup - Round 4 - Race
UID:584ff81d-bbab-43c3-991d-857493d246a9-Race
END:VEVENT
BEGIN:VEVENT
DESCRIPTION:Apex Racing League \nARL Mazda Cup \nRound 5 \nPractice
DTEND:20220221T200000Z
DTSTAMP:20260425T170408Z
DTSTART:20220221T170000Z
GEO:56.131522;-3.509043
LOCATION:Knockhill Racing Circuit
ORGANIZER:mailto:support@xtremescoring.com
SEQUENCE:0
SUMMARY:ARL Mazda Cup - Round 5 - Practice
UID:e76d3f1a-cd54-4148-b6c0-d1af7486844d-Practice
END:VEVENT
BEGIN:VEVENT
DESCRIPTION:Apex Racing League \nARL Mazda Cup \nRound 5 \nQualify
DTEND:20220221T201000Z
DTSTAMP:20260425T170408Z
DTSTART:20220221T200000Z
GEO:56.131522;-3.509043
LOCATION:Knockhill Racing Circuit
ORGANIZER:mailto:support@xtremescoring.com
SEQUENCE:0
SUMMARY:ARL Mazda Cup - Round 5 - Qualify
UID:e76d3f1a-cd54-4148-b6c0-d1af7486844d-Qualify
END:VEVENT
BEGIN:VEVENT
DESCRIPTION:Apex Racing League \nARL Mazda Cup \nRound 5 \nRace
DTEND:20220221T210000Z
DTSTAMP:20260425T170408Z
DTSTART:20220221T201000Z
GEO:56.131522;-3.509043
LOCATION:Knockhill Racing Circuit
ORGANIZER:mailto:support@xtremescoring.com
SEQUENCE:0
SUMMARY:ARL Mazda Cup - Round 5 - Race
UID:e76d3f1a-cd54-4148-b6c0-d1af7486844d-Race
END:VEVENT
BEGIN:VEVENT
DESCRIPTION:Apex Racing League \nARL Mazda Cup \nRound 6 \nPractice
DTEND:20220301T074000Z
DTSTAMP:20260425T170408Z
DTSTART:20220228T171000Z
GEO:47.220342;14.765486
LOCATION:Red Bull Ring
ORGANIZER:mailto:support@xtremescoring.com
SEQUENCE:0
SUMMARY:ARL Mazda Cup - Round 6 - Practice
UID:5125c220-1074-42b7-8ab2-c7a322740a89-Practice
END:VEVENT
BEGIN:VEVENT
DESCRIPTION:Apex Racing League \nARL Mazda Cup \nRound 6 \nQualify
DTEND:20220301T201000Z
DTSTAMP:20260425T170408Z
DTSTART:20220301T074000Z
GEO:47.220342;14.765486
LOCATION:Red Bull Ring
ORGANIZER:mailto:support@xtremescoring.com
SEQUENCE:0
SUMMARY:ARL Mazda Cup - Round 6 - Qualify
UID:5125c220-1074-42b7-8ab2-c7a322740a89-Qualify
END:VEVENT
BEGIN:VEVENT
DESCRIPTION:Apex Racing League \nARL Mazda Cup \nRound 6 \nRace
DTEND:20220301T211000Z
DTSTAMP:20260425T170408Z
DTSTART:20220301T201000Z
GEO:47.220342;14.765486
LOCATION:Red Bull Ring
ORGANIZER:mailto:support@xtremescoring.com
SEQUENCE:0
SUMMARY:ARL Mazda Cup - Round 6 - Race
UID:5125c220-1074-42b7-8ab2-c7a322740a89-Race
END:VEVENT
BEGIN:VEVENT
DESCRIPTION:Apex Racing League \nARL Mazda Cup \nRound 7 \nPractice
DTEND:20220307T200000Z
DTSTAMP:20260425T170408Z
DTSTART:20220307T170000Z
GEO:36.584290;-121.755658
LOCATION:WeatherTech Raceway at Laguna Seca
ORGANIZER:mailto:support@xtremescoring.com
SEQUENCE:0
SUMMARY:ARL Mazda Cup - Round 7 - Practice
UID:1115f7c5-6b92-4c59-8994-6669a861d547-Practice
END:VEVENT
BEGIN:VEVENT
DESCRIPTION:Apex Racing League \nARL Mazda Cup \nRound 7 \nQualify
DTEND:20220307T201000Z
DTSTAMP:20260425T170408Z
DTSTART:20220307T200000Z
GEO:36.584290;-121.755658
LOCATION:WeatherTech Raceway at Laguna Seca
ORGANIZER:mailto:support@xtremescoring.com
SEQUENCE:0
SUMMARY:ARL Mazda Cup - Round 7 - Qualify
UID:1115f7c5-6b92-4c59-8994-6669a861d547-Qualify
END:VEVENT
BEGIN:VEVENT
DESCRIPTION:Apex Racing League \nARL Mazda Cup \nRound 7 \nRace
DTEND:20220307T205500Z
DTSTAMP:20260425T170408Z
DTSTART:20220307T201000Z
GEO:36.584290;-121.755658
LOCATION:WeatherTech Raceway at Laguna Seca
ORGANIZER:mailto:support@xtremescoring.com
SEQUENCE:0
SUMMARY:ARL Mazda Cup - Round 7 - Race
UID:1115f7c5-6b92-4c59-8994-6669a861d547-Race
END:VEVENT
BEGIN:VEVENT
DESCRIPTION:Apex Racing League \nARL Mazda Cup \nRound 8 \nPractice
DTEND:20220314T200000Z
DTSTAMP:20260425T170408Z
DTSTART:20220314T170000Z
GEO:-34.006111;150.733889
LOCATION:Oran Park Raceway
ORGANIZER:mailto:support@xtremescoring.com
SEQUENCE:0
SUMMARY:ARL Mazda Cup - Round 8 - Practice
UID:9921543c-a142-40e4-8bea-04ff161b2b1a-Practice
END:VEVENT
BEGIN:VEVENT
DESCRIPTION:Apex Racing League \nARL Mazda Cup \nRound 8 \nQualify
DTEND:20220314T201000Z
DTSTAMP:20260425T170408Z
DTSTART:20220314T200000Z
GEO:-34.006111;150.733889
LOCATION:Oran Park Raceway
ORGANIZER:mailto:support@xtremescoring.com
SEQUENCE:0
SUMMARY:ARL Mazda Cup - Round 8 - Qualify
UID:9921543c-a142-40e4-8bea-04ff161b2b1a-Qualify
END:VEVENT
BEGIN:VEVENT
DESCRIPTION:Apex Racing League \nARL Mazda Cup \nRound 8 \nRace
DTEND:20220314T210000Z
DTSTAMP:20260425T170408Z
DTSTART:20220314T201000Z
GEO:-34.006111;150.733889
LOCATION:Oran Park Raceway
ORGANIZER:mailto:support@xtremescoring.com
SEQUENCE:0
SUMMARY:ARL Mazda Cup - Round 8 - Race
UID:9921543c-a142-40e4-8bea-04ff161b2b1a-Race
END:VEVENT
BEGIN:VEVENT
DESCRIPTION:Apex Racing League \nARL Mazda Cup \nRound 9 \nPractice
DTEND:20220321T200000Z
DTSTAMP:20260425T170408Z
DTSTART:20220321T170000Z
GEO:50.436912;5.969856
LOCATION:Circuit de Spa-Francorchamps
ORGANIZER:mailto:support@xtremescoring.com
SEQUENCE:0
SUMMARY:ARL Mazda Cup - Round 9 - Practice
UID:f945d98d-97bd-49e2-b9a6-aa6bc8698c4a-Practice
END:VEVENT
BEGIN:VEVENT
DESCRIPTION:Apex Racing League \nARL Mazda Cup \nRound 9 \nQualify
DTEND:20220321T201000Z
DTSTAMP:20260425T170408Z
DTSTART:20220321T200000Z
GEO:50.436912;5.969856
LOCATION:Circuit de Spa-Francorchamps
ORGANIZER:mailto:support@xtremescoring.com
SEQUENCE:0
SUMMARY:ARL Mazda Cup - Round 9 - Qualify
UID:f945d98d-97bd-49e2-b9a6-aa6bc8698c4a-Qualify
END:VEVENT
BEGIN:VEVENT
DESCRIPTION:Apex Racing League \nARL Mazda Cup \nRound 9 \nRace
DTEND:20220321T205500Z
DTSTAMP:20260425T170408Z
DTSTART:20220321T201000Z
GEO:50.436912;5.969856
LOCATION:Circuit de Spa-Francorchamps
ORGANIZER:mailto:support@xtremescoring.com
SEQUENCE:0
SUMMARY:ARL Mazda Cup - Round 9 - Race
UID:f945d98d-97bd-49e2-b9a6-aa6bc8698c4a-Race
END:VEVENT
BEGIN:VEVENT
DESCRIPTION:Apex Racing League \nARL Mazda Cup \nRound 10 \nPractice
DTEND:20220328T194000Z
DTSTAMP:20260425T170408Z
DTSTART:20220328T171000Z
GEO:45.503219;-73.528882
LOCATION:Circuit Gilles Villeneuve
ORGANIZER:mailto:support@xtremescoring.com
SEQUENCE:0
SUMMARY:ARL Mazda Cup - Round 10 - Practice
UID:f0d823b2-21c9-479c-adba-fb7a7ab903ff-Practice
END:VEVENT
BEGIN:VEVENT
DESCRIPTION:Apex Racing League \nARL Mazda Cup \nRound 10 \nQualify
DTEND:20220328T201000Z
DTSTAMP:20260425T170408Z
DTSTART:20220328T194000Z
GEO:45.503219;-73.528882
LOCATION:Circuit Gilles Villeneuve
ORGANIZER:mailto:support@xtremescoring.com
SEQUENCE:0
SUMMARY:ARL Mazda Cup - Round 10 - Qualify
UID:f0d823b2-21c9-479c-adba-fb7a7ab903ff-Qualify
END:VEVENT
BEGIN:VEVENT
DESCRIPTION:Apex Racing League \nARL Mazda Cup \nRound 10 \nRace
DTEND:20220328T211000Z
DTSTAMP:20260425T170408Z
DTSTART:20220328T201000Z
GEO:45.503219;-73.528882
LOCATION:Circuit Gilles Villeneuve
ORGANIZER:mailto:support@xtremescoring.com
SEQUENCE:0
SUMMARY:ARL Mazda Cup - Round 10 - Race
UID:f0d823b2-21c9-479c-adba-fb7a7ab903ff-Race
END:VEVENT
BEGIN:VEVENT
DESCRIPTION:Apex Racing League \nARL Mazda Cup \nRound 11 \nPractice
DTEND:20220404T200000Z
DTSTAMP:20260425T170408Z
DTSTART:20220404T170000Z
GEO:49.330028;8.570892
LOCATION:Hockenheimring Baden-W?rttemberg
ORGANIZER:mailto:support@xtremescoring.com
SEQUENCE:0
SUMMARY:ARL Mazda Cup - Round 11 - Practice
UID:b699faff-6b88-4c83-b7cf-bf1e3253234a-Practice
END:VEVENT
BEGIN:VEVENT
DESCRIPTION:Apex Racing League \nARL Mazda Cup \nRound 11 \nQualify
DTEND:20220404T201000Z
DTSTAMP:20260425T170408Z
DTSTART:20220404T200000Z
GEO:49.330028;8.570892
LOCATION:Hockenheimring Baden-W?rttemberg
ORGANIZER:mailto:support@xtremescoring.com
SEQUENCE:0
SUMMARY:ARL Mazda Cup - Round 11 - Qualify
UID:b699faff-6b88-4c83-b7cf-bf1e3253234a-Qualify
END:VEVENT
BEGIN:VEVENT
DESCRIPTION:Apex Racing League \nARL Mazda Cup \nRound 11 \nRace
DTEND:20220404T205500Z
DTSTAMP:20260425T170408Z
DTSTART:20220404T201000Z
GEO:49.330028;8.570892
LOCATION:Hockenheimring Baden-W?rttemberg
ORGANIZER:mailto:support@xtremescoring.com
SEQUENCE:0
SUMMARY:ARL Mazda Cup - Round 11 - Race
UID:b699faff-6b88-4c83-b7cf-bf1e3253234a-Race
END:VEVENT
BEGIN:VEVENT
DESCRIPTION:Apex Racing League \nARL Mazda Cup \nRound 12 \nPractice
DTEND:20220411T200000Z
DTSTAMP:20260425T170408Z
DTSTART:20220411T170000Z
GEO:-33.439419;149.555711
LOCATION:Mount Panorama Circuit
ORGANIZER:mailto:support@xtremescoring.com
SEQUENCE:0
SUMMARY:ARL Mazda Cup - Round 12 - Practice
UID:3e56281e-c927-42ba-9d55-94f0a184e2ca-Practice
END:VEVENT
BEGIN:VEVENT
DESCRIPTION:Apex Racing League \nARL Mazda Cup \nRound 12 \nQualify
DTEND:20220411T201000Z
DTSTAMP:20260425T170408Z
DTSTART:20220411T200000Z
GEO:-33.439419;149.555711
LOCATION:Mount Panorama Circuit
ORGANIZER:mailto:support@xtremescoring.com
SEQUENCE:0
SUMMARY:ARL Mazda Cup - Round 12 - Qualify
UID:3e56281e-c927-42ba-9d55-94f0a184e2ca-Qualify
END:VEVENT
BEGIN:VEVENT
DESCRIPTION:Apex Racing League \nARL Mazda Cup \nRound 12 \nRace
DTEND:20220411T210000Z
DTSTAMP:20260425T170408Z
DTSTART:20220411T201000Z
GEO:-33.439419;149.555711
LOCATION:Mount Panorama Circuit
ORGANIZER:mailto:support@xtremescoring.com
SEQUENCE:0
SUMMARY:ARL Mazda Cup - Round 12 - Race
UID:3e56281e-c927-42ba-9d55-94f0a184e2ca-Race
END:VEVENT
END:VCALENDAR
