BEGIN:VCALENDAR
METHOD:REQUEST
PRODID:-//github.com/rianjs/ical.net//NONSGML ical.net 4.0//EN
VERSION:2.0
BEGIN:VEVENT
DESCRIPTION:Apex Racing League \nARL GT3 Trophy \nRound 1 \nPractice
DTEND:20220329T190000Z
DTSTAMP:20260424T134106Z
DTSTART:20220329T170000Z
GEO:27.455013;-81.351874
LOCATION:Sebring International Raceway
ORGANIZER:mailto:support@xtremescoring.com
SEQUENCE:0
SUMMARY:ARL GT3 Trophy - Round 1 - Practice
UID:1a4ac2ba-6a8a-4e89-89ef-cbdbecf517f2-Practice
END:VEVENT
BEGIN:VEVENT
DESCRIPTION:Apex Racing League \nARL GT3 Trophy \nRound 1 \nQualify
DTEND:20220329T191000Z
DTSTAMP:20260424T134106Z
DTSTART:20220329T190000Z
GEO:27.455013;-81.351874
LOCATION:Sebring International Raceway
ORGANIZER:mailto:support@xtremescoring.com
SEQUENCE:0
SUMMARY:ARL GT3 Trophy - Round 1 - Qualify
UID:1a4ac2ba-6a8a-4e89-89ef-cbdbecf517f2-Qualify
END:VEVENT
BEGIN:VEVENT
DESCRIPTION:Apex Racing League \nARL GT3 Trophy \nRound 1 \nRace
DTEND:20220329T201000Z
DTSTAMP:20260424T134106Z
DTSTART:20220329T191000Z
GEO:27.455013;-81.351874
LOCATION:Sebring International Raceway
ORGANIZER:mailto:support@xtremescoring.com
SEQUENCE:0
SUMMARY:ARL GT3 Trophy - Round 1 - Race
UID:1a4ac2ba-6a8a-4e89-89ef-cbdbecf517f2-Race
END:VEVENT
BEGIN:VEVENT
DESCRIPTION:Apex Racing League \nARL GT3 Trophy \nRound 2 \nPractice
DTEND:20220405T190000Z
DTSTAMP:20260424T134106Z
DTSTART:20220405T170000Z
GEO:42.338281;-76.928552
LOCATION:Watkins Glen International
ORGANIZER:mailto:support@xtremescoring.com
SEQUENCE:0
SUMMARY:ARL GT3 Trophy - Round 2 - Practice
UID:b7e340e4-3b77-481d-a014-14b8654d7d9e-Practice
END:VEVENT
BEGIN:VEVENT
DESCRIPTION:Apex Racing League \nARL GT3 Trophy \nRound 2 \nQualify
DTEND:20220405T191000Z
DTSTAMP:20260424T134106Z
DTSTART:20220405T190000Z
GEO:42.338281;-76.928552
LOCATION:Watkins Glen International
ORGANIZER:mailto:support@xtremescoring.com
SEQUENCE:0
SUMMARY:ARL GT3 Trophy - Round 2 - Qualify
UID:b7e340e4-3b77-481d-a014-14b8654d7d9e-Qualify
END:VEVENT
BEGIN:VEVENT
DESCRIPTION:Apex Racing League \nARL GT3 Trophy \nRound 2 \nRace
DTEND:20220405T201000Z
DTSTAMP:20260424T134106Z
DTSTART:20220405T191000Z
GEO:42.338281;-76.928552
LOCATION:Watkins Glen International
ORGANIZER:mailto:support@xtremescoring.com
SEQUENCE:0
SUMMARY:ARL GT3 Trophy - Round 2 - Race
UID:b7e340e4-3b77-481d-a014-14b8654d7d9e-Race
END:VEVENT
BEGIN:VEVENT
DESCRIPTION:Apex Racing League \nARL GT3 Trophy \nRound 3 \nPractice
DTEND:20220412T190000Z
DTSTAMP:20260424T134106Z
DTSTART:20220412T170000Z
GEO:29.185169;-81.072722
LOCATION:Daytona International Speedway
ORGANIZER:mailto:support@xtremescoring.com
SEQUENCE:0
SUMMARY:ARL GT3 Trophy - Round 3 - Practice
UID:b9e84d95-a691-411f-b87a-963f2698ed88-Practice
END:VEVENT
BEGIN:VEVENT
DESCRIPTION:Apex Racing League \nARL GT3 Trophy \nRound 3 \nQualify
DTEND:20220412T191000Z
DTSTAMP:20260424T134106Z
DTSTART:20220412T190000Z
GEO:29.185169;-81.072722
LOCATION:Daytona International Speedway
ORGANIZER:mailto:support@xtremescoring.com
SEQUENCE:0
SUMMARY:ARL GT3 Trophy - Round 3 - Qualify
UID:b9e84d95-a691-411f-b87a-963f2698ed88-Qualify
END:VEVENT
BEGIN:VEVENT
DESCRIPTION:Apex Racing League \nARL GT3 Trophy \nRound 3 \nRace
DTEND:20220412T201000Z
DTSTAMP:20260424T134106Z
DTSTART:20220412T191000Z
GEO:29.185169;-81.072722
LOCATION:Daytona International Speedway
ORGANIZER:mailto:support@xtremescoring.com
SEQUENCE:0
SUMMARY:ARL GT3 Trophy - Round 3 - Race
UID:b9e84d95-a691-411f-b87a-963f2698ed88-Race
END:VEVENT
BEGIN:VEVENT
DESCRIPTION:Apex Racing League \nARL GT3 Trophy \nRound 4 \nPractice
DTEND:20220419T190000Z
DTSTAMP:20260424T134106Z
DTSTART:20220419T170000Z
GEO:33.531808;-86.621109
LOCATION:Barber Motorsports Park
ORGANIZER:mailto:support@xtremescoring.com
SEQUENCE:0
SUMMARY:ARL GT3 Trophy - Round 4 - Practice
UID:63b5eeba-bacd-48f5-a994-1ff86743861e-Practice
END:VEVENT
BEGIN:VEVENT
DESCRIPTION:Apex Racing League \nARL GT3 Trophy \nRound 4 \nQualify
DTEND:20220419T191000Z
DTSTAMP:20260424T134106Z
DTSTART:20220419T190000Z
GEO:33.531808;-86.621109
LOCATION:Barber Motorsports Park
ORGANIZER:mailto:support@xtremescoring.com
SEQUENCE:0
SUMMARY:ARL GT3 Trophy - Round 4 - Qualify
UID:63b5eeba-bacd-48f5-a994-1ff86743861e-Qualify
END:VEVENT
BEGIN:VEVENT
DESCRIPTION:Apex Racing League \nARL GT3 Trophy \nRound 4 \nRace
DTEND:20220419T204000Z
DTSTAMP:20260424T134106Z
DTSTART:20220419T191000Z
GEO:33.531808;-86.621109
LOCATION:Barber Motorsports Park
ORGANIZER:mailto:support@xtremescoring.com
SEQUENCE:0
SUMMARY:ARL GT3 Trophy - Round 4 - Race
UID:63b5eeba-bacd-48f5-a994-1ff86743861e-Race
END:VEVENT
BEGIN:VEVENT
DESCRIPTION:Apex Racing League \nARL GT3 Trophy \nRound 5 \nPractice
DTEND:20220426T190000Z
DTSTAMP:20260424T134106Z
DTSTART:20220426T170000Z
GEO:43.797510;-87.992157
LOCATION:Road America
ORGANIZER:mailto:support@xtremescoring.com
SEQUENCE:0
SUMMARY:ARL GT3 Trophy - Round 5 - Practice
UID:64b17e2f-05e3-49ee-8385-09bca0364fff-Practice
END:VEVENT
BEGIN:VEVENT
DESCRIPTION:Apex Racing League \nARL GT3 Trophy \nRound 5 \nQualify
DTEND:20220426T191000Z
DTSTAMP:20260424T134106Z
DTSTART:20220426T190000Z
GEO:43.797510;-87.992157
LOCATION:Road America
ORGANIZER:mailto:support@xtremescoring.com
SEQUENCE:0
SUMMARY:ARL GT3 Trophy - Round 5 - Qualify
UID:64b17e2f-05e3-49ee-8385-09bca0364fff-Qualify
END:VEVENT
BEGIN:VEVENT
DESCRIPTION:Apex Racing League \nARL GT3 Trophy \nRound 5 \nRace
DTEND:20220426T204000Z
DTSTAMP:20260424T134106Z
DTSTART:20220426T191000Z
GEO:43.797510;-87.992157
LOCATION:Road America
ORGANIZER:mailto:support@xtremescoring.com
SEQUENCE:0
SUMMARY:ARL GT3 Trophy - Round 5 - Race
UID:64b17e2f-05e3-49ee-8385-09bca0364fff-Race
END:VEVENT
BEGIN:VEVENT
DESCRIPTION:Apex Racing League \nARL GT3 Trophy \nRound 6 \nPractice
DTEND:20220503T190000Z
DTSTAMP:20260424T134106Z
DTSTART:20220503T170000Z
GEO:49.330028;8.570892
LOCATION:Hockenheimring Baden-W?rttemberg
ORGANIZER:mailto:support@xtremescoring.com
SEQUENCE:0
SUMMARY:ARL GT3 Trophy - Round 6 - Practice
UID:fe7e040a-f19f-424b-8a71-ddb25876a26b-Practice
END:VEVENT
BEGIN:VEVENT
DESCRIPTION:Apex Racing League \nARL GT3 Trophy \nRound 6 \nQualify
DTEND:20220503T191000Z
DTSTAMP:20260424T134106Z
DTSTART:20220503T190000Z
GEO:49.330028;8.570892
LOCATION:Hockenheimring Baden-W?rttemberg
ORGANIZER:mailto:support@xtremescoring.com
SEQUENCE:0
SUMMARY:ARL GT3 Trophy - Round 6 - Qualify
UID:fe7e040a-f19f-424b-8a71-ddb25876a26b-Qualify
END:VEVENT
BEGIN:VEVENT
DESCRIPTION:Apex Racing League \nARL GT3 Trophy \nRound 6 \nRace
DTEND:20220503T204000Z
DTSTAMP:20260424T134106Z
DTSTART:20220503T191000Z
GEO:49.330028;8.570892
LOCATION:Hockenheimring Baden-W?rttemberg
ORGANIZER:mailto:support@xtremescoring.com
SEQUENCE:0
SUMMARY:ARL GT3 Trophy - Round 6 - Race
UID:fe7e040a-f19f-424b-8a71-ddb25876a26b-Race
END:VEVENT
BEGIN:VEVENT
DESCRIPTION:Apex Racing League \nARL GT3 Trophy \nRound 7 \nPractice
DTEND:20220510T190000Z
DTSTAMP:20260424T134106Z
DTSTART:20220510T170000Z
GEO:53.175139;-2.622580
LOCATION:Oulton Park Circuit
ORGANIZER:mailto:support@xtremescoring.com
SEQUENCE:0
SUMMARY:ARL GT3 Trophy - Round 7 - Practice
UID:a9d7ceab-b197-48e0-8817-0f63e6b93bf7-Practice
END:VEVENT
BEGIN:VEVENT
DESCRIPTION:Apex Racing League \nARL GT3 Trophy \nRound 7 \nQualify
DTEND:20220510T191000Z
DTSTAMP:20260424T134106Z
DTSTART:20220510T190000Z
GEO:53.175139;-2.622580
LOCATION:Oulton Park Circuit
ORGANIZER:mailto:support@xtremescoring.com
SEQUENCE:0
SUMMARY:ARL GT3 Trophy - Round 7 - Qualify
UID:a9d7ceab-b197-48e0-8817-0f63e6b93bf7-Qualify
END:VEVENT
BEGIN:VEVENT
DESCRIPTION:Apex Racing League \nARL GT3 Trophy \nRound 7 \nRace
DTEND:20220510T201000Z
DTSTAMP:20260424T134106Z
DTSTART:20220510T191000Z
GEO:53.175139;-2.622580
LOCATION:Oulton Park Circuit
ORGANIZER:mailto:support@xtremescoring.com
SEQUENCE:0
SUMMARY:ARL GT3 Trophy - Round 7 - Race
UID:a9d7ceab-b197-48e0-8817-0f63e6b93bf7-Race
END:VEVENT
BEGIN:VEVENT
DESCRIPTION:Apex Racing League \nARL GT3 Trophy \nRound 8 \nPractice
DTEND:20220517T190000Z
DTSTAMP:20260424T134106Z
DTSTART:20220517T170000Z
GEO:51.358105;0.253634
LOCATION:Brands Hatch Circuit
ORGANIZER:mailto:support@xtremescoring.com
SEQUENCE:0
SUMMARY:ARL GT3 Trophy - Round 8 - Practice
UID:a5180749-f8eb-4e61-8ab2-8a424a07151f-Practice
END:VEVENT
BEGIN:VEVENT
DESCRIPTION:Apex Racing League \nARL GT3 Trophy \nRound 8 \nQualify
DTEND:20220517T191000Z
DTSTAMP:20260424T134106Z
DTSTART:20220517T190000Z
GEO:51.358105;0.253634
LOCATION:Brands Hatch Circuit
ORGANIZER:mailto:support@xtremescoring.com
SEQUENCE:0
SUMMARY:ARL GT3 Trophy - Round 8 - Qualify
UID:a5180749-f8eb-4e61-8ab2-8a424a07151f-Qualify
END:VEVENT
BEGIN:VEVENT
DESCRIPTION:Apex Racing League \nARL GT3 Trophy \nRound 8 \nRace
DTEND:20220517T201000Z
DTSTAMP:20260424T134106Z
DTSTART:20220517T191000Z
GEO:51.358105;0.253634
LOCATION:Brands Hatch Circuit
ORGANIZER:mailto:support@xtremescoring.com
SEQUENCE:0
SUMMARY:ARL GT3 Trophy - Round 8 - Race
UID:a5180749-f8eb-4e61-8ab2-8a424a07151f-Race
END:VEVENT
BEGIN:VEVENT
DESCRIPTION:Apex Racing League \nARL GT3 Trophy \nRound 9 \nPractice
DTEND:20220524T190000Z
DTSTAMP:20260424T134106Z
DTSTART:20220524T170000Z
GEO:-23.701185;-46.700148
LOCATION:Aut?dromo Jos? Carlos Pace
ORGANIZER:mailto:support@xtremescoring.com
SEQUENCE:0
SUMMARY:ARL GT3 Trophy - Round 9 - Practice
UID:e25fb52a-f8f0-45d0-80a5-2aecac9177c4-Practice
END:VEVENT
BEGIN:VEVENT
DESCRIPTION:Apex Racing League \nARL GT3 Trophy \nRound 9 \nQualify
DTEND:20220524T191000Z
DTSTAMP:20260424T134106Z
DTSTART:20220524T190000Z
GEO:-23.701185;-46.700148
LOCATION:Aut?dromo Jos? Carlos Pace
ORGANIZER:mailto:support@xtremescoring.com
SEQUENCE:0
SUMMARY:ARL GT3 Trophy - Round 9 - Qualify
UID:e25fb52a-f8f0-45d0-80a5-2aecac9177c4-Qualify
END:VEVENT
BEGIN:VEVENT
DESCRIPTION:Apex Racing League \nARL GT3 Trophy \nRound 9 \nRace
DTEND:20220524T204000Z
DTSTAMP:20260424T134106Z
DTSTART:20220524T191000Z
GEO:-23.701185;-46.700148
LOCATION:Aut?dromo Jos? Carlos Pace
ORGANIZER:mailto:support@xtremescoring.com
SEQUENCE:0
SUMMARY:ARL GT3 Trophy - Round 9 - Race
UID:e25fb52a-f8f0-45d0-80a5-2aecac9177c4-Race
END:VEVENT
END:VCALENDAR
