BEGIN:VCALENDAR
METHOD:REQUEST
PRODID:-//github.com/rianjs/ical.net//NONSGML ical.net 4.0//EN
VERSION:2.0
BEGIN:VEVENT
DESCRIPTION:Apex Racing League \nARL GT3 Trophy \nRound 1 - Red Bull Ring 
 \nPractice
DTEND:20220104T200000Z
DTSTAMP:20260425T164922Z
DTSTART:20220104T180000Z
GEO:47.220342;14.765486
LOCATION:Red Bull Ring
ORGANIZER:mailto:support@xtremescoring.com
SEQUENCE:0
SUMMARY:ARL GT3 Trophy - Round 1 - Red Bull Ring - Practice
UID:eba16cd4-7192-4ee0-bcba-196722c2aeac-Practice
END:VEVENT
BEGIN:VEVENT
DESCRIPTION:Apex Racing League \nARL GT3 Trophy \nRound 1 - Red Bull Ring 
 \nQualify
DTEND:20220104T201000Z
DTSTAMP:20260425T164922Z
DTSTART:20220104T200000Z
GEO:47.220342;14.765486
LOCATION:Red Bull Ring
ORGANIZER:mailto:support@xtremescoring.com
SEQUENCE:0
SUMMARY:ARL GT3 Trophy - Round 1 - Red Bull Ring - Qualify
UID:eba16cd4-7192-4ee0-bcba-196722c2aeac-Qualify
END:VEVENT
BEGIN:VEVENT
DESCRIPTION:Apex Racing League \nARL GT3 Trophy \nRound 1 - Red Bull Ring 
 \nRace
DTEND:20220104T211000Z
DTSTAMP:20260425T164922Z
DTSTART:20220104T201000Z
GEO:47.220342;14.765486
LOCATION:Red Bull Ring
ORGANIZER:mailto:support@xtremescoring.com
SEQUENCE:0
SUMMARY:ARL GT3 Trophy - Round 1 - Red Bull Ring - Race
UID:eba16cd4-7192-4ee0-bcba-196722c2aeac-Race
END:VEVENT
BEGIN:VEVENT
DESCRIPTION:Apex Racing League \nARL GT3 Trophy \nRound 2 - Silverstone \n
 Practice
DTEND:20220111T200000Z
DTSTAMP:20260425T164922Z
DTSTART:20220111T180000Z
GEO:52.073301;-1.016858
LOCATION:Silverstone Circuit
ORGANIZER:mailto:support@xtremescoring.com
SEQUENCE:0
SUMMARY:ARL GT3 Trophy - Round 2 - Silverstone - Practice
UID:a6f8b5b9-a328-4d59-8e65-e7ffe206fc02-Practice
END:VEVENT
BEGIN:VEVENT
DESCRIPTION:Apex Racing League \nARL GT3 Trophy \nRound 2 - Silverstone \n
 Qualify
DTEND:20220111T201000Z
DTSTAMP:20260425T164922Z
DTSTART:20220111T200000Z
GEO:52.073301;-1.016858
LOCATION:Silverstone Circuit
ORGANIZER:mailto:support@xtremescoring.com
SEQUENCE:0
SUMMARY:ARL GT3 Trophy - Round 2 - Silverstone - Qualify
UID:a6f8b5b9-a328-4d59-8e65-e7ffe206fc02-Qualify
END:VEVENT
BEGIN:VEVENT
DESCRIPTION:Apex Racing League \nARL GT3 Trophy \nRound 2 - Silverstone \n
 Race
DTEND:20220111T211000Z
DTSTAMP:20260425T164922Z
DTSTART:20220111T201000Z
GEO:52.073301;-1.016858
LOCATION:Silverstone Circuit
ORGANIZER:mailto:support@xtremescoring.com
SEQUENCE:0
SUMMARY:ARL GT3 Trophy - Round 2 - Silverstone - Race
UID:a6f8b5b9-a328-4d59-8e65-e7ffe206fc02-Race
END:VEVENT
BEGIN:VEVENT
DESCRIPTION:Apex Racing League \nARL GT3 Trophy \nRound 3 - Daytona \nPrac
 tice
DTEND:20220118T200000Z
DTSTAMP:20260425T164922Z
DTSTART:20220118T180000Z
GEO:29.185169;-81.072722
LOCATION:Daytona International Speedway
ORGANIZER:mailto:support@xtremescoring.com
SEQUENCE:0
SUMMARY:ARL GT3 Trophy - Round 3 - Daytona - Practice
UID:b22dba3e-e270-44db-a7c0-23b395dd9702-Practice
END:VEVENT
BEGIN:VEVENT
DESCRIPTION:Apex Racing League \nARL GT3 Trophy \nRound 3 - Daytona \nQual
 ify
DTEND:20220118T201000Z
DTSTAMP:20260425T164922Z
DTSTART:20220118T200000Z
GEO:29.185169;-81.072722
LOCATION:Daytona International Speedway
ORGANIZER:mailto:support@xtremescoring.com
SEQUENCE:0
SUMMARY:ARL GT3 Trophy - Round 3 - Daytona - Qualify
UID:b22dba3e-e270-44db-a7c0-23b395dd9702-Qualify
END:VEVENT
BEGIN:VEVENT
DESCRIPTION:Apex Racing League \nARL GT3 Trophy \nRound 3 - Daytona \nRace
DTEND:20220118T211000Z
DTSTAMP:20260425T164922Z
DTSTART:20220118T201000Z
GEO:29.185169;-81.072722
LOCATION:Daytona International Speedway
ORGANIZER:mailto:support@xtremescoring.com
SEQUENCE:0
SUMMARY:ARL GT3 Trophy - Round 3 - Daytona - Race
UID:b22dba3e-e270-44db-a7c0-23b395dd9702-Race
END:VEVENT
BEGIN:VEVENT
DESCRIPTION:Apex Racing League \nARL GT3 Trophy \nRound 4 - Detroit \nPrac
 tice
DTEND:20220125T200000Z
DTSTAMP:20260425T164922Z
DTSTART:20220125T180000Z
GEO:42.335007;-83.001598
LOCATION:Detroit Grand Prix at Belle Isle
ORGANIZER:mailto:support@xtremescoring.com
SEQUENCE:0
SUMMARY:ARL GT3 Trophy - Round 4 - Detroit - Practice
UID:1f4a6374-bf14-4a0d-9b13-7d28174fbcf9-Practice
END:VEVENT
BEGIN:VEVENT
DESCRIPTION:Apex Racing League \nARL GT3 Trophy \nRound 4 - Detroit \nQual
 ify
DTEND:20220125T201000Z
DTSTAMP:20260425T164922Z
DTSTART:20220125T200000Z
GEO:42.335007;-83.001598
LOCATION:Detroit Grand Prix at Belle Isle
ORGANIZER:mailto:support@xtremescoring.com
SEQUENCE:0
SUMMARY:ARL GT3 Trophy - Round 4 - Detroit - Qualify
UID:1f4a6374-bf14-4a0d-9b13-7d28174fbcf9-Qualify
END:VEVENT
BEGIN:VEVENT
DESCRIPTION:Apex Racing League \nARL GT3 Trophy \nRound 4 - Detroit \nRace
DTEND:20220125T211000Z
DTSTAMP:20260425T164922Z
DTSTART:20220125T201000Z
GEO:42.335007;-83.001598
LOCATION:Detroit Grand Prix at Belle Isle
ORGANIZER:mailto:support@xtremescoring.com
SEQUENCE:0
SUMMARY:ARL GT3 Trophy - Round 4 - Detroit - Race
UID:1f4a6374-bf14-4a0d-9b13-7d28174fbcf9-Race
END:VEVENT
BEGIN:VEVENT
DESCRIPTION:Apex Racing League \nARL GT3 Trophy \nRound 5 - Spa \nPractice
DTEND:20220201T200000Z
DTSTAMP:20260425T164922Z
DTSTART:20220201T180000Z
GEO:50.436912;5.969856
LOCATION:Circuit de Spa-Francorchamps
ORGANIZER:mailto:support@xtremescoring.com
SEQUENCE:0
SUMMARY:ARL GT3 Trophy - Round 5 - Spa - Practice
UID:98f497e1-2744-4c91-b43c-7bb4715cb91e-Practice
END:VEVENT
BEGIN:VEVENT
DESCRIPTION:Apex Racing League \nARL GT3 Trophy \nRound 5 - Spa \nQualify
DTEND:20220201T201000Z
DTSTAMP:20260425T164922Z
DTSTART:20220201T200000Z
GEO:50.436912;5.969856
LOCATION:Circuit de Spa-Francorchamps
ORGANIZER:mailto:support@xtremescoring.com
SEQUENCE:0
SUMMARY:ARL GT3 Trophy - Round 5 - Spa - Qualify
UID:98f497e1-2744-4c91-b43c-7bb4715cb91e-Qualify
END:VEVENT
BEGIN:VEVENT
DESCRIPTION:Apex Racing League \nARL GT3 Trophy \nRound 5 - Spa \nRace
DTEND:20220201T211000Z
DTSTAMP:20260425T164922Z
DTSTART:20220201T201000Z
GEO:50.436912;5.969856
LOCATION:Circuit de Spa-Francorchamps
ORGANIZER:mailto:support@xtremescoring.com
SEQUENCE:0
SUMMARY:ARL GT3 Trophy - Round 5 - Spa - Race
UID:98f497e1-2744-4c91-b43c-7bb4715cb91e-Race
END:VEVENT
BEGIN:VEVENT
DESCRIPTION:Apex Racing League \nARL GT3 Trophy \nRound 6 - Bathurst \nPra
 ctice
DTEND:20220208T200000Z
DTSTAMP:20260425T164922Z
DTSTART:20220208T180000Z
GEO:-33.439419;149.555711
LOCATION:Mount Panorama Circuit
ORGANIZER:mailto:support@xtremescoring.com
SEQUENCE:0
SUMMARY:ARL GT3 Trophy - Round 6 - Bathurst - Practice
UID:5ebafbd7-3e13-45ad-973b-683f965d15f1-Practice
END:VEVENT
BEGIN:VEVENT
DESCRIPTION:Apex Racing League \nARL GT3 Trophy \nRound 6 - Bathurst \nQua
 lify
DTEND:20220208T201000Z
DTSTAMP:20260425T164922Z
DTSTART:20220208T200000Z
GEO:-33.439419;149.555711
LOCATION:Mount Panorama Circuit
ORGANIZER:mailto:support@xtremescoring.com
SEQUENCE:0
SUMMARY:ARL GT3 Trophy - Round 6 - Bathurst - Qualify
UID:5ebafbd7-3e13-45ad-973b-683f965d15f1-Qualify
END:VEVENT
BEGIN:VEVENT
DESCRIPTION:Apex Racing League \nARL GT3 Trophy \nRound 6 - Bathurst \nRace
DTEND:20220208T211000Z
DTSTAMP:20260425T164922Z
DTSTART:20220208T201000Z
GEO:-33.439419;149.555711
LOCATION:Mount Panorama Circuit
ORGANIZER:mailto:support@xtremescoring.com
SEQUENCE:0
SUMMARY:ARL GT3 Trophy - Round 6 - Bathurst - Race
UID:5ebafbd7-3e13-45ad-973b-683f965d15f1-Race
END:VEVENT
BEGIN:VEVENT
DESCRIPTION:Apex Racing League \nARL GT3 Trophy \nRound 7 - Watkins Glen \
 nPractice
DTEND:20220215T200000Z
DTSTAMP:20260425T164922Z
DTSTART:20220215T180000Z
GEO:42.338281;-76.928552
LOCATION:Watkins Glen International
ORGANIZER:mailto:support@xtremescoring.com
SEQUENCE:0
SUMMARY:ARL GT3 Trophy - Round 7 - Watkins Glen - Practice
UID:bda3d6f3-252a-47ce-8e2e-a3a7586d618a-Practice
END:VEVENT
BEGIN:VEVENT
DESCRIPTION:Apex Racing League \nARL GT3 Trophy \nRound 7 - Watkins Glen \
 nQualify
DTEND:20220215T201000Z
DTSTAMP:20260425T164922Z
DTSTART:20220215T200000Z
GEO:42.338281;-76.928552
LOCATION:Watkins Glen International
ORGANIZER:mailto:support@xtremescoring.com
SEQUENCE:0
SUMMARY:ARL GT3 Trophy - Round 7 - Watkins Glen - Qualify
UID:bda3d6f3-252a-47ce-8e2e-a3a7586d618a-Qualify
END:VEVENT
BEGIN:VEVENT
DESCRIPTION:Apex Racing League \nARL GT3 Trophy \nRound 7 - Watkins Glen \
 nRace
DTEND:20220215T211000Z
DTSTAMP:20260425T164922Z
DTSTART:20220215T201000Z
GEO:42.338281;-76.928552
LOCATION:Watkins Glen International
ORGANIZER:mailto:support@xtremescoring.com
SEQUENCE:0
SUMMARY:ARL GT3 Trophy - Round 7 - Watkins Glen - Race
UID:bda3d6f3-252a-47ce-8e2e-a3a7586d618a-Race
END:VEVENT
BEGIN:VEVENT
DESCRIPTION:Apex Racing League \nARL GT3 Trophy \nRound 8 - Sebring \nPrac
 tice
DTEND:20220222T200000Z
DTSTAMP:20260425T164922Z
DTSTART:20220222T180000Z
GEO:27.455013;-81.351874
LOCATION:Sebring International Raceway
ORGANIZER:mailto:support@xtremescoring.com
SEQUENCE:0
SUMMARY:ARL GT3 Trophy - Round 8 - Sebring - Practice
UID:c64d07f4-b58e-4589-bd27-c1b617095a40-Practice
END:VEVENT
BEGIN:VEVENT
DESCRIPTION:Apex Racing League \nARL GT3 Trophy \nRound 8 - Sebring \nQual
 ify
DTEND:20220222T201000Z
DTSTAMP:20260425T164922Z
DTSTART:20220222T200000Z
GEO:27.455013;-81.351874
LOCATION:Sebring International Raceway
ORGANIZER:mailto:support@xtremescoring.com
SEQUENCE:0
SUMMARY:ARL GT3 Trophy - Round 8 - Sebring - Qualify
UID:c64d07f4-b58e-4589-bd27-c1b617095a40-Qualify
END:VEVENT
BEGIN:VEVENT
DESCRIPTION:Apex Racing League \nARL GT3 Trophy \nRound 8 - Sebring \nRace
DTEND:20220222T211000Z
DTSTAMP:20260425T164922Z
DTSTART:20220222T201000Z
GEO:27.455013;-81.351874
LOCATION:Sebring International Raceway
ORGANIZER:mailto:support@xtremescoring.com
SEQUENCE:0
SUMMARY:ARL GT3 Trophy - Round 8 - Sebring - Race
UID:c64d07f4-b58e-4589-bd27-c1b617095a40-Race
END:VEVENT
BEGIN:VEVENT
DESCRIPTION:Apex Racing League \nARL GT3 Trophy \nRound 9 - Imola \nPracti
 ce
DTEND:20220301T200000Z
DTSTAMP:20260425T164922Z
DTSTART:20220301T180000Z
GEO:44.344358;11.717198
LOCATION:Autodromo Internazionale Enzo e Dino Ferrari
ORGANIZER:mailto:support@xtremescoring.com
SEQUENCE:0
SUMMARY:ARL GT3 Trophy - Round 9 - Imola - Practice
UID:196afe9f-89c9-448d-9b74-c7875dd4f045-Practice
END:VEVENT
BEGIN:VEVENT
DESCRIPTION:Apex Racing League \nARL GT3 Trophy \nRound 9 - Imola \nQualify
DTEND:20220301T201000Z
DTSTAMP:20260425T164922Z
DTSTART:20220301T200000Z
GEO:44.344358;11.717198
LOCATION:Autodromo Internazionale Enzo e Dino Ferrari
ORGANIZER:mailto:support@xtremescoring.com
SEQUENCE:0
SUMMARY:ARL GT3 Trophy - Round 9 - Imola - Qualify
UID:196afe9f-89c9-448d-9b74-c7875dd4f045-Qualify
END:VEVENT
BEGIN:VEVENT
DESCRIPTION:Apex Racing League \nARL GT3 Trophy \nRound 9 - Imola \nRace
DTEND:20220301T211000Z
DTSTAMP:20260425T164922Z
DTSTART:20220301T201000Z
GEO:44.344358;11.717198
LOCATION:Autodromo Internazionale Enzo e Dino Ferrari
ORGANIZER:mailto:support@xtremescoring.com
SEQUENCE:0
SUMMARY:ARL GT3 Trophy - Round 9 - Imola - Race
UID:196afe9f-89c9-448d-9b74-c7875dd4f045-Race
END:VEVENT
END:VCALENDAR
