BEGIN:VCALENDAR
METHOD:REQUEST
PRODID:-//github.com/rianjs/ical.net//NONSGML ical.net 4.0//EN
VERSION:2.0
BEGIN:VEVENT
DESCRIPTION:Apex Racing League \nARL GT3 Trophy \nRound 1 - Daytona \nPrac
 tice
DTEND:20250617T184000Z
DTSTAMP:20260422T180622Z
DTSTART:20250617T170000Z
GEO:29.185169;-81.072722
LOCATION:Daytona International Speedway
ORGANIZER:mailto:support@xtremescoring.com
SEQUENCE:0
SUMMARY:ARL GT3 Trophy - Round 1 - Daytona - Practice
UID:58b7f2aa-dd45-463d-8fea-8fe0f4792aa7-Practice
END:VEVENT
BEGIN:VEVENT
DESCRIPTION:Apex Racing League \nARL GT3 Trophy \nRound 1 - Daytona \nQual
 ify
DTEND:20250617T191000Z
DTSTAMP:20260422T180622Z
DTSTART:20250617T184000Z
GEO:29.185169;-81.072722
LOCATION:Daytona International Speedway
ORGANIZER:mailto:support@xtremescoring.com
SEQUENCE:0
SUMMARY:ARL GT3 Trophy - Round 1 - Daytona - Qualify
UID:58b7f2aa-dd45-463d-8fea-8fe0f4792aa7-Qualify
END:VEVENT
BEGIN:VEVENT
DESCRIPTION:Apex Racing League \nARL GT3 Trophy \nRound 1 - Daytona \nRace
DTEND:20250617T204000Z
DTSTAMP:20260422T180622Z
DTSTART:20250617T191000Z
GEO:29.185169;-81.072722
LOCATION:Daytona International Speedway
ORGANIZER:mailto:support@xtremescoring.com
SEQUENCE:0
SUMMARY:ARL GT3 Trophy - Round 1 - Daytona - Race
UID:58b7f2aa-dd45-463d-8fea-8fe0f4792aa7-Race
END:VEVENT
BEGIN:VEVENT
DESCRIPTION:Apex Racing League \nARL GT3 Trophy \nRound 2 - Watkins Glen \
 nPractice
DTEND:20250624T184000Z
DTSTAMP:20260422T180622Z
DTSTART:20250624T170000Z
GEO:42.338281;-76.928552
LOCATION:Watkins Glen International
ORGANIZER:mailto:support@xtremescoring.com
SEQUENCE:0
SUMMARY:ARL GT3 Trophy - Round 2 - Watkins Glen - Practice
UID:7ab500fd-5ffe-478b-aefd-cf57b0ac88c1-Practice
END:VEVENT
BEGIN:VEVENT
DESCRIPTION:Apex Racing League \nARL GT3 Trophy \nRound 2 - Watkins Glen \
 nQualify
DTEND:20250624T191000Z
DTSTAMP:20260422T180622Z
DTSTART:20250624T184000Z
GEO:42.338281;-76.928552
LOCATION:Watkins Glen International
ORGANIZER:mailto:support@xtremescoring.com
SEQUENCE:0
SUMMARY:ARL GT3 Trophy - Round 2 - Watkins Glen - Qualify
UID:7ab500fd-5ffe-478b-aefd-cf57b0ac88c1-Qualify
END:VEVENT
BEGIN:VEVENT
DESCRIPTION:Apex Racing League \nARL GT3 Trophy \nRound 2 - Watkins Glen \
 nRace
DTEND:20250624T205500Z
DTSTAMP:20260422T180622Z
DTSTART:20250624T191000Z
GEO:42.338281;-76.928552
LOCATION:Watkins Glen International
ORGANIZER:mailto:support@xtremescoring.com
SEQUENCE:0
SUMMARY:ARL GT3 Trophy - Round 2 - Watkins Glen - Race
UID:7ab500fd-5ffe-478b-aefd-cf57b0ac88c1-Race
END:VEVENT
BEGIN:VEVENT
DESCRIPTION:Apex Racing League \nARL GT3 Trophy \nRound 3 - Sonoma \nPract
 ice
DTEND:20250701T184000Z
DTSTAMP:20260422T180622Z
DTSTART:20250701T170000Z
GEO:38.161600;-122.454800
LOCATION:Sonoma Raceway
ORGANIZER:mailto:support@xtremescoring.com
SEQUENCE:0
SUMMARY:ARL GT3 Trophy - Round 3 - Sonoma - Practice
UID:2f0b66de-66b9-4d53-ad5e-08a83ee6a080-Practice
END:VEVENT
BEGIN:VEVENT
DESCRIPTION:Apex Racing League \nARL GT3 Trophy \nRound 3 - Sonoma \nQuali
 fy
DTEND:20250701T191000Z
DTSTAMP:20260422T180622Z
DTSTART:20250701T184000Z
GEO:38.161600;-122.454800
LOCATION:Sonoma Raceway
ORGANIZER:mailto:support@xtremescoring.com
SEQUENCE:0
SUMMARY:ARL GT3 Trophy - Round 3 - Sonoma - Qualify
UID:2f0b66de-66b9-4d53-ad5e-08a83ee6a080-Qualify
END:VEVENT
BEGIN:VEVENT
DESCRIPTION:Apex Racing League \nARL GT3 Trophy \nRound 3 - Sonoma \nRace
DTEND:20250701T200500Z
DTSTAMP:20260422T180622Z
DTSTART:20250701T191000Z
GEO:38.161600;-122.454800
LOCATION:Sonoma Raceway
ORGANIZER:mailto:support@xtremescoring.com
SEQUENCE:0
SUMMARY:ARL GT3 Trophy - Round 3 - Sonoma - Race
UID:2f0b66de-66b9-4d53-ad5e-08a83ee6a080-Race
END:VEVENT
BEGIN:VEVENT
DESCRIPTION:Apex Racing League \nARL GT3 Trophy \nRound 4 - Spa \nPractice
DTEND:20250708T184000Z
DTSTAMP:20260422T180622Z
DTSTART:20250708T170000Z
GEO:50.436912;5.969856
LOCATION:Circuit de Spa-Francorchamps
ORGANIZER:mailto:support@xtremescoring.com
SEQUENCE:0
SUMMARY:ARL GT3 Trophy - Round 4 - Spa - Practice
UID:3eeed91a-5b27-429e-baca-359b969a7ffb-Practice
END:VEVENT
BEGIN:VEVENT
DESCRIPTION:Apex Racing League \nARL GT3 Trophy \nRound 4 - Spa \nQualify
DTEND:20250708T191000Z
DTSTAMP:20260422T180622Z
DTSTART:20250708T184000Z
GEO:50.436912;5.969856
LOCATION:Circuit de Spa-Francorchamps
ORGANIZER:mailto:support@xtremescoring.com
SEQUENCE:0
SUMMARY:ARL GT3 Trophy - Round 4 - Spa - Qualify
UID:3eeed91a-5b27-429e-baca-359b969a7ffb-Qualify
END:VEVENT
BEGIN:VEVENT
DESCRIPTION:Apex Racing League \nARL GT3 Trophy \nRound 4 - Spa \nRace
DTEND:20250708T205500Z
DTSTAMP:20260422T180622Z
DTSTART:20250708T191000Z
GEO:50.436912;5.969856
LOCATION:Circuit de Spa-Francorchamps
ORGANIZER:mailto:support@xtremescoring.com
SEQUENCE:0
SUMMARY:ARL GT3 Trophy - Round 4 - Spa - Race
UID:3eeed91a-5b27-429e-baca-359b969a7ffb-Race
END:VEVENT
BEGIN:VEVENT
DESCRIPTION:Apex Racing League \nARL GT3 Trophy \nRound 5 - Mosport \nPrac
 tice
DTEND:20250715T184000Z
DTSTAMP:20260422T180622Z
DTSTART:20250715T170000Z
GEO:44.054188;-78.677559
LOCATION:Canadian Tire Motorsports Park
ORGANIZER:mailto:support@xtremescoring.com
SEQUENCE:0
SUMMARY:ARL GT3 Trophy - Round 5 - Mosport - Practice
UID:d5935752-3eef-4d92-b7ae-68103420b024-Practice
END:VEVENT
BEGIN:VEVENT
DESCRIPTION:Apex Racing League \nARL GT3 Trophy \nRound 5 - Mosport \nQual
 ify
DTEND:20250715T191000Z
DTSTAMP:20260422T180622Z
DTSTART:20250715T184000Z
GEO:44.054188;-78.677559
LOCATION:Canadian Tire Motorsports Park
ORGANIZER:mailto:support@xtremescoring.com
SEQUENCE:0
SUMMARY:ARL GT3 Trophy - Round 5 - Mosport - Qualify
UID:d5935752-3eef-4d92-b7ae-68103420b024-Qualify
END:VEVENT
BEGIN:VEVENT
DESCRIPTION:Apex Racing League \nARL GT3 Trophy \nRound 5 - Mosport \nRace
DTEND:20250715T204000Z
DTSTAMP:20260422T180622Z
DTSTART:20250715T191000Z
GEO:44.054188;-78.677559
LOCATION:Canadian Tire Motorsports Park
ORGANIZER:mailto:support@xtremescoring.com
SEQUENCE:0
SUMMARY:ARL GT3 Trophy - Round 5 - Mosport - Race
UID:d5935752-3eef-4d92-b7ae-68103420b024-Race
END:VEVENT
BEGIN:VEVENT
DESCRIPTION:Apex Racing League \nARL GT3 Trophy \nRound 6 - VIR \nPractice
DTEND:20250722T184000Z
DTSTAMP:20260422T180622Z
DTSTART:20250722T170000Z
GEO:36.560008;-79.204800
LOCATION:Virginia International Raceway
ORGANIZER:mailto:support@xtremescoring.com
SEQUENCE:0
SUMMARY:ARL GT3 Trophy - Round 6 - VIR - Practice
UID:e2d79ce7-b15c-4ced-9b58-d390c4360b51-Practice
END:VEVENT
BEGIN:VEVENT
DESCRIPTION:Apex Racing League \nARL GT3 Trophy \nRound 6 - VIR \nQualify
DTEND:20250722T191000Z
DTSTAMP:20260422T180622Z
DTSTART:20250722T184000Z
GEO:36.560008;-79.204800
LOCATION:Virginia International Raceway
ORGANIZER:mailto:support@xtremescoring.com
SEQUENCE:0
SUMMARY:ARL GT3 Trophy - Round 6 - VIR - Qualify
UID:e2d79ce7-b15c-4ced-9b58-d390c4360b51-Qualify
END:VEVENT
BEGIN:VEVENT
DESCRIPTION:Apex Racing League \nARL GT3 Trophy \nRound 6 - VIR \nRace
DTEND:20250722T204000Z
DTSTAMP:20260422T180622Z
DTSTART:20250722T191000Z
GEO:36.560008;-79.204800
LOCATION:Virginia International Raceway
ORGANIZER:mailto:support@xtremescoring.com
SEQUENCE:0
SUMMARY:ARL GT3 Trophy - Round 6 - VIR - Race
UID:e2d79ce7-b15c-4ced-9b58-d390c4360b51-Race
END:VEVENT
BEGIN:VEVENT
DESCRIPTION:Apex Racing League \nARL GT3 Trophy \nRound 7 - Road America \
 nPractice
DTEND:20250729T184000Z
DTSTAMP:20260422T180622Z
DTSTART:20250729T170000Z
GEO:43.797510;-87.992157
LOCATION:Road America
ORGANIZER:mailto:support@xtremescoring.com
SEQUENCE:0
SUMMARY:ARL GT3 Trophy - Round 7 - Road America - Practice
UID:f01ca3e1-6eff-433c-bc0b-fc3966abb8b0-Practice
END:VEVENT
BEGIN:VEVENT
DESCRIPTION:Apex Racing League \nARL GT3 Trophy \nRound 7 - Road America \
 nQualify
DTEND:20250729T191000Z
DTSTAMP:20260422T180622Z
DTSTART:20250729T184000Z
GEO:43.797510;-87.992157
LOCATION:Road America
ORGANIZER:mailto:support@xtremescoring.com
SEQUENCE:0
SUMMARY:ARL GT3 Trophy - Round 7 - Road America - Qualify
UID:f01ca3e1-6eff-433c-bc0b-fc3966abb8b0-Qualify
END:VEVENT
BEGIN:VEVENT
DESCRIPTION:Apex Racing League \nARL GT3 Trophy \nRound 7 - Road America \
 nRace
DTEND:20250729T200500Z
DTSTAMP:20260422T180622Z
DTSTART:20250729T191000Z
GEO:43.797510;-87.992157
LOCATION:Road America
ORGANIZER:mailto:support@xtremescoring.com
SEQUENCE:0
SUMMARY:ARL GT3 Trophy - Round 7 - Road America - Race
UID:f01ca3e1-6eff-433c-bc0b-fc3966abb8b0-Race
END:VEVENT
BEGIN:VEVENT
DESCRIPTION:Apex Racing League \nARL GT3 Trophy \nRound 8 - Magny-Cours \n
 Practice
DTEND:20250805T184000Z
DTSTAMP:20260422T180622Z
DTSTART:20250805T170000Z
GEO:46.863458;3.163344
LOCATION:Circuit de Nevers Magny-Cours
ORGANIZER:mailto:support@xtremescoring.com
SEQUENCE:0
SUMMARY:ARL GT3 Trophy - Round 8 - Magny-Cours - Practice
UID:2c2d66b8-2e30-498b-93ed-bccb546b5c79-Practice
END:VEVENT
BEGIN:VEVENT
DESCRIPTION:Apex Racing League \nARL GT3 Trophy \nRound 8 - Magny-Cours \n
 Qualify
DTEND:20250805T191000Z
DTSTAMP:20260422T180622Z
DTSTART:20250805T184000Z
GEO:46.863458;3.163344
LOCATION:Circuit de Nevers Magny-Cours
ORGANIZER:mailto:support@xtremescoring.com
SEQUENCE:0
SUMMARY:ARL GT3 Trophy - Round 8 - Magny-Cours - Qualify
UID:2c2d66b8-2e30-498b-93ed-bccb546b5c79-Qualify
END:VEVENT
BEGIN:VEVENT
DESCRIPTION:Apex Racing League \nARL GT3 Trophy \nRound 8 - Magny-Cours \n
 Race
DTEND:20250805T204000Z
DTSTAMP:20260422T180622Z
DTSTART:20250805T191000Z
GEO:46.863458;3.163344
LOCATION:Circuit de Nevers Magny-Cours
ORGANIZER:mailto:support@xtremescoring.com
SEQUENCE:0
SUMMARY:ARL GT3 Trophy - Round 8 - Magny-Cours - Race
UID:2c2d66b8-2e30-498b-93ed-bccb546b5c79-Race
END:VEVENT
BEGIN:VEVENT
DESCRIPTION:Apex Racing League \nARL GT3 Trophy \nRound 9 - Interlagos \nP
 ractice
DTEND:20250812T184000Z
DTSTAMP:20260422T180622Z
DTSTART:20250812T170000Z
GEO:-23.701185;-46.700148
LOCATION:Aut?dromo Jos? Carlos Pace
ORGANIZER:mailto:support@xtremescoring.com
SEQUENCE:0
SUMMARY:ARL GT3 Trophy - Round 9 - Interlagos - Practice
UID:9a26cb70-facc-4d7f-8784-4530bbaebd29-Practice
END:VEVENT
BEGIN:VEVENT
DESCRIPTION:Apex Racing League \nARL GT3 Trophy \nRound 9 - Interlagos \nQ
 ualify
DTEND:20250812T191000Z
DTSTAMP:20260422T180622Z
DTSTART:20250812T184000Z
GEO:-23.701185;-46.700148
LOCATION:Aut?dromo Jos? Carlos Pace
ORGANIZER:mailto:support@xtremescoring.com
SEQUENCE:0
SUMMARY:ARL GT3 Trophy - Round 9 - Interlagos - Qualify
UID:9a26cb70-facc-4d7f-8784-4530bbaebd29-Qualify
END:VEVENT
BEGIN:VEVENT
DESCRIPTION:Apex Racing League \nARL GT3 Trophy \nRound 9 - Interlagos \nR
 ace
DTEND:20250812T200500Z
DTSTAMP:20260422T180622Z
DTSTART:20250812T191000Z
GEO:-23.701185;-46.700148
LOCATION:Aut?dromo Jos? Carlos Pace
ORGANIZER:mailto:support@xtremescoring.com
SEQUENCE:0
SUMMARY:ARL GT3 Trophy - Round 9 - Interlagos - Race
UID:9a26cb70-facc-4d7f-8784-4530bbaebd29-Race
END:VEVENT
BEGIN:VEVENT
DESCRIPTION:Apex Racing League \nARL GT3 Trophy \nRound 10 - Road Atlanta 
 \nPractice
DTEND:20250819T184000Z
DTSTAMP:20260422T180622Z
DTSTART:20250819T170000Z
GEO:34.152190;-83.815110
LOCATION:Road Atlanta
ORGANIZER:mailto:support@xtremescoring.com
SEQUENCE:0
SUMMARY:ARL GT3 Trophy - Round 10 - Road Atlanta - Practice
UID:95455f88-6208-40dc-9112-306bc4bebcf9-Practice
END:VEVENT
BEGIN:VEVENT
DESCRIPTION:Apex Racing League \nARL GT3 Trophy \nRound 10 - Road Atlanta 
 \nQualify
DTEND:20250819T191000Z
DTSTAMP:20260422T180622Z
DTSTART:20250819T184000Z
GEO:34.152190;-83.815110
LOCATION:Road Atlanta
ORGANIZER:mailto:support@xtremescoring.com
SEQUENCE:0
SUMMARY:ARL GT3 Trophy - Round 10 - Road Atlanta - Qualify
UID:95455f88-6208-40dc-9112-306bc4bebcf9-Qualify
END:VEVENT
BEGIN:VEVENT
DESCRIPTION:Apex Racing League \nARL GT3 Trophy \nRound 10 - Road Atlanta 
 \nRace
DTEND:20250819T204000Z
DTSTAMP:20260422T180622Z
DTSTART:20250819T191000Z
GEO:34.152190;-83.815110
LOCATION:Road Atlanta
ORGANIZER:mailto:support@xtremescoring.com
SEQUENCE:0
SUMMARY:ARL GT3 Trophy - Round 10 - Road Atlanta - Race
UID:95455f88-6208-40dc-9112-306bc4bebcf9-Race
END:VEVENT
END:VCALENDAR
