BEGIN:VCALENDAR
METHOD:REQUEST
PRODID:-//github.com/rianjs/ical.net//NONSGML ical.net 4.0//EN
VERSION:2.0
BEGIN:VEVENT
DESCRIPTION:Apex Racing League \nARL Prototype Championship \nRound 1 - Wa
 tkins Glen \nPractice
DTEND:20211112T190000Z
DTSTAMP:20260425T165438Z
DTSTART:20211112T180000Z
GEO:42.338281;-76.928552
LOCATION:Watkins Glen International
ORGANIZER:mailto:support@xtremescoring.com
SEQUENCE:0
SUMMARY:ARL Prototype Championship - Round 1 - Watkins Glen - Practice
UID:01eb9d8f-5fc1-403f-a22e-09020bbf8671-Practice
END:VEVENT
BEGIN:VEVENT
DESCRIPTION:Apex Racing League \nARL Prototype Championship \nRound 1 - Wa
 tkins Glen \nQualify
DTEND:20211112T191000Z
DTSTAMP:20260425T165438Z
DTSTART:20211112T190000Z
GEO:42.338281;-76.928552
LOCATION:Watkins Glen International
ORGANIZER:mailto:support@xtremescoring.com
SEQUENCE:0
SUMMARY:ARL Prototype Championship - Round 1 - Watkins Glen - Qualify
UID:01eb9d8f-5fc1-403f-a22e-09020bbf8671-Qualify
END:VEVENT
BEGIN:VEVENT
DESCRIPTION:Apex Racing League \nARL Prototype Championship \nRound 1 - Wa
 tkins Glen \nRace
DTEND:20211112T201000Z
DTSTAMP:20260425T165438Z
DTSTART:20211112T191000Z
GEO:42.338281;-76.928552
LOCATION:Watkins Glen International
ORGANIZER:mailto:support@xtremescoring.com
SEQUENCE:0
SUMMARY:ARL Prototype Championship - Round 1 - Watkins Glen - Race
UID:01eb9d8f-5fc1-403f-a22e-09020bbf8671-Race
END:VEVENT
BEGIN:VEVENT
DESCRIPTION:Apex Racing League \nARL Prototype Championship \nRound 2 - Mo
 nza \nPractice
DTEND:20211119T200000Z
DTSTAMP:20260425T165438Z
DTSTART:20211119T180000Z
GEO:45.621799;9.282606
LOCATION:Autodromo Nazionale Monza
ORGANIZER:mailto:support@xtremescoring.com
SEQUENCE:0
SUMMARY:ARL Prototype Championship - Round 2 - Monza - Practice
UID:2ed79e89-fe04-4665-8a20-8be89cf28d5d-Practice
END:VEVENT
BEGIN:VEVENT
DESCRIPTION:Apex Racing League \nARL Prototype Championship \nRound 2 - Mo
 nza \nQualify
DTEND:20211119T201000Z
DTSTAMP:20260425T165438Z
DTSTART:20211119T200000Z
GEO:45.621799;9.282606
LOCATION:Autodromo Nazionale Monza
ORGANIZER:mailto:support@xtremescoring.com
SEQUENCE:0
SUMMARY:ARL Prototype Championship - Round 2 - Monza - Qualify
UID:2ed79e89-fe04-4665-8a20-8be89cf28d5d-Qualify
END:VEVENT
BEGIN:VEVENT
DESCRIPTION:Apex Racing League \nARL Prototype Championship \nRound 2 - Mo
 nza \nRace
DTEND:20211119T211000Z
DTSTAMP:20260425T165438Z
DTSTART:20211119T201000Z
GEO:45.621799;9.282606
LOCATION:Autodromo Nazionale Monza
ORGANIZER:mailto:support@xtremescoring.com
SEQUENCE:0
SUMMARY:ARL Prototype Championship - Round 2 - Monza - Race
UID:2ed79e89-fe04-4665-8a20-8be89cf28d5d-Race
END:VEVENT
BEGIN:VEVENT
DESCRIPTION:Apex Racing League \nARL Prototype Championship \nRound 3 - Ro
 ad America \nPractice
DTEND:20211126T200000Z
DTSTAMP:20260425T165438Z
DTSTART:20211126T180000Z
GEO:43.797510;-87.992157
LOCATION:Road America
ORGANIZER:mailto:support@xtremescoring.com
SEQUENCE:0
SUMMARY:ARL Prototype Championship - Round 3 - Road America - Practice
UID:01aca695-d43b-4cb8-a148-5fd683173dd7-Practice
END:VEVENT
BEGIN:VEVENT
DESCRIPTION:Apex Racing League \nARL Prototype Championship \nRound 3 - Ro
 ad America \nQualify
DTEND:20211126T201000Z
DTSTAMP:20260425T165438Z
DTSTART:20211126T200000Z
GEO:43.797510;-87.992157
LOCATION:Road America
ORGANIZER:mailto:support@xtremescoring.com
SEQUENCE:0
SUMMARY:ARL Prototype Championship - Round 3 - Road America - Qualify
UID:01aca695-d43b-4cb8-a148-5fd683173dd7-Qualify
END:VEVENT
BEGIN:VEVENT
DESCRIPTION:Apex Racing League \nARL Prototype Championship \nRound 3 - Ro
 ad America \nRace
DTEND:20211126T211000Z
DTSTAMP:20260425T165438Z
DTSTART:20211126T201000Z
GEO:43.797510;-87.992157
LOCATION:Road America
ORGANIZER:mailto:support@xtremescoring.com
SEQUENCE:0
SUMMARY:ARL Prototype Championship - Round 3 - Road America - Race
UID:01aca695-d43b-4cb8-a148-5fd683173dd7-Race
END:VEVENT
BEGIN:VEVENT
DESCRIPTION:Apex Racing League \nARL Prototype Championship \nRound 4 - Se
 bring \nPractice
DTEND:20211203T200000Z
DTSTAMP:20260425T165438Z
DTSTART:20211203T180000Z
GEO:27.455013;-81.351874
LOCATION:Sebring International Raceway
ORGANIZER:mailto:support@xtremescoring.com
SEQUENCE:0
SUMMARY:ARL Prototype Championship - Round 4 - Sebring - Practice
UID:f3343004-adf8-4510-8ac0-0b8b1744f7b2-Practice
END:VEVENT
BEGIN:VEVENT
DESCRIPTION:Apex Racing League \nARL Prototype Championship \nRound 4 - Se
 bring \nQualify
DTEND:20211203T201000Z
DTSTAMP:20260425T165438Z
DTSTART:20211203T200000Z
GEO:27.455013;-81.351874
LOCATION:Sebring International Raceway
ORGANIZER:mailto:support@xtremescoring.com
SEQUENCE:0
SUMMARY:ARL Prototype Championship - Round 4 - Sebring - Qualify
UID:f3343004-adf8-4510-8ac0-0b8b1744f7b2-Qualify
END:VEVENT
BEGIN:VEVENT
DESCRIPTION:Apex Racing League \nARL Prototype Championship \nRound 4 - Se
 bring \nRace
DTEND:20211203T211000Z
DTSTAMP:20260425T165438Z
DTSTART:20211203T201000Z
GEO:27.455013;-81.351874
LOCATION:Sebring International Raceway
ORGANIZER:mailto:support@xtremescoring.com
SEQUENCE:0
SUMMARY:ARL Prototype Championship - Round 4 - Sebring - Race
UID:f3343004-adf8-4510-8ac0-0b8b1744f7b2-Race
END:VEVENT
BEGIN:VEVENT
DESCRIPTION:Apex Racing League \nARL Prototype Championship \nRound 5 - Ho
 ckenheim \nPractice
DTEND:20211210T200000Z
DTSTAMP:20260425T165438Z
DTSTART:20211210T180000Z
GEO:49.330028;8.570892
LOCATION:Hockenheimring Baden-W?rttemberg
ORGANIZER:mailto:support@xtremescoring.com
SEQUENCE:0
SUMMARY:ARL Prototype Championship - Round 5 - Hockenheim - Practice
UID:1069655d-0fa8-4f97-9fbe-e6ee564ee2cc-Practice
END:VEVENT
BEGIN:VEVENT
DESCRIPTION:Apex Racing League \nARL Prototype Championship \nRound 5 - Ho
 ckenheim \nQualify
DTEND:20211210T201000Z
DTSTAMP:20260425T165438Z
DTSTART:20211210T200000Z
GEO:49.330028;8.570892
LOCATION:Hockenheimring Baden-W?rttemberg
ORGANIZER:mailto:support@xtremescoring.com
SEQUENCE:0
SUMMARY:ARL Prototype Championship - Round 5 - Hockenheim - Qualify
UID:1069655d-0fa8-4f97-9fbe-e6ee564ee2cc-Qualify
END:VEVENT
BEGIN:VEVENT
DESCRIPTION:Apex Racing League \nARL Prototype Championship \nRound 5 - Ho
 ckenheim \nRace
DTEND:20211210T211000Z
DTSTAMP:20260425T165438Z
DTSTART:20211210T201000Z
GEO:49.330028;8.570892
LOCATION:Hockenheimring Baden-W?rttemberg
ORGANIZER:mailto:support@xtremescoring.com
SEQUENCE:0
SUMMARY:ARL Prototype Championship - Round 5 - Hockenheim - Race
UID:1069655d-0fa8-4f97-9fbe-e6ee564ee2cc-Race
END:VEVENT
BEGIN:VEVENT
DESCRIPTION:Apex Racing League \nARL Prototype Championship \nRound 6 - Sp
 a \nPractice
DTEND:20211217T200000Z
DTSTAMP:20260425T165438Z
DTSTART:20211217T180000Z
GEO:50.436912;5.969856
LOCATION:Circuit de Spa-Francorchamps
ORGANIZER:mailto:support@xtremescoring.com
SEQUENCE:0
SUMMARY:ARL Prototype Championship - Round 6 - Spa - Practice
UID:ad248ea3-0b55-4468-881a-da29b0a4a0b1-Practice
END:VEVENT
BEGIN:VEVENT
DESCRIPTION:Apex Racing League \nARL Prototype Championship \nRound 6 - Sp
 a \nQualify
DTEND:20211217T201000Z
DTSTAMP:20260425T165438Z
DTSTART:20211217T200000Z
GEO:50.436912;5.969856
LOCATION:Circuit de Spa-Francorchamps
ORGANIZER:mailto:support@xtremescoring.com
SEQUENCE:0
SUMMARY:ARL Prototype Championship - Round 6 - Spa - Qualify
UID:ad248ea3-0b55-4468-881a-da29b0a4a0b1-Qualify
END:VEVENT
BEGIN:VEVENT
DESCRIPTION:Apex Racing League \nARL Prototype Championship \nRound 6 - Sp
 a \nRace
DTEND:20211217T211000Z
DTSTAMP:20260425T165438Z
DTSTART:20211217T201000Z
GEO:50.436912;5.969856
LOCATION:Circuit de Spa-Francorchamps
ORGANIZER:mailto:support@xtremescoring.com
SEQUENCE:0
SUMMARY:ARL Prototype Championship - Round 6 - Spa - Race
UID:ad248ea3-0b55-4468-881a-da29b0a4a0b1-Race
END:VEVENT
BEGIN:VEVENT
DESCRIPTION:Apex Racing League \nARL Prototype Championship \nRound 7 - Da
 ytona \nPractice
DTEND:20220107T200000Z
DTSTAMP:20260425T165438Z
DTSTART:20220107T180000Z
GEO:29.185169;-81.072722
LOCATION:Daytona International Speedway
ORGANIZER:mailto:support@xtremescoring.com
SEQUENCE:0
SUMMARY:ARL Prototype Championship - Round 7 - Daytona - Practice
UID:72bfdad3-7e71-4119-ab78-05da8e4ea4f1-Practice
END:VEVENT
BEGIN:VEVENT
DESCRIPTION:Apex Racing League \nARL Prototype Championship \nRound 7 - Da
 ytona \nQualify
DTEND:20220107T201000Z
DTSTAMP:20260425T165438Z
DTSTART:20220107T200000Z
GEO:29.185169;-81.072722
LOCATION:Daytona International Speedway
ORGANIZER:mailto:support@xtremescoring.com
SEQUENCE:0
SUMMARY:ARL Prototype Championship - Round 7 - Daytona - Qualify
UID:72bfdad3-7e71-4119-ab78-05da8e4ea4f1-Qualify
END:VEVENT
BEGIN:VEVENT
DESCRIPTION:Apex Racing League \nARL Prototype Championship \nRound 7 - Da
 ytona \nRace
DTEND:20220107T211000Z
DTSTAMP:20260425T165438Z
DTSTART:20220107T201000Z
GEO:29.185169;-81.072722
LOCATION:Daytona International Speedway
ORGANIZER:mailto:support@xtremescoring.com
SEQUENCE:0
SUMMARY:ARL Prototype Championship - Round 7 - Daytona - Race
UID:72bfdad3-7e71-4119-ab78-05da8e4ea4f1-Race
END:VEVENT
BEGIN:VEVENT
DESCRIPTION:Apex Racing League \nARL Prototype Championship \nRound 8 - Re
 d Bull Ring \nPractice
DTEND:20220114T200000Z
DTSTAMP:20260425T165438Z
DTSTART:20220114T180000Z
GEO:47.220342;14.765486
LOCATION:Red Bull Ring
ORGANIZER:mailto:support@xtremescoring.com
SEQUENCE:0
SUMMARY:ARL Prototype Championship - Round 8 - Red Bull Ring - Practice
UID:cc9339a0-4d7e-4053-94a3-0eb6de3cf689-Practice
END:VEVENT
BEGIN:VEVENT
DESCRIPTION:Apex Racing League \nARL Prototype Championship \nRound 8 - Re
 d Bull Ring \nQualify
DTEND:20220114T201000Z
DTSTAMP:20260425T165438Z
DTSTART:20220114T200000Z
GEO:47.220342;14.765486
LOCATION:Red Bull Ring
ORGANIZER:mailto:support@xtremescoring.com
SEQUENCE:0
SUMMARY:ARL Prototype Championship - Round 8 - Red Bull Ring - Qualify
UID:cc9339a0-4d7e-4053-94a3-0eb6de3cf689-Qualify
END:VEVENT
BEGIN:VEVENT
DESCRIPTION:Apex Racing League \nARL Prototype Championship \nRound 8 - Re
 d Bull Ring \nRace
DTEND:20220114T211000Z
DTSTAMP:20260425T165438Z
DTSTART:20220114T201000Z
GEO:47.220342;14.765486
LOCATION:Red Bull Ring
ORGANIZER:mailto:support@xtremescoring.com
SEQUENCE:0
SUMMARY:ARL Prototype Championship - Round 8 - Red Bull Ring - Race
UID:cc9339a0-4d7e-4053-94a3-0eb6de3cf689-Race
END:VEVENT
BEGIN:VEVENT
DESCRIPTION:Apex Racing League \nARL Prototype Championship \nRound 9 - Le
  Mans \nPractice
DTEND:20220121T200000Z
DTSTAMP:20260425T165438Z
DTSTART:20220121T180000Z
GEO:47.956005;0.205676
LOCATION:Circuit des 24 Heures du Mans
ORGANIZER:mailto:support@xtremescoring.com
SEQUENCE:0
SUMMARY:ARL Prototype Championship - Round 9 - Le Mans - Practice
UID:a7361f44-e8ec-4dc8-890c-fce9933e2e9a-Practice
END:VEVENT
BEGIN:VEVENT
DESCRIPTION:Apex Racing League \nARL Prototype Championship \nRound 9 - Le
  Mans \nQualify
DTEND:20220121T201000Z
DTSTAMP:20260425T165438Z
DTSTART:20220121T200000Z
GEO:47.956005;0.205676
LOCATION:Circuit des 24 Heures du Mans
ORGANIZER:mailto:support@xtremescoring.com
SEQUENCE:0
SUMMARY:ARL Prototype Championship - Round 9 - Le Mans - Qualify
UID:a7361f44-e8ec-4dc8-890c-fce9933e2e9a-Qualify
END:VEVENT
BEGIN:VEVENT
DESCRIPTION:Apex Racing League \nARL Prototype Championship \nRound 9 - Le
  Mans \nRace
DTEND:20220121T211000Z
DTSTAMP:20260425T165438Z
DTSTART:20220121T201000Z
GEO:47.956005;0.205676
LOCATION:Circuit des 24 Heures du Mans
ORGANIZER:mailto:support@xtremescoring.com
SEQUENCE:0
SUMMARY:ARL Prototype Championship - Round 9 - Le Mans - Race
UID:a7361f44-e8ec-4dc8-890c-fce9933e2e9a-Race
END:VEVENT
END:VCALENDAR
