BEGIN:VCALENDAR
METHOD:REQUEST
PRODID:-//github.com/rianjs/ical.net//NONSGML ical.net 4.0//EN
VERSION:2.0
BEGIN:VEVENT
DESCRIPTION:Apex Racing League \nThe League by Foxxtecca (Pro) \nRound 1 -
  Spa \nPractice
DTEND:20260114T203000Z
DTSTAMP:20260426T010813Z
DTSTART:20260114T193000Z
GEO:50.436912;5.969856
LOCATION:Circuit de Spa-Francorchamps
ORGANIZER:mailto:support@xtremescoring.com
SEQUENCE:0
SUMMARY:The League by Foxxtecca (Pro) - Round 1 - Spa - Practice
UID:cf06ad31-190d-41d9-84db-62fcff10e942-Practice
END:VEVENT
BEGIN:VEVENT
DESCRIPTION:Apex Racing League \nThe League by Foxxtecca (Pro) \nRound 1 -
  Spa \nQualify
DTEND:20260114T204000Z
DTSTAMP:20260426T010813Z
DTSTART:20260114T203000Z
GEO:50.436912;5.969856
LOCATION:Circuit de Spa-Francorchamps
ORGANIZER:mailto:support@xtremescoring.com
SEQUENCE:0
SUMMARY:The League by Foxxtecca (Pro) - Round 1 - Spa - Qualify
UID:cf06ad31-190d-41d9-84db-62fcff10e942-Qualify
END:VEVENT
BEGIN:VEVENT
DESCRIPTION:Apex Racing League \nThe League by Foxxtecca (Pro) \nRound 1 -
  Spa \nRace
DTEND:20260114T214000Z
DTSTAMP:20260426T010813Z
DTSTART:20260114T204000Z
GEO:50.436912;5.969856
LOCATION:Circuit de Spa-Francorchamps
ORGANIZER:mailto:support@xtremescoring.com
SEQUENCE:0
SUMMARY:The League by Foxxtecca (Pro) - Round 1 - Spa - Race
UID:cf06ad31-190d-41d9-84db-62fcff10e942-Race
END:VEVENT
BEGIN:VEVENT
DESCRIPTION:Apex Racing League \nThe League by Foxxtecca (Pro) \nRound 2 -
  Daytona \nPractice
DTEND:20260121T203000Z
DTSTAMP:20260426T010813Z
DTSTART:20260121T193000Z
GEO:29.185169;-81.072722
LOCATION:Daytona International Speedway
ORGANIZER:mailto:support@xtremescoring.com
SEQUENCE:0
SUMMARY:The League by Foxxtecca (Pro) - Round 2 - Daytona - Practice
UID:e82b95af-a3f8-4b16-858c-6dc8eda80eb6-Practice
END:VEVENT
BEGIN:VEVENT
DESCRIPTION:Apex Racing League \nThe League by Foxxtecca (Pro) \nRound 2 -
  Daytona \nQualify
DTEND:20260121T204000Z
DTSTAMP:20260426T010813Z
DTSTART:20260121T203000Z
GEO:29.185169;-81.072722
LOCATION:Daytona International Speedway
ORGANIZER:mailto:support@xtremescoring.com
SEQUENCE:0
SUMMARY:The League by Foxxtecca (Pro) - Round 2 - Daytona - Qualify
UID:e82b95af-a3f8-4b16-858c-6dc8eda80eb6-Qualify
END:VEVENT
BEGIN:VEVENT
DESCRIPTION:Apex Racing League \nThe League by Foxxtecca (Pro) \nRound 2 -
  Daytona \nRace
DTEND:20260121T214000Z
DTSTAMP:20260426T010813Z
DTSTART:20260121T204000Z
GEO:29.185169;-81.072722
LOCATION:Daytona International Speedway
ORGANIZER:mailto:support@xtremescoring.com
SEQUENCE:0
SUMMARY:The League by Foxxtecca (Pro) - Round 2 - Daytona - Race
UID:e82b95af-a3f8-4b16-858c-6dc8eda80eb6-Race
END:VEVENT
BEGIN:VEVENT
DESCRIPTION:Apex Racing League \nThe League by Foxxtecca (Pro) \nRound 3 -
  Silverstone \nPractice
DTEND:20260128T203000Z
DTSTAMP:20260426T010813Z
DTSTART:20260128T193000Z
GEO:52.073301;-1.016858
LOCATION:Silverstone Circuit
ORGANIZER:mailto:support@xtremescoring.com
SEQUENCE:0
SUMMARY:The League by Foxxtecca (Pro) - Round 3 - Silverstone - Practice
UID:f23391b3-6d79-4553-92ae-099fcb9041d5-Practice
END:VEVENT
BEGIN:VEVENT
DESCRIPTION:Apex Racing League \nThe League by Foxxtecca (Pro) \nRound 3 -
  Silverstone \nQualify
DTEND:20260128T204000Z
DTSTAMP:20260426T010813Z
DTSTART:20260128T203000Z
GEO:52.073301;-1.016858
LOCATION:Silverstone Circuit
ORGANIZER:mailto:support@xtremescoring.com
SEQUENCE:0
SUMMARY:The League by Foxxtecca (Pro) - Round 3 - Silverstone - Qualify
UID:f23391b3-6d79-4553-92ae-099fcb9041d5-Qualify
END:VEVENT
BEGIN:VEVENT
DESCRIPTION:Apex Racing League \nThe League by Foxxtecca (Pro) \nRound 3 -
  Silverstone \nRace
DTEND:20260128T213500Z
DTSTAMP:20260426T010813Z
DTSTART:20260128T204000Z
GEO:52.073301;-1.016858
LOCATION:Silverstone Circuit
ORGANIZER:mailto:support@xtremescoring.com
SEQUENCE:0
SUMMARY:The League by Foxxtecca (Pro) - Round 3 - Silverstone - Race
UID:f23391b3-6d79-4553-92ae-099fcb9041d5-Race
END:VEVENT
BEGIN:VEVENT
DESCRIPTION:Apex Racing League \nThe League by Foxxtecca (Pro) \nRound 4 -
  Suzuka \nPractice
DTEND:20260204T203000Z
DTSTAMP:20260426T010813Z
DTSTART:20260204T193000Z
GEO:34.845594;136.536758
LOCATION:Suzuka International Racing Course
ORGANIZER:mailto:support@xtremescoring.com
SEQUENCE:0
SUMMARY:The League by Foxxtecca (Pro) - Round 4 - Suzuka - Practice
UID:08b6434b-1378-4475-aa3b-24bab7f72f35-Practice
END:VEVENT
BEGIN:VEVENT
DESCRIPTION:Apex Racing League \nThe League by Foxxtecca (Pro) \nRound 4 -
  Suzuka \nQualify
DTEND:20260204T204000Z
DTSTAMP:20260426T010813Z
DTSTART:20260204T203000Z
GEO:34.845594;136.536758
LOCATION:Suzuka International Racing Course
ORGANIZER:mailto:support@xtremescoring.com
SEQUENCE:0
SUMMARY:The League by Foxxtecca (Pro) - Round 4 - Suzuka - Qualify
UID:08b6434b-1378-4475-aa3b-24bab7f72f35-Qualify
END:VEVENT
BEGIN:VEVENT
DESCRIPTION:Apex Racing League \nThe League by Foxxtecca (Pro) \nRound 4 -
  Suzuka \nRace
DTEND:20260204T214000Z
DTSTAMP:20260426T010813Z
DTSTART:20260204T204000Z
GEO:34.845594;136.536758
LOCATION:Suzuka International Racing Course
ORGANIZER:mailto:support@xtremescoring.com
SEQUENCE:0
SUMMARY:The League by Foxxtecca (Pro) - Round 4 - Suzuka - Race
UID:08b6434b-1378-4475-aa3b-24bab7f72f35-Race
END:VEVENT
BEGIN:VEVENT
DESCRIPTION:Apex Racing League \nThe League by Foxxtecca (Pro) \nRound 5 -
  Barcelona \nPractice
DTEND:20260211T203000Z
DTSTAMP:20260426T010813Z
DTSTART:20260211T193000Z
GEO:41.568749;2.257138
LOCATION:Circuit de Barcelona Catalunya
ORGANIZER:mailto:support@xtremescoring.com
SEQUENCE:0
SUMMARY:The League by Foxxtecca (Pro) - Round 5 - Barcelona - Practice
UID:0fc893a6-6c54-451e-8b31-27c94843083b-Practice
END:VEVENT
BEGIN:VEVENT
DESCRIPTION:Apex Racing League \nThe League by Foxxtecca (Pro) \nRound 5 -
  Barcelona \nQualify
DTEND:20260211T204000Z
DTSTAMP:20260426T010813Z
DTSTART:20260211T203000Z
GEO:41.568749;2.257138
LOCATION:Circuit de Barcelona Catalunya
ORGANIZER:mailto:support@xtremescoring.com
SEQUENCE:0
SUMMARY:The League by Foxxtecca (Pro) - Round 5 - Barcelona - Qualify
UID:0fc893a6-6c54-451e-8b31-27c94843083b-Qualify
END:VEVENT
BEGIN:VEVENT
DESCRIPTION:Apex Racing League \nThe League by Foxxtecca (Pro) \nRound 5 -
  Barcelona \nRace
DTEND:20260211T213500Z
DTSTAMP:20260426T010813Z
DTSTART:20260211T204000Z
GEO:41.568749;2.257138
LOCATION:Circuit de Barcelona Catalunya
ORGANIZER:mailto:support@xtremescoring.com
SEQUENCE:0
SUMMARY:The League by Foxxtecca (Pro) - Round 5 - Barcelona - Race
UID:0fc893a6-6c54-451e-8b31-27c94843083b-Race
END:VEVENT
BEGIN:VEVENT
DESCRIPTION:Apex Racing League \nThe League by Foxxtecca (Pro) \nRound 6 -
  Donington \nPractice
DTEND:20260218T203000Z
DTSTAMP:20260426T010813Z
DTSTART:20260218T193000Z
GEO:52.830547;-1.381034
LOCATION:Donington Park Racing Circuit
ORGANIZER:mailto:support@xtremescoring.com
SEQUENCE:0
SUMMARY:The League by Foxxtecca (Pro) - Round 6 - Donington - Practice
UID:d4f13d57-4a9c-478d-b307-72043e451ba6-Practice
END:VEVENT
BEGIN:VEVENT
DESCRIPTION:Apex Racing League \nThe League by Foxxtecca (Pro) \nRound 6 -
  Donington \nQualify
DTEND:20260218T204000Z
DTSTAMP:20260426T010813Z
DTSTART:20260218T203000Z
GEO:52.830547;-1.381034
LOCATION:Donington Park Racing Circuit
ORGANIZER:mailto:support@xtremescoring.com
SEQUENCE:0
SUMMARY:The League by Foxxtecca (Pro) - Round 6 - Donington - Qualify
UID:d4f13d57-4a9c-478d-b307-72043e451ba6-Qualify
END:VEVENT
BEGIN:VEVENT
DESCRIPTION:Apex Racing League \nThe League by Foxxtecca (Pro) \nRound 6 -
  Donington \nRace
DTEND:20260218T214000Z
DTSTAMP:20260426T010813Z
DTSTART:20260218T204000Z
GEO:52.830547;-1.381034
LOCATION:Donington Park Racing Circuit
ORGANIZER:mailto:support@xtremescoring.com
SEQUENCE:0
SUMMARY:The League by Foxxtecca (Pro) - Round 6 - Donington - Race
UID:d4f13d57-4a9c-478d-b307-72043e451ba6-Race
END:VEVENT
BEGIN:VEVENT
DESCRIPTION:Apex Racing League \nThe League by Foxxtecca (Pro) \nRound 7 -
  Imola \nPractice
DTEND:20260225T203000Z
DTSTAMP:20260426T010813Z
DTSTART:20260225T193000Z
GEO:44.344358;11.717198
LOCATION:Autodromo Internazionale Enzo e Dino Ferrari
ORGANIZER:mailto:support@xtremescoring.com
SEQUENCE:0
SUMMARY:The League by Foxxtecca (Pro) - Round 7 - Imola - Practice
UID:5d596f63-eec6-47ee-8fa7-97a427cbb6d1-Practice
END:VEVENT
BEGIN:VEVENT
DESCRIPTION:Apex Racing League \nThe League by Foxxtecca (Pro) \nRound 7 -
  Imola \nQualify
DTEND:20260225T204000Z
DTSTAMP:20260426T010813Z
DTSTART:20260225T203000Z
GEO:44.344358;11.717198
LOCATION:Autodromo Internazionale Enzo e Dino Ferrari
ORGANIZER:mailto:support@xtremescoring.com
SEQUENCE:0
SUMMARY:The League by Foxxtecca (Pro) - Round 7 - Imola - Qualify
UID:5d596f63-eec6-47ee-8fa7-97a427cbb6d1-Qualify
END:VEVENT
BEGIN:VEVENT
DESCRIPTION:Apex Racing League \nThe League by Foxxtecca (Pro) \nRound 7 -
  Imola \nRace
DTEND:20260225T213500Z
DTSTAMP:20260426T010813Z
DTSTART:20260225T204000Z
GEO:44.344358;11.717198
LOCATION:Autodromo Internazionale Enzo e Dino Ferrari
ORGANIZER:mailto:support@xtremescoring.com
SEQUENCE:0
SUMMARY:The League by Foxxtecca (Pro) - Round 7 - Imola - Race
UID:5d596f63-eec6-47ee-8fa7-97a427cbb6d1-Race
END:VEVENT
BEGIN:VEVENT
DESCRIPTION:Apex Racing League \nThe League by Foxxtecca (Pro) \nRound 8 -
  Laguna Seca \nPractice
DTEND:20260304T203000Z
DTSTAMP:20260426T010813Z
DTSTART:20260304T193000Z
GEO:36.584290;-121.755658
LOCATION:WeatherTech Raceway at Laguna Seca
ORGANIZER:mailto:support@xtremescoring.com
SEQUENCE:0
SUMMARY:The League by Foxxtecca (Pro) - Round 8 - Laguna Seca - Practice
UID:82564c8b-8360-461e-87df-5b1e97c361ce-Practice
END:VEVENT
BEGIN:VEVENT
DESCRIPTION:Apex Racing League \nThe League by Foxxtecca (Pro) \nRound 8 -
  Laguna Seca \nQualify
DTEND:20260304T204000Z
DTSTAMP:20260426T010813Z
DTSTART:20260304T203000Z
GEO:36.584290;-121.755658
LOCATION:WeatherTech Raceway at Laguna Seca
ORGANIZER:mailto:support@xtremescoring.com
SEQUENCE:0
SUMMARY:The League by Foxxtecca (Pro) - Round 8 - Laguna Seca - Qualify
UID:82564c8b-8360-461e-87df-5b1e97c361ce-Qualify
END:VEVENT
BEGIN:VEVENT
DESCRIPTION:Apex Racing League \nThe League by Foxxtecca (Pro) \nRound 8 -
  Laguna Seca \nRace
DTEND:20260304T214000Z
DTSTAMP:20260426T010813Z
DTSTART:20260304T204000Z
GEO:36.584290;-121.755658
LOCATION:WeatherTech Raceway at Laguna Seca
ORGANIZER:mailto:support@xtremescoring.com
SEQUENCE:0
SUMMARY:The League by Foxxtecca (Pro) - Round 8 - Laguna Seca - Race
UID:82564c8b-8360-461e-87df-5b1e97c361ce-Race
END:VEVENT
END:VCALENDAR
