BEGIN:VCALENDAR
METHOD:REQUEST
PRODID:-//github.com/rianjs/ical.net//NONSGML ical.net 4.0//EN
VERSION:2.0
BEGIN:VEVENT
DESCRIPTION:Apex Racing League \nARL Truck Series \nRound 1 - Michigan \nP
 ractice
DTEND:20250901T190500Z
DTSTAMP:20260425T184359Z
DTSTART:20250901T170000Z
GEO:42.067884;-84.247056
LOCATION:Michigan International Speedway
ORGANIZER:mailto:support@xtremescoring.com
SEQUENCE:0
SUMMARY:ARL Truck Series - Round 1 - Michigan - Practice
UID:9802e993-ba7e-4ff8-9b3c-293410b84ea3-Practice
END:VEVENT
BEGIN:VEVENT
DESCRIPTION:Apex Racing League \nARL Truck Series \nRound 1 - Michigan \nQ
 ualify
DTEND:20250901T191000Z
DTSTAMP:20260425T184359Z
DTSTART:20250901T190500Z
GEO:42.067884;-84.247056
LOCATION:Michigan International Speedway
ORGANIZER:mailto:support@xtremescoring.com
SEQUENCE:0
SUMMARY:ARL Truck Series - Round 1 - Michigan - Qualify
UID:9802e993-ba7e-4ff8-9b3c-293410b84ea3-Qualify
END:VEVENT
BEGIN:VEVENT
DESCRIPTION:Apex Racing League \nARL Truck Series \nRound 1 - Michigan \nR
 ace
DTEND:20250901T222500Z
DTSTAMP:20260425T184359Z
DTSTART:20250901T191000Z
GEO:42.067884;-84.247056
LOCATION:Michigan International Speedway
ORGANIZER:mailto:support@xtremescoring.com
SEQUENCE:0
SUMMARY:ARL Truck Series - Round 1 - Michigan - Race
UID:9802e993-ba7e-4ff8-9b3c-293410b84ea3-Race
END:VEVENT
BEGIN:VEVENT
DESCRIPTION:Apex Racing League \nARL Truck Series \nRound 2 - Charlotte \n
 Practice
DTEND:20250908T190500Z
DTSTAMP:20260425T184359Z
DTSTART:20250908T170000Z
GEO:35.351164;-80.691266
LOCATION:[Retired] Charlotte Motor Speedway
ORGANIZER:mailto:support@xtremescoring.com
SEQUENCE:0
SUMMARY:ARL Truck Series - Round 2 - Charlotte - Practice
UID:832794f2-c934-411f-8f1e-d4d735b4acd2-Practice
END:VEVENT
BEGIN:VEVENT
DESCRIPTION:Apex Racing League \nARL Truck Series \nRound 2 - Charlotte \n
 Qualify
DTEND:20250908T191000Z
DTSTAMP:20260425T184359Z
DTSTART:20250908T190500Z
GEO:35.351164;-80.691266
LOCATION:[Retired] Charlotte Motor Speedway
ORGANIZER:mailto:support@xtremescoring.com
SEQUENCE:0
SUMMARY:ARL Truck Series - Round 2 - Charlotte - Qualify
UID:832794f2-c934-411f-8f1e-d4d735b4acd2-Qualify
END:VEVENT
BEGIN:VEVENT
DESCRIPTION:Apex Racing League \nARL Truck Series \nRound 2 - Charlotte \n
 Race
DTEND:20250908T231000Z
DTSTAMP:20260425T184359Z
DTSTART:20250908T191000Z
GEO:35.351164;-80.691266
LOCATION:[Retired] Charlotte Motor Speedway
ORGANIZER:mailto:support@xtremescoring.com
SEQUENCE:0
SUMMARY:ARL Truck Series - Round 2 - Charlotte - Race
UID:832794f2-c934-411f-8f1e-d4d735b4acd2-Race
END:VEVENT
BEGIN:VEVENT
DESCRIPTION:Apex Racing League \nARL Truck Series \nRound 3 - Watkins Glen
  \nPractice
DTEND:20250922T190500Z
DTSTAMP:20260425T184359Z
DTSTART:20250922T170000Z
GEO:42.338281;-76.928552
LOCATION:Watkins Glen International
ORGANIZER:mailto:support@xtremescoring.com
SEQUENCE:0
SUMMARY:ARL Truck Series - Round 3 - Watkins Glen - Practice
UID:c4f56c76-ee00-4480-a7da-43360ea17ed5-Practice
END:VEVENT
BEGIN:VEVENT
DESCRIPTION:Apex Racing League \nARL Truck Series \nRound 3 - Watkins Glen
  \nQualify
DTEND:20250922T191000Z
DTSTAMP:20260425T184359Z
DTSTART:20250922T190500Z
GEO:42.338281;-76.928552
LOCATION:Watkins Glen International
ORGANIZER:mailto:support@xtremescoring.com
SEQUENCE:0
SUMMARY:ARL Truck Series - Round 3 - Watkins Glen - Qualify
UID:c4f56c76-ee00-4480-a7da-43360ea17ed5-Qualify
END:VEVENT
BEGIN:VEVENT
DESCRIPTION:Apex Racing League \nARL Truck Series \nRound 3 - Watkins Glen
  \nRace
DTEND:20250922T213400Z
DTSTAMP:20260425T184359Z
DTSTART:20250922T191000Z
GEO:42.338281;-76.928552
LOCATION:Watkins Glen International
ORGANIZER:mailto:support@xtremescoring.com
SEQUENCE:0
SUMMARY:ARL Truck Series - Round 3 - Watkins Glen - Race
UID:c4f56c76-ee00-4480-a7da-43360ea17ed5-Race
END:VEVENT
BEGIN:VEVENT
DESCRIPTION:Apex Racing League \nARL Truck Series \nRound 4 - Daytona \nPr
 actice
DTEND:20250929T190500Z
DTSTAMP:20260425T184359Z
DTSTART:20250929T170000Z
GEO:29.185169;-81.072722
LOCATION:Daytona International Speedway
ORGANIZER:mailto:support@xtremescoring.com
SEQUENCE:0
SUMMARY:ARL Truck Series - Round 4 - Daytona - Practice
UID:349c81e5-b4f7-4477-9b92-967d009d364a-Practice
END:VEVENT
BEGIN:VEVENT
DESCRIPTION:Apex Racing League \nARL Truck Series \nRound 4 - Daytona \nQu
 alify
DTEND:20250929T191000Z
DTSTAMP:20260425T184359Z
DTSTART:20250929T190500Z
GEO:29.185169;-81.072722
LOCATION:Daytona International Speedway
ORGANIZER:mailto:support@xtremescoring.com
SEQUENCE:0
SUMMARY:ARL Truck Series - Round 4 - Daytona - Qualify
UID:349c81e5-b4f7-4477-9b92-967d009d364a-Qualify
END:VEVENT
BEGIN:VEVENT
DESCRIPTION:Apex Racing League \nARL Truck Series \nRound 4 - Daytona \nRa
 ce
DTEND:20250929T215200Z
DTSTAMP:20260425T184359Z
DTSTART:20250929T191000Z
GEO:29.185169;-81.072722
LOCATION:Daytona International Speedway
ORGANIZER:mailto:support@xtremescoring.com
SEQUENCE:0
SUMMARY:ARL Truck Series - Round 4 - Daytona - Race
UID:349c81e5-b4f7-4477-9b92-967d009d364a-Race
END:VEVENT
BEGIN:VEVENT
DESCRIPTION:Apex Racing League \nARL Truck Series \nRound 5 - Bristol \nPr
 actice
DTEND:20251006T190500Z
DTSTAMP:20260425T184359Z
DTSTART:20251006T170000Z
GEO:36.515694;-82.259161
LOCATION:Bristol Motor Speedway
ORGANIZER:mailto:support@xtremescoring.com
SEQUENCE:0
SUMMARY:ARL Truck Series - Round 5 - Bristol - Practice
UID:50dd5000-f639-4ad3-8710-d6b8f42bc88d-Practice
END:VEVENT
BEGIN:VEVENT
DESCRIPTION:Apex Racing League \nARL Truck Series \nRound 5 - Bristol \nQu
 alify
DTEND:20251006T191000Z
DTSTAMP:20260425T184359Z
DTSTART:20251006T190500Z
GEO:36.515694;-82.259161
LOCATION:Bristol Motor Speedway
ORGANIZER:mailto:support@xtremescoring.com
SEQUENCE:0
SUMMARY:ARL Truck Series - Round 5 - Bristol - Qualify
UID:50dd5000-f639-4ad3-8710-d6b8f42bc88d-Qualify
END:VEVENT
BEGIN:VEVENT
DESCRIPTION:Apex Racing League \nARL Truck Series \nRound 5 - Bristol \nRa
 ce
DTEND:20251007T024000Z
DTSTAMP:20260425T184359Z
DTSTART:20251006T191000Z
GEO:36.515694;-82.259161
LOCATION:Bristol Motor Speedway
ORGANIZER:mailto:support@xtremescoring.com
SEQUENCE:0
SUMMARY:ARL Truck Series - Round 5 - Bristol - Race
UID:50dd5000-f639-4ad3-8710-d6b8f42bc88d-Race
END:VEVENT
BEGIN:VEVENT
DESCRIPTION:Apex Racing League \nARL Truck Series \nRound 6 - Imola \nPrac
 tice
DTEND:20251013T190500Z
DTSTAMP:20260425T184359Z
DTSTART:20251013T170000Z
GEO:44.344358;11.717198
LOCATION:Autodromo Internazionale Enzo e Dino Ferrari
ORGANIZER:mailto:support@xtremescoring.com
SEQUENCE:0
SUMMARY:ARL Truck Series - Round 6 - Imola - Practice
UID:3bfa388b-5929-4e48-a981-d68c6e49f156-Practice
END:VEVENT
BEGIN:VEVENT
DESCRIPTION:Apex Racing League \nARL Truck Series \nRound 6 - Imola \nQual
 ify
DTEND:20251013T191000Z
DTSTAMP:20260425T184359Z
DTSTART:20251013T190500Z
GEO:44.344358;11.717198
LOCATION:Autodromo Internazionale Enzo e Dino Ferrari
ORGANIZER:mailto:support@xtremescoring.com
SEQUENCE:0
SUMMARY:ARL Truck Series - Round 6 - Imola - Qualify
UID:3bfa388b-5929-4e48-a981-d68c6e49f156-Qualify
END:VEVENT
BEGIN:VEVENT
DESCRIPTION:Apex Racing League \nARL Truck Series \nRound 6 - Imola \nRace
DTEND:20251013T204000Z
DTSTAMP:20260425T184359Z
DTSTART:20251013T191000Z
GEO:44.344358;11.717198
LOCATION:Autodromo Internazionale Enzo e Dino Ferrari
ORGANIZER:mailto:support@xtremescoring.com
SEQUENCE:0
SUMMARY:ARL Truck Series - Round 6 - Imola - Race
UID:3bfa388b-5929-4e48-a981-d68c6e49f156-Race
END:VEVENT
BEGIN:VEVENT
DESCRIPTION:Apex Racing League \nARL Truck Series \nRound 7 - Indianapolis
  \nPractice
DTEND:20251020T190500Z
DTSTAMP:20260425T184359Z
DTSTART:20251020T170000Z
GEO:39.475400;-86.135800
LOCATION:Indianapolis Motor Speedway
ORGANIZER:mailto:support@xtremescoring.com
SEQUENCE:0
SUMMARY:ARL Truck Series - Round 7 - Indianapolis - Practice
UID:b157e623-3f5b-4fb2-ac7b-27f7a1f4c4e7-Practice
END:VEVENT
BEGIN:VEVENT
DESCRIPTION:Apex Racing League \nARL Truck Series \nRound 7 - Indianapolis
  \nQualify
DTEND:20251020T191000Z
DTSTAMP:20260425T184359Z
DTSTART:20251020T190500Z
GEO:39.475400;-86.135800
LOCATION:Indianapolis Motor Speedway
ORGANIZER:mailto:support@xtremescoring.com
SEQUENCE:0
SUMMARY:ARL Truck Series - Round 7 - Indianapolis - Qualify
UID:b157e623-3f5b-4fb2-ac7b-27f7a1f4c4e7-Qualify
END:VEVENT
BEGIN:VEVENT
DESCRIPTION:Apex Racing League \nARL Truck Series \nRound 7 - Indianapolis
  \nRace
DTEND:20251020T213400Z
DTSTAMP:20260425T184359Z
DTSTART:20251020T191000Z
GEO:39.475400;-86.135800
LOCATION:Indianapolis Motor Speedway
ORGANIZER:mailto:support@xtremescoring.com
SEQUENCE:0
SUMMARY:ARL Truck Series - Round 7 - Indianapolis - Race
UID:b157e623-3f5b-4fb2-ac7b-27f7a1f4c4e7-Race
END:VEVENT
BEGIN:VEVENT
DESCRIPTION:Apex Racing League \nARL Truck Series \nRound 8 - Phoenix \nPr
 actice
DTEND:20251027T190500Z
DTSTAMP:20260425T184359Z
DTSTART:20251027T170000Z
GEO:33.374870;-112.313415
LOCATION:Phoenix Raceway
ORGANIZER:mailto:support@xtremescoring.com
SEQUENCE:0
SUMMARY:ARL Truck Series - Round 8 - Phoenix - Practice
UID:7bd8d09b-a32a-467f-9285-769a7863a41a-Practice
END:VEVENT
BEGIN:VEVENT
DESCRIPTION:Apex Racing League \nARL Truck Series \nRound 8 - Phoenix \nQu
 alify
DTEND:20251027T191000Z
DTSTAMP:20260425T184359Z
DTSTART:20251027T190500Z
GEO:33.374870;-112.313415
LOCATION:Phoenix Raceway
ORGANIZER:mailto:support@xtremescoring.com
SEQUENCE:0
SUMMARY:ARL Truck Series - Round 8 - Phoenix - Qualify
UID:7bd8d09b-a32a-467f-9285-769a7863a41a-Qualify
END:VEVENT
BEGIN:VEVENT
DESCRIPTION:Apex Racing League \nARL Truck Series \nRound 8 - Phoenix \nRa
 ce
DTEND:20251028T005500Z
DTSTAMP:20260425T184359Z
DTSTART:20251027T191000Z
GEO:33.374870;-112.313415
LOCATION:Phoenix Raceway
ORGANIZER:mailto:support@xtremescoring.com
SEQUENCE:0
SUMMARY:ARL Truck Series - Round 8 - Phoenix - Race
UID:7bd8d09b-a32a-467f-9285-769a7863a41a-Race
END:VEVENT
END:VCALENDAR
