BEGIN:VCALENDAR
METHOD:REQUEST
PRODID:-//github.com/rianjs/ical.net//NONSGML ical.net 4.0//EN
VERSION:2.0
BEGIN:VEVENT
DESCRIPTION:Apex Racing League \nARA Porsche Cup \nRound 1 - Spa \nPractice
DTEND:20250501T184000Z
DTSTAMP:20260424T152143Z
DTSTART:20250501T170000Z
GEO:50.436912;5.969856
LOCATION:Circuit de Spa-Francorchamps
ORGANIZER:mailto:support@xtremescoring.com
SEQUENCE:0
SUMMARY:ARA Porsche Cup - Round 1 - Spa - Practice
UID:ba514457-9e2f-41a7-a603-2445acfb3d3b-Practice
END:VEVENT
BEGIN:VEVENT
DESCRIPTION:Apex Racing League \nARA Porsche Cup \nRound 1 - Spa \nQualify
DTEND:20250501T191000Z
DTSTAMP:20260424T152143Z
DTSTART:20250501T184000Z
GEO:50.436912;5.969856
LOCATION:Circuit de Spa-Francorchamps
ORGANIZER:mailto:support@xtremescoring.com
SEQUENCE:0
SUMMARY:ARA Porsche Cup - Round 1 - Spa - Qualify
UID:ba514457-9e2f-41a7-a603-2445acfb3d3b-Qualify
END:VEVENT
BEGIN:VEVENT
DESCRIPTION:Apex Racing League \nARA Porsche Cup \nRound 1 - Spa \nRace
DTEND:20250501T195200Z
DTSTAMP:20260424T152143Z
DTSTART:20250501T191000Z
GEO:50.436912;5.969856
LOCATION:Circuit de Spa-Francorchamps
ORGANIZER:mailto:support@xtremescoring.com
SEQUENCE:0
SUMMARY:ARA Porsche Cup - Round 1 - Spa - Race
UID:ba514457-9e2f-41a7-a603-2445acfb3d3b-Race
END:VEVENT
BEGIN:VEVENT
DESCRIPTION:Apex Racing League \nARA Porsche Cup \nRound 2 - Red Bull Ring
  \nPractice
DTEND:20250515T184000Z
DTSTAMP:20260424T152143Z
DTSTART:20250515T170000Z
GEO:47.220342;14.765486
LOCATION:Red Bull Ring
ORGANIZER:mailto:support@xtremescoring.com
SEQUENCE:0
SUMMARY:ARA Porsche Cup - Round 2 - Red Bull Ring - Practice
UID:4b4a64b8-cd57-4141-806c-a2a728f99988-Practice
END:VEVENT
BEGIN:VEVENT
DESCRIPTION:Apex Racing League \nARA Porsche Cup \nRound 2 - Red Bull Ring
  \nQualify
DTEND:20250515T191000Z
DTSTAMP:20260424T152143Z
DTSTART:20250515T184000Z
GEO:47.220342;14.765486
LOCATION:Red Bull Ring
ORGANIZER:mailto:support@xtremescoring.com
SEQUENCE:0
SUMMARY:ARA Porsche Cup - Round 2 - Red Bull Ring - Qualify
UID:4b4a64b8-cd57-4141-806c-a2a728f99988-Qualify
END:VEVENT
BEGIN:VEVENT
DESCRIPTION:Apex Racing League \nARA Porsche Cup \nRound 2 - Red Bull Ring
  \nRace
DTEND:20250515T195200Z
DTSTAMP:20260424T152143Z
DTSTART:20250515T191000Z
GEO:47.220342;14.765486
LOCATION:Red Bull Ring
ORGANIZER:mailto:support@xtremescoring.com
SEQUENCE:0
SUMMARY:ARA Porsche Cup - Round 2 - Red Bull Ring - Race
UID:4b4a64b8-cd57-4141-806c-a2a728f99988-Race
END:VEVENT
BEGIN:VEVENT
DESCRIPTION:Apex Racing League \nARA Porsche Cup \nRound 3 - Interlagos \n
 Practice
DTEND:20250529T184000Z
DTSTAMP:20260424T152143Z
DTSTART:20250529T170000Z
GEO:-23.701185;-46.700148
LOCATION:Aut?dromo Jos? Carlos Pace
ORGANIZER:mailto:support@xtremescoring.com
SEQUENCE:0
SUMMARY:ARA Porsche Cup - Round 3 - Interlagos - Practice
UID:643d7569-daa3-4028-b292-2ae7a9e32545-Practice
END:VEVENT
BEGIN:VEVENT
DESCRIPTION:Apex Racing League \nARA Porsche Cup \nRound 3 - Interlagos \n
 Qualify
DTEND:20250529T191000Z
DTSTAMP:20260424T152143Z
DTSTART:20250529T184000Z
GEO:-23.701185;-46.700148
LOCATION:Aut?dromo Jos? Carlos Pace
ORGANIZER:mailto:support@xtremescoring.com
SEQUENCE:0
SUMMARY:ARA Porsche Cup - Round 3 - Interlagos - Qualify
UID:643d7569-daa3-4028-b292-2ae7a9e32545-Qualify
END:VEVENT
BEGIN:VEVENT
DESCRIPTION:Apex Racing League \nARA Porsche Cup \nRound 3 - Interlagos \n
 Race
DTEND:20250529T195200Z
DTSTAMP:20260424T152143Z
DTSTART:20250529T191000Z
GEO:-23.701185;-46.700148
LOCATION:Aut?dromo Jos? Carlos Pace
ORGANIZER:mailto:support@xtremescoring.com
SEQUENCE:0
SUMMARY:ARA Porsche Cup - Round 3 - Interlagos - Race
UID:643d7569-daa3-4028-b292-2ae7a9e32545-Race
END:VEVENT
BEGIN:VEVENT
DESCRIPTION:Apex Racing League \nARA Porsche Cup \nRound 4 - Monza \nPract
 ice
DTEND:20250612T184000Z
DTSTAMP:20260424T152143Z
DTSTART:20250612T170000Z
GEO:45.621799;9.282606
LOCATION:Autodromo Nazionale Monza
ORGANIZER:mailto:support@xtremescoring.com
SEQUENCE:0
SUMMARY:ARA Porsche Cup - Round 4 - Monza - Practice
UID:414bedfb-17f2-41f5-ab87-a94550e77a5e-Practice
END:VEVENT
BEGIN:VEVENT
DESCRIPTION:Apex Racing League \nARA Porsche Cup \nRound 4 - Monza \nQuali
 fy
DTEND:20250612T191000Z
DTSTAMP:20260424T152143Z
DTSTART:20250612T184000Z
GEO:45.621799;9.282606
LOCATION:Autodromo Nazionale Monza
ORGANIZER:mailto:support@xtremescoring.com
SEQUENCE:0
SUMMARY:ARA Porsche Cup - Round 4 - Monza - Qualify
UID:414bedfb-17f2-41f5-ab87-a94550e77a5e-Qualify
END:VEVENT
BEGIN:VEVENT
DESCRIPTION:Apex Racing League \nARA Porsche Cup \nRound 4 - Monza \nRace
DTEND:20250612T204000Z
DTSTAMP:20260424T152143Z
DTSTART:20250612T191000Z
GEO:45.621799;9.282606
LOCATION:Autodromo Nazionale Monza
ORGANIZER:mailto:support@xtremescoring.com
SEQUENCE:0
SUMMARY:ARA Porsche Cup - Round 4 - Monza - Race
UID:414bedfb-17f2-41f5-ab87-a94550e77a5e-Race
END:VEVENT
BEGIN:VEVENT
DESCRIPTION:Apex Racing League \nARA Porsche Cup \nRound 5 - Zolder \nPrac
 tice
DTEND:20250626T184000Z
DTSTAMP:20260424T152143Z
DTSTART:20250626T170000Z
GEO:50.990498;5.255790
LOCATION:Circuit Zolder
ORGANIZER:mailto:support@xtremescoring.com
SEQUENCE:0
SUMMARY:ARA Porsche Cup - Round 5 - Zolder - Practice
UID:748991f6-ded0-454b-97bd-d835051f110e-Practice
END:VEVENT
BEGIN:VEVENT
DESCRIPTION:Apex Racing League \nARA Porsche Cup \nRound 5 - Zolder \nQual
 ify
DTEND:20250626T191000Z
DTSTAMP:20260424T152143Z
DTSTART:20250626T184000Z
GEO:50.990498;5.255790
LOCATION:Circuit Zolder
ORGANIZER:mailto:support@xtremescoring.com
SEQUENCE:0
SUMMARY:ARA Porsche Cup - Round 5 - Zolder - Qualify
UID:748991f6-ded0-454b-97bd-d835051f110e-Qualify
END:VEVENT
BEGIN:VEVENT
DESCRIPTION:Apex Racing League \nARA Porsche Cup \nRound 5 - Zolder \nRace
DTEND:20250626T195200Z
DTSTAMP:20260424T152143Z
DTSTART:20250626T191000Z
GEO:50.990498;5.255790
LOCATION:Circuit Zolder
ORGANIZER:mailto:support@xtremescoring.com
SEQUENCE:0
SUMMARY:ARA Porsche Cup - Round 5 - Zolder - Race
UID:748991f6-ded0-454b-97bd-d835051f110e-Race
END:VEVENT
BEGIN:VEVENT
DESCRIPTION:Apex Racing League \nARA Porsche Cup \nRound 6 - Oschersleben 
 \nPractice
DTEND:20250710T184000Z
DTSTAMP:20260424T152143Z
DTSTART:20250710T170000Z
GEO:52.026600;11.278300
LOCATION:Motorsport Arena Oschersleben
ORGANIZER:mailto:support@xtremescoring.com
SEQUENCE:0
SUMMARY:ARA Porsche Cup - Round 6 - Oschersleben - Practice
UID:f215dba8-3647-4dcb-8250-238dbc9c5821-Practice
END:VEVENT
BEGIN:VEVENT
DESCRIPTION:Apex Racing League \nARA Porsche Cup \nRound 6 - Oschersleben 
 \nQualify
DTEND:20250710T191000Z
DTSTAMP:20260424T152143Z
DTSTART:20250710T184000Z
GEO:52.026600;11.278300
LOCATION:Motorsport Arena Oschersleben
ORGANIZER:mailto:support@xtremescoring.com
SEQUENCE:0
SUMMARY:ARA Porsche Cup - Round 6 - Oschersleben - Qualify
UID:f215dba8-3647-4dcb-8250-238dbc9c5821-Qualify
END:VEVENT
BEGIN:VEVENT
DESCRIPTION:Apex Racing League \nARA Porsche Cup \nRound 6 - Oschersleben 
 \nRace
DTEND:20250710T204000Z
DTSTAMP:20260424T152143Z
DTSTART:20250710T191000Z
GEO:52.026600;11.278300
LOCATION:Motorsport Arena Oschersleben
ORGANIZER:mailto:support@xtremescoring.com
SEQUENCE:0
SUMMARY:ARA Porsche Cup - Round 6 - Oschersleben - Race
UID:f215dba8-3647-4dcb-8250-238dbc9c5821-Race
END:VEVENT
BEGIN:VEVENT
DESCRIPTION:Apex Racing League \nARA Porsche Cup \nRound 7 - Bathurst \nPr
 actice
DTEND:20250724T184000Z
DTSTAMP:20260424T152143Z
DTSTART:20250724T170000Z
GEO:-33.439419;149.555711
LOCATION:Mount Panorama Circuit
ORGANIZER:mailto:support@xtremescoring.com
SEQUENCE:0
SUMMARY:ARA Porsche Cup - Round 7 - Bathurst - Practice
UID:5f9c2164-4d6d-40d8-b11f-cdd281db547e-Practice
END:VEVENT
BEGIN:VEVENT
DESCRIPTION:Apex Racing League \nARA Porsche Cup \nRound 7 - Bathurst \nQu
 alify
DTEND:20250724T191000Z
DTSTAMP:20260424T152143Z
DTSTART:20250724T184000Z
GEO:-33.439419;149.555711
LOCATION:Mount Panorama Circuit
ORGANIZER:mailto:support@xtremescoring.com
SEQUENCE:0
SUMMARY:ARA Porsche Cup - Round 7 - Bathurst - Qualify
UID:5f9c2164-4d6d-40d8-b11f-cdd281db547e-Qualify
END:VEVENT
BEGIN:VEVENT
DESCRIPTION:Apex Racing League \nARA Porsche Cup \nRound 7 - Bathurst \nRa
 ce
DTEND:20250724T195200Z
DTSTAMP:20260424T152143Z
DTSTART:20250724T191000Z
GEO:-33.439419;149.555711
LOCATION:Mount Panorama Circuit
ORGANIZER:mailto:support@xtremescoring.com
SEQUENCE:0
SUMMARY:ARA Porsche Cup - Round 7 - Bathurst - Race
UID:5f9c2164-4d6d-40d8-b11f-cdd281db547e-Race
END:VEVENT
END:VCALENDAR
