BEGIN:VCALENDAR
METHOD:REQUEST
PRODID:-//github.com/rianjs/ical.net//NONSGML ical.net 4.0//EN
VERSION:2.0
BEGIN:VEVENT
DESCRIPTION:Apex Racing League \nARA Porsche Cup \nRound 1 - Interlagos \n
 Practice
DTEND:20260108T194000Z
DTSTAMP:20260424T204940Z
DTSTART:20260108T180000Z
GEO:-23.701185;-46.700148
LOCATION:Aut?dromo Jos? Carlos Pace
ORGANIZER:mailto:support@xtremescoring.com
SEQUENCE:0
SUMMARY:ARA Porsche Cup - Round 1 - Interlagos - Practice
UID:9baa1d99-9b03-42c0-9c97-145d6998db68-Practice
END:VEVENT
BEGIN:VEVENT
DESCRIPTION:Apex Racing League \nARA Porsche Cup \nRound 1 - Interlagos \n
 Qualify
DTEND:20260108T201000Z
DTSTAMP:20260424T204940Z
DTSTART:20260108T194000Z
GEO:-23.701185;-46.700148
LOCATION:Aut?dromo Jos? Carlos Pace
ORGANIZER:mailto:support@xtremescoring.com
SEQUENCE:0
SUMMARY:ARA Porsche Cup - Round 1 - Interlagos - Qualify
UID:9baa1d99-9b03-42c0-9c97-145d6998db68-Qualify
END:VEVENT
BEGIN:VEVENT
DESCRIPTION:Apex Racing League \nARA Porsche Cup \nRound 1 - Interlagos \n
 Race
DTEND:20260108T205200Z
DTSTAMP:20260424T204940Z
DTSTART:20260108T201000Z
GEO:-23.701185;-46.700148
LOCATION:Aut?dromo Jos? Carlos Pace
ORGANIZER:mailto:support@xtremescoring.com
SEQUENCE:0
SUMMARY:ARA Porsche Cup - Round 1 - Interlagos - Race
UID:9baa1d99-9b03-42c0-9c97-145d6998db68-Race
END:VEVENT
BEGIN:VEVENT
DESCRIPTION:Apex Racing League \nARA Porsche Cup \nRound 2 - Le Mans \nPra
 ctice
DTEND:20260115T194000Z
DTSTAMP:20260424T204940Z
DTSTART:20260115T180000Z
GEO:47.956005;0.205676
LOCATION:Circuit des 24 Heures du Mans
ORGANIZER:mailto:support@xtremescoring.com
SEQUENCE:0
SUMMARY:ARA Porsche Cup - Round 2 - Le Mans - Practice
UID:a090ca19-fb85-4b9f-b7bf-77a5ce9717ae-Practice
END:VEVENT
BEGIN:VEVENT
DESCRIPTION:Apex Racing League \nARA Porsche Cup \nRound 2 - Le Mans \nQua
 lify
DTEND:20260115T201000Z
DTSTAMP:20260424T204940Z
DTSTART:20260115T194000Z
GEO:47.956005;0.205676
LOCATION:Circuit des 24 Heures du Mans
ORGANIZER:mailto:support@xtremescoring.com
SEQUENCE:0
SUMMARY:ARA Porsche Cup - Round 2 - Le Mans - Qualify
UID:a090ca19-fb85-4b9f-b7bf-77a5ce9717ae-Qualify
END:VEVENT
BEGIN:VEVENT
DESCRIPTION:Apex Racing League \nARA Porsche Cup \nRound 2 - Le Mans \nRace
DTEND:20260115T214000Z
DTSTAMP:20260424T204940Z
DTSTART:20260115T201000Z
GEO:47.956005;0.205676
LOCATION:Circuit des 24 Heures du Mans
ORGANIZER:mailto:support@xtremescoring.com
SEQUENCE:0
SUMMARY:ARA Porsche Cup - Round 2 - Le Mans - Race
UID:a090ca19-fb85-4b9f-b7bf-77a5ce9717ae-Race
END:VEVENT
BEGIN:VEVENT
DESCRIPTION:Apex Racing League \nARA Porsche Cup \nRound 3 - Road Atlanta 
 \nPractice
DTEND:20260122T194000Z
DTSTAMP:20260424T204940Z
DTSTART:20260122T180000Z
GEO:34.152190;-83.815110
LOCATION:Road Atlanta
ORGANIZER:mailto:support@xtremescoring.com
SEQUENCE:0
SUMMARY:ARA Porsche Cup - Round 3 - Road Atlanta - Practice
UID:135dad6f-c053-4b43-ab50-d293bcbb6d30-Practice
END:VEVENT
BEGIN:VEVENT
DESCRIPTION:Apex Racing League \nARA Porsche Cup \nRound 3 - Road Atlanta 
 \nQualify
DTEND:20260122T201000Z
DTSTAMP:20260424T204940Z
DTSTART:20260122T194000Z
GEO:34.152190;-83.815110
LOCATION:Road Atlanta
ORGANIZER:mailto:support@xtremescoring.com
SEQUENCE:0
SUMMARY:ARA Porsche Cup - Round 3 - Road Atlanta - Qualify
UID:135dad6f-c053-4b43-ab50-d293bcbb6d30-Qualify
END:VEVENT
BEGIN:VEVENT
DESCRIPTION:Apex Racing League \nARA Porsche Cup \nRound 3 - Road Atlanta 
 \nRace
DTEND:20260122T205200Z
DTSTAMP:20260424T204940Z
DTSTART:20260122T201000Z
GEO:34.152190;-83.815110
LOCATION:Road Atlanta
ORGANIZER:mailto:support@xtremescoring.com
SEQUENCE:0
SUMMARY:ARA Porsche Cup - Round 3 - Road Atlanta - Race
UID:135dad6f-c053-4b43-ab50-d293bcbb6d30-Race
END:VEVENT
BEGIN:VEVENT
DESCRIPTION:Apex Racing League \nARA Porsche Cup \nRound 4 - Monza \nPract
 ice
DTEND:20260129T194000Z
DTSTAMP:20260424T204940Z
DTSTART:20260129T180000Z
GEO:45.621799;9.282606
LOCATION:Autodromo Nazionale Monza
ORGANIZER:mailto:support@xtremescoring.com
SEQUENCE:0
SUMMARY:ARA Porsche Cup - Round 4 - Monza - Practice
UID:d35cc1f5-1aea-40ab-8d76-37116679b013-Practice
END:VEVENT
BEGIN:VEVENT
DESCRIPTION:Apex Racing League \nARA Porsche Cup \nRound 4 - Monza \nQuali
 fy
DTEND:20260129T201000Z
DTSTAMP:20260424T204940Z
DTSTART:20260129T194000Z
GEO:45.621799;9.282606
LOCATION:Autodromo Nazionale Monza
ORGANIZER:mailto:support@xtremescoring.com
SEQUENCE:0
SUMMARY:ARA Porsche Cup - Round 4 - Monza - Qualify
UID:d35cc1f5-1aea-40ab-8d76-37116679b013-Qualify
END:VEVENT
BEGIN:VEVENT
DESCRIPTION:Apex Racing League \nARA Porsche Cup \nRound 4 - Monza \nRace
DTEND:20260129T205200Z
DTSTAMP:20260424T204940Z
DTSTART:20260129T201000Z
GEO:45.621799;9.282606
LOCATION:Autodromo Nazionale Monza
ORGANIZER:mailto:support@xtremescoring.com
SEQUENCE:0
SUMMARY:ARA Porsche Cup - Round 4 - Monza - Race
UID:d35cc1f5-1aea-40ab-8d76-37116679b013-Race
END:VEVENT
BEGIN:VEVENT
DESCRIPTION:Apex Racing League \nARA Porsche Cup \nRound 5 - Imola \nPract
 ice
DTEND:20260205T194000Z
DTSTAMP:20260424T204940Z
DTSTART:20260205T180000Z
GEO:44.344358;11.717198
LOCATION:Autodromo Internazionale Enzo e Dino Ferrari
ORGANIZER:mailto:support@xtremescoring.com
SEQUENCE:0
SUMMARY:ARA Porsche Cup - Round 5 - Imola - Practice
UID:7e1346c1-2af3-42e6-b7ab-209b779d9d20-Practice
END:VEVENT
BEGIN:VEVENT
DESCRIPTION:Apex Racing League \nARA Porsche Cup \nRound 5 - Imola \nQuali
 fy
DTEND:20260205T201000Z
DTSTAMP:20260424T204940Z
DTSTART:20260205T194000Z
GEO:44.344358;11.717198
LOCATION:Autodromo Internazionale Enzo e Dino Ferrari
ORGANIZER:mailto:support@xtremescoring.com
SEQUENCE:0
SUMMARY:ARA Porsche Cup - Round 5 - Imola - Qualify
UID:7e1346c1-2af3-42e6-b7ab-209b779d9d20-Qualify
END:VEVENT
BEGIN:VEVENT
DESCRIPTION:Apex Racing League \nARA Porsche Cup \nRound 5 - Imola \nRace
DTEND:20260205T205200Z
DTSTAMP:20260424T204940Z
DTSTART:20260205T201000Z
GEO:44.344358;11.717198
LOCATION:Autodromo Internazionale Enzo e Dino Ferrari
ORGANIZER:mailto:support@xtremescoring.com
SEQUENCE:0
SUMMARY:ARA Porsche Cup - Round 5 - Imola - Race
UID:7e1346c1-2af3-42e6-b7ab-209b779d9d20-Race
END:VEVENT
BEGIN:VEVENT
DESCRIPTION:Apex Racing League \nARA Porsche Cup \nRound 6 - Daytona \nPra
 ctice
DTEND:20260212T194000Z
DTSTAMP:20260424T204940Z
DTSTART:20260212T180000Z
GEO:29.185169;-81.072722
LOCATION:Daytona International Speedway
ORGANIZER:mailto:support@xtremescoring.com
SEQUENCE:0
SUMMARY:ARA Porsche Cup - Round 6 - Daytona - Practice
UID:e25b3978-5b5e-4d5e-b58e-18363a8a54b1-Practice
END:VEVENT
BEGIN:VEVENT
DESCRIPTION:Apex Racing League \nARA Porsche Cup \nRound 6 - Daytona \nQua
 lify
DTEND:20260212T201000Z
DTSTAMP:20260424T204940Z
DTSTART:20260212T194000Z
GEO:29.185169;-81.072722
LOCATION:Daytona International Speedway
ORGANIZER:mailto:support@xtremescoring.com
SEQUENCE:0
SUMMARY:ARA Porsche Cup - Round 6 - Daytona - Qualify
UID:e25b3978-5b5e-4d5e-b58e-18363a8a54b1-Qualify
END:VEVENT
BEGIN:VEVENT
DESCRIPTION:Apex Racing League \nARA Porsche Cup \nRound 6 - Daytona \nRace
DTEND:20260212T205200Z
DTSTAMP:20260424T204940Z
DTSTART:20260212T201000Z
GEO:29.185169;-81.072722
LOCATION:Daytona International Speedway
ORGANIZER:mailto:support@xtremescoring.com
SEQUENCE:0
SUMMARY:ARA Porsche Cup - Round 6 - Daytona - Race
UID:e25b3978-5b5e-4d5e-b58e-18363a8a54b1-Race
END:VEVENT
BEGIN:VEVENT
DESCRIPTION:Apex Racing League \nARA Porsche Cup \nRound 7 - Sebring \nPra
 ctice
DTEND:20260219T194000Z
DTSTAMP:20260424T204940Z
DTSTART:20260219T180000Z
GEO:27.455013;-81.351874
LOCATION:Sebring International Raceway
ORGANIZER:mailto:support@xtremescoring.com
SEQUENCE:0
SUMMARY:ARA Porsche Cup - Round 7 - Sebring - Practice
UID:4fe71f29-d440-4acf-91e1-166cc991195d-Practice
END:VEVENT
BEGIN:VEVENT
DESCRIPTION:Apex Racing League \nARA Porsche Cup \nRound 7 - Sebring \nQua
 lify
DTEND:20260219T201000Z
DTSTAMP:20260424T204940Z
DTSTART:20260219T194000Z
GEO:27.455013;-81.351874
LOCATION:Sebring International Raceway
ORGANIZER:mailto:support@xtremescoring.com
SEQUENCE:0
SUMMARY:ARA Porsche Cup - Round 7 - Sebring - Qualify
UID:4fe71f29-d440-4acf-91e1-166cc991195d-Qualify
END:VEVENT
BEGIN:VEVENT
DESCRIPTION:Apex Racing League \nARA Porsche Cup \nRound 7 - Sebring \nRace
DTEND:20260219T214000Z
DTSTAMP:20260424T204940Z
DTSTART:20260219T201000Z
GEO:27.455013;-81.351874
LOCATION:Sebring International Raceway
ORGANIZER:mailto:support@xtremescoring.com
SEQUENCE:0
SUMMARY:ARA Porsche Cup - Round 7 - Sebring - Race
UID:4fe71f29-d440-4acf-91e1-166cc991195d-Race
END:VEVENT
BEGIN:VEVENT
DESCRIPTION:Apex Racing League \nARA Porsche Cup \nRound 8 - Hockenheim \n
 Practice
DTEND:20260226T194000Z
DTSTAMP:20260424T204940Z
DTSTART:20260226T180000Z
GEO:49.330028;8.570892
LOCATION:Hockenheimring Baden-W?rttemberg
ORGANIZER:mailto:support@xtremescoring.com
SEQUENCE:0
SUMMARY:ARA Porsche Cup - Round 8 - Hockenheim - Practice
UID:e835f390-6bf6-433e-8d54-71f4f5dad134-Practice
END:VEVENT
BEGIN:VEVENT
DESCRIPTION:Apex Racing League \nARA Porsche Cup \nRound 8 - Hockenheim \n
 Qualify
DTEND:20260226T201000Z
DTSTAMP:20260424T204940Z
DTSTART:20260226T194000Z
GEO:49.330028;8.570892
LOCATION:Hockenheimring Baden-W?rttemberg
ORGANIZER:mailto:support@xtremescoring.com
SEQUENCE:0
SUMMARY:ARA Porsche Cup - Round 8 - Hockenheim - Qualify
UID:e835f390-6bf6-433e-8d54-71f4f5dad134-Qualify
END:VEVENT
BEGIN:VEVENT
DESCRIPTION:Apex Racing League \nARA Porsche Cup \nRound 8 - Hockenheim \n
 Race
DTEND:20260226T205200Z
DTSTAMP:20260424T204940Z
DTSTART:20260226T201000Z
GEO:49.330028;8.570892
LOCATION:Hockenheimring Baden-W?rttemberg
ORGANIZER:mailto:support@xtremescoring.com
SEQUENCE:0
SUMMARY:ARA Porsche Cup - Round 8 - Hockenheim - Race
UID:e835f390-6bf6-433e-8d54-71f4f5dad134-Race
END:VEVENT
BEGIN:VEVENT
DESCRIPTION:Apex Racing League \nARA Porsche Cup \nRound 9 - Adelaide \nPr
 actice
DTEND:20260305T194000Z
DTSTAMP:20260424T204940Z
DTSTART:20260305T180000Z
GEO:-34.930183;138.620315
LOCATION:Adelaide Street Circuit
ORGANIZER:mailto:support@xtremescoring.com
SEQUENCE:0
SUMMARY:ARA Porsche Cup - Round 9 - Adelaide - Practice
UID:5378f54a-3d6f-427d-a8cc-045c45dfdfe3-Practice
END:VEVENT
BEGIN:VEVENT
DESCRIPTION:Apex Racing League \nARA Porsche Cup \nRound 9 - Adelaide \nQu
 alify
DTEND:20260305T201000Z
DTSTAMP:20260424T204940Z
DTSTART:20260305T194000Z
GEO:-34.930183;138.620315
LOCATION:Adelaide Street Circuit
ORGANIZER:mailto:support@xtremescoring.com
SEQUENCE:0
SUMMARY:ARA Porsche Cup - Round 9 - Adelaide - Qualify
UID:5378f54a-3d6f-427d-a8cc-045c45dfdfe3-Qualify
END:VEVENT
BEGIN:VEVENT
DESCRIPTION:Apex Racing League \nARA Porsche Cup \nRound 9 - Adelaide \nRa
 ce
DTEND:20260305T205200Z
DTSTAMP:20260424T204940Z
DTSTART:20260305T201000Z
GEO:-34.930183;138.620315
LOCATION:Adelaide Street Circuit
ORGANIZER:mailto:support@xtremescoring.com
SEQUENCE:0
SUMMARY:ARA Porsche Cup - Round 9 - Adelaide - Race
UID:5378f54a-3d6f-427d-a8cc-045c45dfdfe3-Race
END:VEVENT
END:VCALENDAR
