BEGIN:VCALENDAR
METHOD:REQUEST
PRODID:-//github.com/rianjs/ical.net//NONSGML ical.net 4.0//EN
VERSION:2.0
BEGIN:VEVENT
DESCRIPTION:Apex Racing League \nARL Touring Car Championship \nRound 1 - 
 Silverstone \nPractice
DTEND:20220106T195500Z
DTSTAMP:20260424T183358Z
DTSTART:20220106T180000Z
GEO:52.073301;-1.016858
LOCATION:Silverstone Circuit
ORGANIZER:mailto:support@xtremescoring.com
SEQUENCE:0
SUMMARY:ARL Touring Car Championship - Round 1 - Silverstone - Practice
UID:a764e9db-e255-4a3e-bdcf-f0fda8b016c9-Practice
END:VEVENT
BEGIN:VEVENT
DESCRIPTION:Apex Racing League \nARL Touring Car Championship \nRound 1 - 
 Silverstone \nQualify
DTEND:20220106T201000Z
DTSTAMP:20260424T183358Z
DTSTART:20220106T195500Z
GEO:52.073301;-1.016858
LOCATION:Silverstone Circuit
ORGANIZER:mailto:support@xtremescoring.com
SEQUENCE:0
SUMMARY:ARL Touring Car Championship - Round 1 - Silverstone - Qualify
UID:a764e9db-e255-4a3e-bdcf-f0fda8b016c9-Qualify
END:VEVENT
BEGIN:VEVENT
DESCRIPTION:Apex Racing League \nARL Touring Car Championship \nRound 1 - 
 Silverstone \nRace
DTEND:20220106T205500Z
DTSTAMP:20260424T183358Z
DTSTART:20220106T201000Z
GEO:52.073301;-1.016858
LOCATION:Silverstone Circuit
ORGANIZER:mailto:support@xtremescoring.com
SEQUENCE:0
SUMMARY:ARL Touring Car Championship - Round 1 - Silverstone - Race
UID:a764e9db-e255-4a3e-bdcf-f0fda8b016c9-Race
END:VEVENT
BEGIN:VEVENT
DESCRIPTION:Apex Racing League \nARL Touring Car Championship \nRound 2 - 
 Brands Hatch GP \nPractice
DTEND:20220113T195500Z
DTSTAMP:20260424T183358Z
DTSTART:20220113T180000Z
GEO:51.358105;0.253634
LOCATION:Brands Hatch Circuit
ORGANIZER:mailto:support@xtremescoring.com
SEQUENCE:0
SUMMARY:ARL Touring Car Championship - Round 2 - Brands Hatch GP - Practice
UID:ff8f1a3c-b0da-483a-ab8d-494e45bfc5bf-Practice
END:VEVENT
BEGIN:VEVENT
DESCRIPTION:Apex Racing League \nARL Touring Car Championship \nRound 2 - 
 Brands Hatch GP \nQualify
DTEND:20220113T201000Z
DTSTAMP:20260424T183358Z
DTSTART:20220113T195500Z
GEO:51.358105;0.253634
LOCATION:Brands Hatch Circuit
ORGANIZER:mailto:support@xtremescoring.com
SEQUENCE:0
SUMMARY:ARL Touring Car Championship - Round 2 - Brands Hatch GP - Qualify
UID:ff8f1a3c-b0da-483a-ab8d-494e45bfc5bf-Qualify
END:VEVENT
BEGIN:VEVENT
DESCRIPTION:Apex Racing League \nARL Touring Car Championship \nRound 2 - 
 Brands Hatch GP \nRace
DTEND:20220113T210000Z
DTSTAMP:20260424T183358Z
DTSTART:20220113T201000Z
GEO:51.358105;0.253634
LOCATION:Brands Hatch Circuit
ORGANIZER:mailto:support@xtremescoring.com
SEQUENCE:0
SUMMARY:ARL Touring Car Championship - Round 2 - Brands Hatch GP - Race
UID:ff8f1a3c-b0da-483a-ab8d-494e45bfc5bf-Race
END:VEVENT
BEGIN:VEVENT
DESCRIPTION:Apex Racing League \nARL Touring Car Championship \nRound 3 - 
 Knockhill National Reverse \nPractice
DTEND:20220120T195500Z
DTSTAMP:20260424T183358Z
DTSTART:20220120T180000Z
GEO:56.131522;-3.509043
LOCATION:Knockhill Racing Circuit
ORGANIZER:mailto:support@xtremescoring.com
SEQUENCE:0
SUMMARY:ARL Touring Car Championship - Round 3 - Knockhill National Revers
 e - Practice
UID:73ddf511-6c73-4807-992e-3154163956d8-Practice
END:VEVENT
BEGIN:VEVENT
DESCRIPTION:Apex Racing League \nARL Touring Car Championship \nRound 3 - 
 Knockhill National Reverse \nQualify
DTEND:20220120T201000Z
DTSTAMP:20260424T183358Z
DTSTART:20220120T195500Z
GEO:56.131522;-3.509043
LOCATION:Knockhill Racing Circuit
ORGANIZER:mailto:support@xtremescoring.com
SEQUENCE:0
SUMMARY:ARL Touring Car Championship - Round 3 - Knockhill National Revers
 e - Qualify
UID:73ddf511-6c73-4807-992e-3154163956d8-Qualify
END:VEVENT
BEGIN:VEVENT
DESCRIPTION:Apex Racing League \nARL Touring Car Championship \nRound 3 - 
 Knockhill National Reverse \nRace
DTEND:20220120T205500Z
DTSTAMP:20260424T183358Z
DTSTART:20220120T201000Z
GEO:56.131522;-3.509043
LOCATION:Knockhill Racing Circuit
ORGANIZER:mailto:support@xtremescoring.com
SEQUENCE:0
SUMMARY:ARL Touring Car Championship - Round 3 - Knockhill National Revers
 e - Race
UID:73ddf511-6c73-4807-992e-3154163956d8-Race
END:VEVENT
BEGIN:VEVENT
DESCRIPTION:Apex Racing League \nARL Touring Car Championship \nRound 4 - 
 Oulton Park \nPractice
DTEND:20220127T195500Z
DTSTAMP:20260424T183358Z
DTSTART:20220127T180000Z
GEO:53.175139;-2.622580
LOCATION:Oulton Park Circuit
ORGANIZER:mailto:support@xtremescoring.com
SEQUENCE:0
SUMMARY:ARL Touring Car Championship - Round 4 - Oulton Park - Practice
UID:f98a4a9f-85e5-4ae1-919d-44d030158a83-Practice
END:VEVENT
BEGIN:VEVENT
DESCRIPTION:Apex Racing League \nARL Touring Car Championship \nRound 4 - 
 Oulton Park \nQualify
DTEND:20220127T201000Z
DTSTAMP:20260424T183358Z
DTSTART:20220127T195500Z
GEO:53.175139;-2.622580
LOCATION:Oulton Park Circuit
ORGANIZER:mailto:support@xtremescoring.com
SEQUENCE:0
SUMMARY:ARL Touring Car Championship - Round 4 - Oulton Park - Qualify
UID:f98a4a9f-85e5-4ae1-919d-44d030158a83-Qualify
END:VEVENT
BEGIN:VEVENT
DESCRIPTION:Apex Racing League \nARL Touring Car Championship \nRound 4 - 
 Oulton Park \nRace
DTEND:20220127T210000Z
DTSTAMP:20260424T183358Z
DTSTART:20220127T201000Z
GEO:53.175139;-2.622580
LOCATION:Oulton Park Circuit
ORGANIZER:mailto:support@xtremescoring.com
SEQUENCE:0
SUMMARY:ARL Touring Car Championship - Round 4 - Oulton Park - Race
UID:f98a4a9f-85e5-4ae1-919d-44d030158a83-Race
END:VEVENT
BEGIN:VEVENT
DESCRIPTION:Apex Racing League \nARL Touring Car Championship \nRound 5 - 
 Snetterton \nPractice
DTEND:20220203T195500Z
DTSTAMP:20260424T183358Z
DTSTART:20220203T180000Z
GEO:52.463648;0.943612
LOCATION:Snetterton Circuit
ORGANIZER:mailto:support@xtremescoring.com
SEQUENCE:0
SUMMARY:ARL Touring Car Championship - Round 5 - Snetterton - Practice
UID:468a9939-ae04-4ee5-8f94-2c8a0ee5f461-Practice
END:VEVENT
BEGIN:VEVENT
DESCRIPTION:Apex Racing League \nARL Touring Car Championship \nRound 5 - 
 Snetterton \nQualify
DTEND:20220203T201000Z
DTSTAMP:20260424T183358Z
DTSTART:20220203T195500Z
GEO:52.463648;0.943612
LOCATION:Snetterton Circuit
ORGANIZER:mailto:support@xtremescoring.com
SEQUENCE:0
SUMMARY:ARL Touring Car Championship - Round 5 - Snetterton - Qualify
UID:468a9939-ae04-4ee5-8f94-2c8a0ee5f461-Qualify
END:VEVENT
BEGIN:VEVENT
DESCRIPTION:Apex Racing League \nARL Touring Car Championship \nRound 5 - 
 Snetterton \nRace
DTEND:20220203T210000Z
DTSTAMP:20260424T183358Z
DTSTART:20220203T201000Z
GEO:52.463648;0.943612
LOCATION:Snetterton Circuit
ORGANIZER:mailto:support@xtremescoring.com
SEQUENCE:0
SUMMARY:ARL Touring Car Championship - Round 5 - Snetterton - Race
UID:468a9939-ae04-4ee5-8f94-2c8a0ee5f461-Race
END:VEVENT
BEGIN:VEVENT
DESCRIPTION:Apex Racing League \nARL Touring Car Championship \nRound 6 - 
 Knockhill International \nPractice
DTEND:20220210T195500Z
DTSTAMP:20260424T183358Z
DTSTART:20220210T180000Z
GEO:56.131522;-3.509043
LOCATION:Knockhill Racing Circuit
ORGANIZER:mailto:support@xtremescoring.com
SEQUENCE:0
SUMMARY:ARL Touring Car Championship - Round 6 - Knockhill International -
  Practice
UID:166dd46c-c2b1-412f-875f-eb088c97931b-Practice
END:VEVENT
BEGIN:VEVENT
DESCRIPTION:Apex Racing League \nARL Touring Car Championship \nRound 6 - 
 Knockhill International \nQualify
DTEND:20220210T201000Z
DTSTAMP:20260424T183358Z
DTSTART:20220210T195500Z
GEO:56.131522;-3.509043
LOCATION:Knockhill Racing Circuit
ORGANIZER:mailto:support@xtremescoring.com
SEQUENCE:0
SUMMARY:ARL Touring Car Championship - Round 6 - Knockhill International -
  Qualify
UID:166dd46c-c2b1-412f-875f-eb088c97931b-Qualify
END:VEVENT
BEGIN:VEVENT
DESCRIPTION:Apex Racing League \nARL Touring Car Championship \nRound 6 - 
 Knockhill International \nRace
DTEND:20220210T210000Z
DTSTAMP:20260424T183358Z
DTSTART:20220210T201000Z
GEO:56.131522;-3.509043
LOCATION:Knockhill Racing Circuit
ORGANIZER:mailto:support@xtremescoring.com
SEQUENCE:0
SUMMARY:ARL Touring Car Championship - Round 6 - Knockhill International -
  Race
UID:166dd46c-c2b1-412f-875f-eb088c97931b-Race
END:VEVENT
BEGIN:VEVENT
DESCRIPTION:Apex Racing League \nARL Touring Car Championship \nRound 7 - 
 Donington \nPractice
DTEND:20220217T195500Z
DTSTAMP:20260424T183358Z
DTSTART:20220217T180000Z
GEO:52.830547;-1.381034
LOCATION:Donington Park Racing Circuit
ORGANIZER:mailto:support@xtremescoring.com
SEQUENCE:0
SUMMARY:ARL Touring Car Championship - Round 7 - Donington - Practice
UID:fa79eb77-b4f2-4e7d-b88a-25d4b9fbef7a-Practice
END:VEVENT
BEGIN:VEVENT
DESCRIPTION:Apex Racing League \nARL Touring Car Championship \nRound 7 - 
 Donington \nQualify
DTEND:20220217T201000Z
DTSTAMP:20260424T183358Z
DTSTART:20220217T195500Z
GEO:52.830547;-1.381034
LOCATION:Donington Park Racing Circuit
ORGANIZER:mailto:support@xtremescoring.com
SEQUENCE:0
SUMMARY:ARL Touring Car Championship - Round 7 - Donington - Qualify
UID:fa79eb77-b4f2-4e7d-b88a-25d4b9fbef7a-Qualify
END:VEVENT
BEGIN:VEVENT
DESCRIPTION:Apex Racing League \nARL Touring Car Championship \nRound 7 - 
 Donington \nRace
DTEND:20220217T205500Z
DTSTAMP:20260424T183358Z
DTSTART:20220217T201000Z
GEO:52.830547;-1.381034
LOCATION:Donington Park Racing Circuit
ORGANIZER:mailto:support@xtremescoring.com
SEQUENCE:0
SUMMARY:ARL Touring Car Championship - Round 7 - Donington - Race
UID:fa79eb77-b4f2-4e7d-b88a-25d4b9fbef7a-Race
END:VEVENT
BEGIN:VEVENT
DESCRIPTION:Apex Racing League \nARL Touring Car Championship \nRound 8 - 
 Brands Hatch Indy \nPractice
DTEND:20220224T195500Z
DTSTAMP:20260424T183358Z
DTSTART:20220224T180000Z
GEO:51.358105;0.253634
LOCATION:Brands Hatch Circuit
ORGANIZER:mailto:support@xtremescoring.com
SEQUENCE:0
SUMMARY:ARL Touring Car Championship - Round 8 - Brands Hatch Indy - Pract
 ice
UID:14533eaa-3434-423a-bdc1-225e7c825149-Practice
END:VEVENT
BEGIN:VEVENT
DESCRIPTION:Apex Racing League \nARL Touring Car Championship \nRound 8 - 
 Brands Hatch Indy \nQualify
DTEND:20220224T201000Z
DTSTAMP:20260424T183358Z
DTSTART:20220224T195500Z
GEO:51.358105;0.253634
LOCATION:Brands Hatch Circuit
ORGANIZER:mailto:support@xtremescoring.com
SEQUENCE:0
SUMMARY:ARL Touring Car Championship - Round 8 - Brands Hatch Indy - Quali
 fy
UID:14533eaa-3434-423a-bdc1-225e7c825149-Qualify
END:VEVENT
BEGIN:VEVENT
DESCRIPTION:Apex Racing League \nARL Touring Car Championship \nRound 8 - 
 Brands Hatch Indy \nRace
DTEND:20220224T205500Z
DTSTAMP:20260424T183358Z
DTSTART:20220224T201000Z
GEO:51.358105;0.253634
LOCATION:Brands Hatch Circuit
ORGANIZER:mailto:support@xtremescoring.com
SEQUENCE:0
SUMMARY:ARL Touring Car Championship - Round 8 - Brands Hatch Indy - Race
UID:14533eaa-3434-423a-bdc1-225e7c825149-Race
END:VEVENT
END:VCALENDAR
