BEGIN:VCALENDAR
METHOD:REQUEST
PRODID:-//github.com/rianjs/ical.net//NONSGML ical.net 4.0//EN
VERSION:2.0
BEGIN:VEVENT
DESCRIPTION:Apex Racing League \nARA F3 VRS Super Series \nRound 1 \nPract
 ice
DTEND:20220917T190000Z
DTSTAMP:20260425T142421Z
DTSTART:20220917T170000Z
GEO:45.621799;9.282606
LOCATION:Autodromo Nazionale Monza
ORGANIZER:mailto:support@xtremescoring.com
SEQUENCE:0
SUMMARY:ARA F3 VRS Super Series - Round 1 - Practice
UID:05852e3b-1bbd-479c-9385-aa2b899e2956-Practice
END:VEVENT
BEGIN:VEVENT
DESCRIPTION:Apex Racing League \nARA F3 VRS Super Series \nRound 1 \nQuali
 fy
DTEND:20220917T191000Z
DTSTAMP:20260425T142421Z
DTSTART:20220917T190000Z
GEO:45.621799;9.282606
LOCATION:Autodromo Nazionale Monza
ORGANIZER:mailto:support@xtremescoring.com
SEQUENCE:0
SUMMARY:ARA F3 VRS Super Series - Round 1 - Qualify
UID:05852e3b-1bbd-479c-9385-aa2b899e2956-Qualify
END:VEVENT
BEGIN:VEVENT
DESCRIPTION:Apex Racing League \nARA F3 VRS Super Series \nRound 1 \nRace
DTEND:20220917T195200Z
DTSTAMP:20260425T142421Z
DTSTART:20220917T191000Z
GEO:45.621799;9.282606
LOCATION:Autodromo Nazionale Monza
ORGANIZER:mailto:support@xtremescoring.com
SEQUENCE:0
SUMMARY:ARA F3 VRS Super Series - Round 1 - Race
UID:05852e3b-1bbd-479c-9385-aa2b899e2956-Race
END:VEVENT
BEGIN:VEVENT
DESCRIPTION:Apex Racing League \nARA F3 VRS Super Series \nRound 2 \nPract
 ice
DTEND:20220924T190000Z
DTSTAMP:20260425T142421Z
DTSTART:20220924T170000Z
GEO:35.371700;138.926700
LOCATION:Fuji International Speedway
ORGANIZER:mailto:support@xtremescoring.com
SEQUENCE:0
SUMMARY:ARA F3 VRS Super Series - Round 2 - Practice
UID:5cd6d36c-7109-46ae-a7b4-9cdd2d4dff9c-Practice
END:VEVENT
BEGIN:VEVENT
DESCRIPTION:Apex Racing League \nARA F3 VRS Super Series \nRound 2 \nQuali
 fy
DTEND:20220924T191000Z
DTSTAMP:20260425T142421Z
DTSTART:20220924T190000Z
GEO:35.371700;138.926700
LOCATION:Fuji International Speedway
ORGANIZER:mailto:support@xtremescoring.com
SEQUENCE:0
SUMMARY:ARA F3 VRS Super Series - Round 2 - Qualify
UID:5cd6d36c-7109-46ae-a7b4-9cdd2d4dff9c-Qualify
END:VEVENT
BEGIN:VEVENT
DESCRIPTION:Apex Racing League \nARA F3 VRS Super Series \nRound 2 \nRace
DTEND:20220924T195200Z
DTSTAMP:20260425T142421Z
DTSTART:20220924T191000Z
GEO:35.371700;138.926700
LOCATION:Fuji International Speedway
ORGANIZER:mailto:support@xtremescoring.com
SEQUENCE:0
SUMMARY:ARA F3 VRS Super Series - Round 2 - Race
UID:5cd6d36c-7109-46ae-a7b4-9cdd2d4dff9c-Race
END:VEVENT
BEGIN:VEVENT
DESCRIPTION:Apex Racing League \nARA F3 VRS Super Series \nRound 3 \nPract
 ice
DTEND:20221001T190000Z
DTSTAMP:20260425T142421Z
DTSTART:20221001T170000Z
GEO:34.912586;134.216053
LOCATION:Okayama International Circuit
ORGANIZER:mailto:support@xtremescoring.com
SEQUENCE:0
SUMMARY:ARA F3 VRS Super Series - Round 3 - Practice
UID:74710826-d2a3-4bfa-9cfc-b3e0c1624864-Practice
END:VEVENT
BEGIN:VEVENT
DESCRIPTION:Apex Racing League \nARA F3 VRS Super Series \nRound 3 \nQuali
 fy
DTEND:20221001T191000Z
DTSTAMP:20260425T142421Z
DTSTART:20221001T190000Z
GEO:34.912586;134.216053
LOCATION:Okayama International Circuit
ORGANIZER:mailto:support@xtremescoring.com
SEQUENCE:0
SUMMARY:ARA F3 VRS Super Series - Round 3 - Qualify
UID:74710826-d2a3-4bfa-9cfc-b3e0c1624864-Qualify
END:VEVENT
BEGIN:VEVENT
DESCRIPTION:Apex Racing League \nARA F3 VRS Super Series \nRound 3 \nRace
DTEND:20221001T195200Z
DTSTAMP:20260425T142421Z
DTSTART:20221001T191000Z
GEO:34.912586;134.216053
LOCATION:Okayama International Circuit
ORGANIZER:mailto:support@xtremescoring.com
SEQUENCE:0
SUMMARY:ARA F3 VRS Super Series - Round 3 - Race
UID:74710826-d2a3-4bfa-9cfc-b3e0c1624864-Race
END:VEVENT
BEGIN:VEVENT
DESCRIPTION:Apex Racing League \nARA F3 VRS Super Series \nRound 4 \nPract
 ice
DTEND:20221015T190000Z
DTSTAMP:20260425T142421Z
DTSTART:20221015T170000Z
GEO:52.387708;4.542019
LOCATION:Circuit Zandvoort
ORGANIZER:mailto:support@xtremescoring.com
SEQUENCE:0
SUMMARY:ARA F3 VRS Super Series - Round 4 - Practice
UID:d506034b-13f0-4fa6-b9ba-47a9ce6802e5-Practice
END:VEVENT
BEGIN:VEVENT
DESCRIPTION:Apex Racing League \nARA F3 VRS Super Series \nRound 4 \nQuali
 fy
DTEND:20221015T191000Z
DTSTAMP:20260425T142421Z
DTSTART:20221015T190000Z
GEO:52.387708;4.542019
LOCATION:Circuit Zandvoort
ORGANIZER:mailto:support@xtremescoring.com
SEQUENCE:0
SUMMARY:ARA F3 VRS Super Series - Round 4 - Qualify
UID:d506034b-13f0-4fa6-b9ba-47a9ce6802e5-Qualify
END:VEVENT
BEGIN:VEVENT
DESCRIPTION:Apex Racing League \nARA F3 VRS Super Series \nRound 4 \nRace
DTEND:20221015T195200Z
DTSTAMP:20260425T142421Z
DTSTART:20221015T191000Z
GEO:52.387708;4.542019
LOCATION:Circuit Zandvoort
ORGANIZER:mailto:support@xtremescoring.com
SEQUENCE:0
SUMMARY:ARA F3 VRS Super Series - Round 4 - Race
UID:d506034b-13f0-4fa6-b9ba-47a9ce6802e5-Race
END:VEVENT
BEGIN:VEVENT
DESCRIPTION:Apex Racing League \nARA F3 VRS Super Series \nRound 5 \nPract
 ice
DTEND:20221022T190000Z
DTSTAMP:20260425T142421Z
DTSTART:20221022T170000Z
GEO:30.134581;-97.638045
LOCATION:Circuit of the Americas
ORGANIZER:mailto:support@xtremescoring.com
SEQUENCE:0
SUMMARY:ARA F3 VRS Super Series - Round 5 - Practice
UID:ebaeb44a-4072-42c3-a2e4-9b68035fcc46-Practice
END:VEVENT
BEGIN:VEVENT
DESCRIPTION:Apex Racing League \nARA F3 VRS Super Series \nRound 5 \nQuali
 fy
DTEND:20221022T191000Z
DTSTAMP:20260425T142421Z
DTSTART:20221022T190000Z
GEO:30.134581;-97.638045
LOCATION:Circuit of the Americas
ORGANIZER:mailto:support@xtremescoring.com
SEQUENCE:0
SUMMARY:ARA F3 VRS Super Series - Round 5 - Qualify
UID:ebaeb44a-4072-42c3-a2e4-9b68035fcc46-Qualify
END:VEVENT
BEGIN:VEVENT
DESCRIPTION:Apex Racing League \nARA F3 VRS Super Series \nRound 5 \nRace
DTEND:20221022T195200Z
DTSTAMP:20260425T142421Z
DTSTART:20221022T191000Z
GEO:30.134581;-97.638045
LOCATION:Circuit of the Americas
ORGANIZER:mailto:support@xtremescoring.com
SEQUENCE:0
SUMMARY:ARA F3 VRS Super Series - Round 5 - Race
UID:ebaeb44a-4072-42c3-a2e4-9b68035fcc46-Race
END:VEVENT
BEGIN:VEVENT
DESCRIPTION:Apex Racing League \nARA F3 VRS Super Series \nRound 6 \nPract
 ice
DTEND:20221029T190000Z
DTSTAMP:20260425T142421Z
DTSTART:20221029T170000Z
GEO:50.333444;6.939243
LOCATION:N?rburgring Grand-Prix-Strecke
ORGANIZER:mailto:support@xtremescoring.com
SEQUENCE:0
SUMMARY:ARA F3 VRS Super Series - Round 6 - Practice
UID:80d51e1d-cee5-4db1-9250-86c2b351c395-Practice
END:VEVENT
BEGIN:VEVENT
DESCRIPTION:Apex Racing League \nARA F3 VRS Super Series \nRound 6 \nQuali
 fy
DTEND:20221029T191000Z
DTSTAMP:20260425T142421Z
DTSTART:20221029T190000Z
GEO:50.333444;6.939243
LOCATION:N?rburgring Grand-Prix-Strecke
ORGANIZER:mailto:support@xtremescoring.com
SEQUENCE:0
SUMMARY:ARA F3 VRS Super Series - Round 6 - Qualify
UID:80d51e1d-cee5-4db1-9250-86c2b351c395-Qualify
END:VEVENT
BEGIN:VEVENT
DESCRIPTION:Apex Racing League \nARA F3 VRS Super Series \nRound 6 \nRace
DTEND:20221029T195200Z
DTSTAMP:20260425T142421Z
DTSTART:20221029T191000Z
GEO:50.333444;6.939243
LOCATION:N?rburgring Grand-Prix-Strecke
ORGANIZER:mailto:support@xtremescoring.com
SEQUENCE:0
SUMMARY:ARA F3 VRS Super Series - Round 6 - Race
UID:80d51e1d-cee5-4db1-9250-86c2b351c395-Race
END:VEVENT
BEGIN:VEVENT
DESCRIPTION:Apex Racing League \nARA F3 VRS Super Series \nRound 7 \nPract
 ice
DTEND:20221105T200000Z
DTSTAMP:20260425T142421Z
DTSTART:20221105T180000Z
GEO:33.764314;-118.191760
LOCATION:Long Beach Street Circuit
ORGANIZER:mailto:support@xtremescoring.com
SEQUENCE:0
SUMMARY:ARA F3 VRS Super Series - Round 7 - Practice
UID:6b2fbeed-f536-427f-a7c2-00d359296fc0-Practice
END:VEVENT
BEGIN:VEVENT
DESCRIPTION:Apex Racing League \nARA F3 VRS Super Series \nRound 7 \nQuali
 fy
DTEND:20221105T201000Z
DTSTAMP:20260425T142421Z
DTSTART:20221105T200000Z
GEO:33.764314;-118.191760
LOCATION:Long Beach Street Circuit
ORGANIZER:mailto:support@xtremescoring.com
SEQUENCE:0
SUMMARY:ARA F3 VRS Super Series - Round 7 - Qualify
UID:6b2fbeed-f536-427f-a7c2-00d359296fc0-Qualify
END:VEVENT
BEGIN:VEVENT
DESCRIPTION:Apex Racing League \nARA F3 VRS Super Series \nRound 7 \nRace
DTEND:20221105T205200Z
DTSTAMP:20260425T142421Z
DTSTART:20221105T201000Z
GEO:33.764314;-118.191760
LOCATION:Long Beach Street Circuit
ORGANIZER:mailto:support@xtremescoring.com
SEQUENCE:0
SUMMARY:ARA F3 VRS Super Series - Round 7 - Race
UID:6b2fbeed-f536-427f-a7c2-00d359296fc0-Race
END:VEVENT
BEGIN:VEVENT
DESCRIPTION:Apex Racing League \nARA F3 VRS Super Series \nRound 8 \nPract
 ice
DTEND:20221112T200000Z
DTSTAMP:20260425T142421Z
DTSTART:20221112T180000Z
GEO:-23.701185;-46.700148
LOCATION:Aut?dromo Jos? Carlos Pace
ORGANIZER:mailto:support@xtremescoring.com
SEQUENCE:0
SUMMARY:ARA F3 VRS Super Series - Round 8 - Practice
UID:2c3d7f40-70d2-4330-a1a3-2174d2d5ea76-Practice
END:VEVENT
BEGIN:VEVENT
DESCRIPTION:Apex Racing League \nARA F3 VRS Super Series \nRound 8 \nQuali
 fy
DTEND:20221112T201000Z
DTSTAMP:20260425T142421Z
DTSTART:20221112T200000Z
GEO:-23.701185;-46.700148
LOCATION:Aut?dromo Jos? Carlos Pace
ORGANIZER:mailto:support@xtremescoring.com
SEQUENCE:0
SUMMARY:ARA F3 VRS Super Series - Round 8 - Qualify
UID:2c3d7f40-70d2-4330-a1a3-2174d2d5ea76-Qualify
END:VEVENT
BEGIN:VEVENT
DESCRIPTION:Apex Racing League \nARA F3 VRS Super Series \nRound 8 \nRace
DTEND:20221112T205200Z
DTSTAMP:20260425T142421Z
DTSTART:20221112T201000Z
GEO:-23.701185;-46.700148
LOCATION:Aut?dromo Jos? Carlos Pace
ORGANIZER:mailto:support@xtremescoring.com
SEQUENCE:0
SUMMARY:ARA F3 VRS Super Series - Round 8 - Race
UID:2c3d7f40-70d2-4330-a1a3-2174d2d5ea76-Race
END:VEVENT
BEGIN:VEVENT
DESCRIPTION:Apex Racing League \nARA F3 VRS Super Series \nRound 9 \nPract
 ice
DTEND:20221119T200000Z
DTSTAMP:20260425T142421Z
DTSTART:20221119T180000Z
GEO:50.990498;5.255790
LOCATION:Circuit Zolder
ORGANIZER:mailto:support@xtremescoring.com
SEQUENCE:0
SUMMARY:ARA F3 VRS Super Series - Round 9 - Practice
UID:0175ecd3-474e-4627-bf8d-fc097ffc4e34-Practice
END:VEVENT
BEGIN:VEVENT
DESCRIPTION:Apex Racing League \nARA F3 VRS Super Series \nRound 9 \nQuali
 fy
DTEND:20221119T201000Z
DTSTAMP:20260425T142421Z
DTSTART:20221119T200000Z
GEO:50.990498;5.255790
LOCATION:Circuit Zolder
ORGANIZER:mailto:support@xtremescoring.com
SEQUENCE:0
SUMMARY:ARA F3 VRS Super Series - Round 9 - Qualify
UID:0175ecd3-474e-4627-bf8d-fc097ffc4e34-Qualify
END:VEVENT
BEGIN:VEVENT
DESCRIPTION:Apex Racing League \nARA F3 VRS Super Series \nRound 9 \nRace
DTEND:20221119T205200Z
DTSTAMP:20260425T142421Z
DTSTART:20221119T201000Z
GEO:50.990498;5.255790
LOCATION:Circuit Zolder
ORGANIZER:mailto:support@xtremescoring.com
SEQUENCE:0
SUMMARY:ARA F3 VRS Super Series - Round 9 - Race
UID:0175ecd3-474e-4627-bf8d-fc097ffc4e34-Race
END:VEVENT
END:VCALENDAR
