BEGIN:VCALENDAR
METHOD:REQUEST
PRODID:-//github.com/rianjs/ical.net//NONSGML ical.net 4.0//EN
VERSION:2.0
BEGIN:VEVENT
DESCRIPTION:Apex Racing League \nARL NASCAR B Class Championship \nRound 1
  - Daytona \nPractice
DTEND:20211028T190500Z
DTSTAMP:20260425T152630Z
DTSTART:20211028T170000Z
GEO:29.185169;-81.072722
LOCATION:Daytona International Speedway
ORGANIZER:mailto:support@xtremescoring.com
SEQUENCE:0
SUMMARY:ARL NASCAR B Class Championship - Round 1 - Daytona - Practice
UID:d1a9759d-89de-43ba-88e4-a7aea591b0c3-Practice
END:VEVENT
BEGIN:VEVENT
DESCRIPTION:Apex Racing League \nARL NASCAR B Class Championship \nRound 1
  - Daytona \nQualify
DTEND:20211028T191000Z
DTSTAMP:20260425T152630Z
DTSTART:20211028T190500Z
GEO:29.185169;-81.072722
LOCATION:Daytona International Speedway
ORGANIZER:mailto:support@xtremescoring.com
SEQUENCE:0
SUMMARY:ARL NASCAR B Class Championship - Round 1 - Daytona - Qualify
UID:d1a9759d-89de-43ba-88e4-a7aea591b0c3-Qualify
END:VEVENT
BEGIN:VEVENT
DESCRIPTION:Apex Racing League \nARL NASCAR B Class Championship \nRound 1
  - Daytona \nRace
DTEND:20211028T214000Z
DTSTAMP:20260425T152630Z
DTSTART:20211028T191000Z
GEO:29.185169;-81.072722
LOCATION:Daytona International Speedway
ORGANIZER:mailto:support@xtremescoring.com
SEQUENCE:0
SUMMARY:ARL NASCAR B Class Championship - Round 1 - Daytona - Race
UID:d1a9759d-89de-43ba-88e4-a7aea591b0c3-Race
END:VEVENT
BEGIN:VEVENT
DESCRIPTION:Apex Racing League \nARL NASCAR B Class Championship \nRound 2
  - Phoenix \nPractice
DTEND:20211104T200500Z
DTSTAMP:20260425T152630Z
DTSTART:20211104T180000Z
GEO:33.374870;-112.313415
LOCATION:Phoenix Raceway
ORGANIZER:mailto:support@xtremescoring.com
SEQUENCE:0
SUMMARY:ARL NASCAR B Class Championship - Round 2 - Phoenix - Practice
UID:c69a1b73-2d4d-4ce9-8061-64cd73997fb2-Practice
END:VEVENT
BEGIN:VEVENT
DESCRIPTION:Apex Racing League \nARL NASCAR B Class Championship \nRound 2
  - Phoenix \nQualify
DTEND:20211104T201000Z
DTSTAMP:20260425T152630Z
DTSTART:20211104T200500Z
GEO:33.374870;-112.313415
LOCATION:Phoenix Raceway
ORGANIZER:mailto:support@xtremescoring.com
SEQUENCE:0
SUMMARY:ARL NASCAR B Class Championship - Round 2 - Phoenix - Qualify
UID:c69a1b73-2d4d-4ce9-8061-64cd73997fb2-Qualify
END:VEVENT
BEGIN:VEVENT
DESCRIPTION:Apex Racing League \nARL NASCAR B Class Championship \nRound 2
  - Phoenix \nRace
DTEND:20211105T011000Z
DTSTAMP:20260425T152630Z
DTSTART:20211104T201000Z
GEO:33.374870;-112.313415
LOCATION:Phoenix Raceway
ORGANIZER:mailto:support@xtremescoring.com
SEQUENCE:0
SUMMARY:ARL NASCAR B Class Championship - Round 2 - Phoenix - Race
UID:c69a1b73-2d4d-4ce9-8061-64cd73997fb2-Race
END:VEVENT
BEGIN:VEVENT
DESCRIPTION:Apex Racing League \nARL NASCAR B Class Championship \nRound 3
  - Charlotte \nPractice
DTEND:20211111T200500Z
DTSTAMP:20260425T152630Z
DTSTART:20211111T180000Z
GEO:35.351164;-80.691266
LOCATION:[Retired] Charlotte Motor Speedway
ORGANIZER:mailto:support@xtremescoring.com
SEQUENCE:0
SUMMARY:ARL NASCAR B Class Championship - Round 3 - Charlotte - Practice
UID:46e17004-e8a6-4cad-8375-a20703f7cff3-Practice
END:VEVENT
BEGIN:VEVENT
DESCRIPTION:Apex Racing League \nARL NASCAR B Class Championship \nRound 3
  - Charlotte \nQualify
DTEND:20211111T201000Z
DTSTAMP:20260425T152630Z
DTSTART:20211111T200500Z
GEO:35.351164;-80.691266
LOCATION:[Retired] Charlotte Motor Speedway
ORGANIZER:mailto:support@xtremescoring.com
SEQUENCE:0
SUMMARY:ARL NASCAR B Class Championship - Round 3 - Charlotte - Qualify
UID:46e17004-e8a6-4cad-8375-a20703f7cff3-Qualify
END:VEVENT
BEGIN:VEVENT
DESCRIPTION:Apex Racing League \nARL NASCAR B Class Championship \nRound 3
  - Charlotte \nRace
DTEND:20211112T001900Z
DTSTAMP:20260425T152630Z
DTSTART:20211111T201000Z
GEO:35.351164;-80.691266
LOCATION:[Retired] Charlotte Motor Speedway
ORGANIZER:mailto:support@xtremescoring.com
SEQUENCE:0
SUMMARY:ARL NASCAR B Class Championship - Round 3 - Charlotte - Race
UID:46e17004-e8a6-4cad-8375-a20703f7cff3-Race
END:VEVENT
BEGIN:VEVENT
DESCRIPTION:Apex Racing League \nARL NASCAR B Class Championship \nRound 4
  - Watkins Glen \nPractice
DTEND:20211118T200500Z
DTSTAMP:20260425T152630Z
DTSTART:20211118T180000Z
GEO:42.338281;-76.928552
LOCATION:Watkins Glen International
ORGANIZER:mailto:support@xtremescoring.com
SEQUENCE:0
SUMMARY:ARL NASCAR B Class Championship - Round 4 - Watkins Glen - Practice
UID:e5dbbf4e-7c80-4512-bf9d-31013a6f6849-Practice
END:VEVENT
BEGIN:VEVENT
DESCRIPTION:Apex Racing League \nARL NASCAR B Class Championship \nRound 4
  - Watkins Glen \nQualify
DTEND:20211118T201000Z
DTSTAMP:20260425T152630Z
DTSTART:20211118T200500Z
GEO:42.338281;-76.928552
LOCATION:Watkins Glen International
ORGANIZER:mailto:support@xtremescoring.com
SEQUENCE:0
SUMMARY:ARL NASCAR B Class Championship - Round 4 - Watkins Glen - Qualify
UID:e5dbbf4e-7c80-4512-bf9d-31013a6f6849-Qualify
END:VEVENT
BEGIN:VEVENT
DESCRIPTION:Apex Racing League \nARL NASCAR B Class Championship \nRound 4
  - Watkins Glen \nRace
DTEND:20211118T222500Z
DTSTAMP:20260425T152630Z
DTSTART:20211118T201000Z
GEO:42.338281;-76.928552
LOCATION:Watkins Glen International
ORGANIZER:mailto:support@xtremescoring.com
SEQUENCE:0
SUMMARY:ARL NASCAR B Class Championship - Round 4 - Watkins Glen - Race
UID:e5dbbf4e-7c80-4512-bf9d-31013a6f6849-Race
END:VEVENT
BEGIN:VEVENT
DESCRIPTION:Apex Racing League \nARL NASCAR B Class Championship \nRound 5
  - Michigan \nPractice
DTEND:20211125T200500Z
DTSTAMP:20260425T152630Z
DTSTART:20211125T180000Z
GEO:42.067884;-84.247056
LOCATION:Michigan International Speedway
ORGANIZER:mailto:support@xtremescoring.com
SEQUENCE:0
SUMMARY:ARL NASCAR B Class Championship - Round 5 - Michigan - Practice
UID:da73d26e-626e-41a3-a181-1a74f9df26f3-Practice
END:VEVENT
BEGIN:VEVENT
DESCRIPTION:Apex Racing League \nARL NASCAR B Class Championship \nRound 5
  - Michigan \nQualify
DTEND:20211125T201000Z
DTSTAMP:20260425T152630Z
DTSTART:20211125T200500Z
GEO:42.067884;-84.247056
LOCATION:Michigan International Speedway
ORGANIZER:mailto:support@xtremescoring.com
SEQUENCE:0
SUMMARY:ARL NASCAR B Class Championship - Round 5 - Michigan - Qualify
UID:da73d26e-626e-41a3-a181-1a74f9df26f3-Qualify
END:VEVENT
BEGIN:VEVENT
DESCRIPTION:Apex Racing League \nARL NASCAR B Class Championship \nRound 5
  - Michigan \nRace
DTEND:20211125T232500Z
DTSTAMP:20260425T152630Z
DTSTART:20211125T201000Z
GEO:42.067884;-84.247056
LOCATION:Michigan International Speedway
ORGANIZER:mailto:support@xtremescoring.com
SEQUENCE:0
SUMMARY:ARL NASCAR B Class Championship - Round 5 - Michigan - Race
UID:da73d26e-626e-41a3-a181-1a74f9df26f3-Race
END:VEVENT
BEGIN:VEVENT
DESCRIPTION:Apex Racing League \nARL NASCAR B Class Championship \nRound 6
  - Bristol \nPractice
DTEND:20211202T200500Z
DTSTAMP:20260425T152630Z
DTSTART:20211202T180000Z
GEO:36.515694;-82.259161
LOCATION:Bristol Motor Speedway
ORGANIZER:mailto:support@xtremescoring.com
SEQUENCE:0
SUMMARY:ARL NASCAR B Class Championship - Round 6 - Bristol - Practice
UID:bc6be45e-fbc9-4d7c-bd58-46158fec87ee-Practice
END:VEVENT
BEGIN:VEVENT
DESCRIPTION:Apex Racing League \nARL NASCAR B Class Championship \nRound 6
  - Bristol \nQualify
DTEND:20211202T201000Z
DTSTAMP:20260425T152630Z
DTSTART:20211202T200500Z
GEO:36.515694;-82.259161
LOCATION:Bristol Motor Speedway
ORGANIZER:mailto:support@xtremescoring.com
SEQUENCE:0
SUMMARY:ARL NASCAR B Class Championship - Round 6 - Bristol - Qualify
UID:bc6be45e-fbc9-4d7c-bd58-46158fec87ee-Qualify
END:VEVENT
BEGIN:VEVENT
DESCRIPTION:Apex Racing League \nARL NASCAR B Class Championship \nRound 6
  - Bristol \nRace
DTEND:20211203T022500Z
DTSTAMP:20260425T152630Z
DTSTART:20211202T201000Z
GEO:36.515694;-82.259161
LOCATION:Bristol Motor Speedway
ORGANIZER:mailto:support@xtremescoring.com
SEQUENCE:0
SUMMARY:ARL NASCAR B Class Championship - Round 6 - Bristol - Race
UID:bc6be45e-fbc9-4d7c-bd58-46158fec87ee-Race
END:VEVENT
BEGIN:VEVENT
DESCRIPTION:Apex Racing League \nARL NASCAR B Class Championship \nRound 7
  - Talladega \nPractice
DTEND:20211209T200500Z
DTSTAMP:20260425T152630Z
DTSTART:20211209T180000Z
GEO:33.566974;-86.068319
LOCATION:Talladega Superspeedway
ORGANIZER:mailto:support@xtremescoring.com
SEQUENCE:0
SUMMARY:ARL NASCAR B Class Championship - Round 7 - Talladega - Practice
UID:f7c5ff97-7e37-40a4-8468-0eea67402d59-Practice
END:VEVENT
BEGIN:VEVENT
DESCRIPTION:Apex Racing League \nARL NASCAR B Class Championship \nRound 7
  - Talladega \nQualify
DTEND:20211209T201000Z
DTSTAMP:20260425T152630Z
DTSTART:20211209T200500Z
GEO:33.566974;-86.068319
LOCATION:Talladega Superspeedway
ORGANIZER:mailto:support@xtremescoring.com
SEQUENCE:0
SUMMARY:ARL NASCAR B Class Championship - Round 7 - Talladega - Qualify
UID:f7c5ff97-7e37-40a4-8468-0eea67402d59-Qualify
END:VEVENT
BEGIN:VEVENT
DESCRIPTION:Apex Racing League \nARL NASCAR B Class Championship \nRound 7
  - Talladega \nRace
DTEND:20211209T224000Z
DTSTAMP:20260425T152630Z
DTSTART:20211209T201000Z
GEO:33.566974;-86.068319
LOCATION:Talladega Superspeedway
ORGANIZER:mailto:support@xtremescoring.com
SEQUENCE:0
SUMMARY:ARL NASCAR B Class Championship - Round 7 - Talladega - Race
UID:f7c5ff97-7e37-40a4-8468-0eea67402d59-Race
END:VEVENT
BEGIN:VEVENT
DESCRIPTION:Apex Racing League \nARL NASCAR B Class Championship \nRound 8
  - Homestead \nPractice
DTEND:20211216T200500Z
DTSTAMP:20260425T152630Z
DTSTART:20211216T180000Z
GEO:25.451778;-80.411089
LOCATION:Homestead Miami Speedway
ORGANIZER:mailto:support@xtremescoring.com
SEQUENCE:0
SUMMARY:ARL NASCAR B Class Championship - Round 8 - Homestead - Practice
UID:baecd00b-ac58-4250-89d4-0a42375147c5-Practice
END:VEVENT
BEGIN:VEVENT
DESCRIPTION:Apex Racing League \nARL NASCAR B Class Championship \nRound 8
  - Homestead \nQualify
DTEND:20211216T201000Z
DTSTAMP:20260425T152630Z
DTSTART:20211216T200500Z
GEO:25.451778;-80.411089
LOCATION:Homestead Miami Speedway
ORGANIZER:mailto:support@xtremescoring.com
SEQUENCE:0
SUMMARY:ARL NASCAR B Class Championship - Round 8 - Homestead - Qualify
UID:baecd00b-ac58-4250-89d4-0a42375147c5-Qualify
END:VEVENT
BEGIN:VEVENT
DESCRIPTION:Apex Racing League \nARL NASCAR B Class Championship \nRound 8
  - Homestead \nRace
DTEND:20211217T001900Z
DTSTAMP:20260425T152630Z
DTSTART:20211216T201000Z
GEO:25.451778;-80.411089
LOCATION:Homestead Miami Speedway
ORGANIZER:mailto:support@xtremescoring.com
SEQUENCE:0
SUMMARY:ARL NASCAR B Class Championship - Round 8 - Homestead - Race
UID:baecd00b-ac58-4250-89d4-0a42375147c5-Race
END:VEVENT
END:VCALENDAR
