BEGIN:VCALENDAR
METHOD:REQUEST
PRODID:-//github.com/rianjs/ical.net//NONSGML ical.net 4.0//EN
VERSION:2.0
BEGIN:VEVENT
DESCRIPTION:Apex Racing League \nARL GT Americas \nRound 1 \nPractice
DTEND:20221002T010000Z
DTSTAMP:20260424T152107Z
DTSTART:20221001T230000Z
GEO:34.152190;-83.815110
LOCATION:Road Atlanta
ORGANIZER:mailto:support@xtremescoring.com
SEQUENCE:0
SUMMARY:ARL GT Americas - Round 1 - Practice
UID:5e3ac5ca-c8ae-42f6-b10a-64345c21af29-Practice
END:VEVENT
BEGIN:VEVENT
DESCRIPTION:Apex Racing League \nARL GT Americas \nRound 1 \nQualify
DTEND:20221002T011000Z
DTSTAMP:20260424T152107Z
DTSTART:20221002T010000Z
GEO:34.152190;-83.815110
LOCATION:Road Atlanta
ORGANIZER:mailto:support@xtremescoring.com
SEQUENCE:0
SUMMARY:ARL GT Americas - Round 1 - Qualify
UID:5e3ac5ca-c8ae-42f6-b10a-64345c21af29-Qualify
END:VEVENT
BEGIN:VEVENT
DESCRIPTION:Apex Racing League \nARL GT Americas \nRound 1 \nRace
DTEND:20221002T024000Z
DTSTAMP:20260424T152107Z
DTSTART:20221002T011000Z
GEO:34.152190;-83.815110
LOCATION:Road Atlanta
ORGANIZER:mailto:support@xtremescoring.com
SEQUENCE:0
SUMMARY:ARL GT Americas - Round 1 - Race
UID:5e3ac5ca-c8ae-42f6-b10a-64345c21af29-Race
END:VEVENT
BEGIN:VEVENT
DESCRIPTION:Apex Racing League \nARL GT Americas \nRound 2 \nPractice
DTEND:20221016T010000Z
DTSTAMP:20260424T152107Z
DTSTART:20221015T230000Z
GEO:50.436912;5.969856
LOCATION:Circuit de Spa-Francorchamps
ORGANIZER:mailto:support@xtremescoring.com
SEQUENCE:0
SUMMARY:ARL GT Americas - Round 2 - Practice
UID:440ace92-c7ed-45a7-ba6a-a23500a93fa2-Practice
END:VEVENT
BEGIN:VEVENT
DESCRIPTION:Apex Racing League \nARL GT Americas \nRound 2 \nQualify
DTEND:20221016T011000Z
DTSTAMP:20260424T152107Z
DTSTART:20221016T010000Z
GEO:50.436912;5.969856
LOCATION:Circuit de Spa-Francorchamps
ORGANIZER:mailto:support@xtremescoring.com
SEQUENCE:0
SUMMARY:ARL GT Americas - Round 2 - Qualify
UID:440ace92-c7ed-45a7-ba6a-a23500a93fa2-Qualify
END:VEVENT
BEGIN:VEVENT
DESCRIPTION:Apex Racing League \nARL GT Americas \nRound 2 \nRace
DTEND:20221016T024000Z
DTSTAMP:20260424T152107Z
DTSTART:20221016T011000Z
GEO:50.436912;5.969856
LOCATION:Circuit de Spa-Francorchamps
ORGANIZER:mailto:support@xtremescoring.com
SEQUENCE:0
SUMMARY:ARL GT Americas - Round 2 - Race
UID:440ace92-c7ed-45a7-ba6a-a23500a93fa2-Race
END:VEVENT
BEGIN:VEVENT
DESCRIPTION:Apex Racing League \nARL GT Americas \nRound 3 \nPractice
DTEND:20221023T010000Z
DTSTAMP:20260424T152107Z
DTSTART:20221022T230000Z
GEO:42.338281;-76.928552
LOCATION:Watkins Glen International
ORGANIZER:mailto:support@xtremescoring.com
SEQUENCE:0
SUMMARY:ARL GT Americas - Round 3 - Practice
UID:534ab691-d7a6-40a5-9a15-1304001da5b2-Practice
END:VEVENT
BEGIN:VEVENT
DESCRIPTION:Apex Racing League \nARL GT Americas \nRound 3 \nQualify
DTEND:20221023T011000Z
DTSTAMP:20260424T152107Z
DTSTART:20221023T010000Z
GEO:42.338281;-76.928552
LOCATION:Watkins Glen International
ORGANIZER:mailto:support@xtremescoring.com
SEQUENCE:0
SUMMARY:ARL GT Americas - Round 3 - Qualify
UID:534ab691-d7a6-40a5-9a15-1304001da5b2-Qualify
END:VEVENT
BEGIN:VEVENT
DESCRIPTION:Apex Racing League \nARL GT Americas \nRound 3 \nRace
DTEND:20221023T024000Z
DTSTAMP:20260424T152107Z
DTSTART:20221023T011000Z
GEO:42.338281;-76.928552
LOCATION:Watkins Glen International
ORGANIZER:mailto:support@xtremescoring.com
SEQUENCE:0
SUMMARY:ARL GT Americas - Round 3 - Race
UID:534ab691-d7a6-40a5-9a15-1304001da5b2-Race
END:VEVENT
BEGIN:VEVENT
DESCRIPTION:Apex Racing League \nARL GT Americas \nRound 4 \nPractice
DTEND:20221030T010000Z
DTSTAMP:20260424T152107Z
DTSTART:20221029T230000Z
GEO:29.185169;-81.072722
LOCATION:Daytona International Speedway
ORGANIZER:mailto:support@xtremescoring.com
SEQUENCE:0
SUMMARY:ARL GT Americas - Round 4 - Practice
UID:f4b684ec-948e-4923-a09f-a1964d456aa3-Practice
END:VEVENT
BEGIN:VEVENT
DESCRIPTION:Apex Racing League \nARL GT Americas \nRound 4 \nQualify
DTEND:20221030T011000Z
DTSTAMP:20260424T152107Z
DTSTART:20221030T010000Z
GEO:29.185169;-81.072722
LOCATION:Daytona International Speedway
ORGANIZER:mailto:support@xtremescoring.com
SEQUENCE:0
SUMMARY:ARL GT Americas - Round 4 - Qualify
UID:f4b684ec-948e-4923-a09f-a1964d456aa3-Qualify
END:VEVENT
BEGIN:VEVENT
DESCRIPTION:Apex Racing League \nARL GT Americas \nRound 4 \nRace
DTEND:20221030T020500Z
DTSTAMP:20260424T152107Z
DTSTART:20221030T011000Z
GEO:29.185169;-81.072722
LOCATION:Daytona International Speedway
ORGANIZER:mailto:support@xtremescoring.com
SEQUENCE:0
SUMMARY:ARL GT Americas - Round 4 - Race
UID:f4b684ec-948e-4923-a09f-a1964d456aa3-Race
END:VEVENT
BEGIN:VEVENT
DESCRIPTION:Apex Racing League \nARL GT Americas \nRound 5 \nPractice
DTEND:20221105T020000Z
DTSTAMP:20260424T152107Z
DTSTART;VALUE=DATE:20221105
GEO:34.845594;136.536758
LOCATION:Suzuka International Racing Course
ORGANIZER:mailto:support@xtremescoring.com
SEQUENCE:0
SUMMARY:ARL GT Americas - Round 5 - Practice
UID:e0fc9133-5179-42f3-a7de-13d64d9aadb6-Practice
END:VEVENT
BEGIN:VEVENT
DESCRIPTION:Apex Racing League \nARL GT Americas \nRound 5 \nQualify
DTEND:20221105T021000Z
DTSTAMP:20260424T152107Z
DTSTART:20221105T020000Z
GEO:34.845594;136.536758
LOCATION:Suzuka International Racing Course
ORGANIZER:mailto:support@xtremescoring.com
SEQUENCE:0
SUMMARY:ARL GT Americas - Round 5 - Qualify
UID:e0fc9133-5179-42f3-a7de-13d64d9aadb6-Qualify
END:VEVENT
BEGIN:VEVENT
DESCRIPTION:Apex Racing League \nARL GT Americas \nRound 5 \nRace
DTEND:20221105T030500Z
DTSTAMP:20260424T152107Z
DTSTART:20221105T021000Z
GEO:34.845594;136.536758
LOCATION:Suzuka International Racing Course
ORGANIZER:mailto:support@xtremescoring.com
SEQUENCE:0
SUMMARY:ARL GT Americas - Round 5 - Race
UID:e0fc9133-5179-42f3-a7de-13d64d9aadb6-Race
END:VEVENT
BEGIN:VEVENT
DESCRIPTION:Apex Racing League \nARL GT Americas \nRound 6 \nPractice
DTEND:20221113T020000Z
DTSTAMP:20260424T152107Z
DTSTART;VALUE=DATE:20221113
GEO:43.797510;-87.992157
LOCATION:Road America
ORGANIZER:mailto:support@xtremescoring.com
SEQUENCE:0
SUMMARY:ARL GT Americas - Round 6 - Practice
UID:f4f5d049-c152-4d73-9642-c53d31c9201c-Practice
END:VEVENT
BEGIN:VEVENT
DESCRIPTION:Apex Racing League \nARL GT Americas \nRound 6 \nQualify
DTEND:20221113T021000Z
DTSTAMP:20260424T152107Z
DTSTART:20221113T020000Z
GEO:43.797510;-87.992157
LOCATION:Road America
ORGANIZER:mailto:support@xtremescoring.com
SEQUENCE:0
SUMMARY:ARL GT Americas - Round 6 - Qualify
UID:f4f5d049-c152-4d73-9642-c53d31c9201c-Qualify
END:VEVENT
BEGIN:VEVENT
DESCRIPTION:Apex Racing League \nARL GT Americas \nRound 6 \nRace
DTEND:20221113T034000Z
DTSTAMP:20260424T152107Z
DTSTART:20221113T021000Z
GEO:43.797510;-87.992157
LOCATION:Road America
ORGANIZER:mailto:support@xtremescoring.com
SEQUENCE:0
SUMMARY:ARL GT Americas - Round 6 - Race
UID:f4f5d049-c152-4d73-9642-c53d31c9201c-Race
END:VEVENT
END:VCALENDAR
