BEGIN:VCALENDAR
METHOD:REQUEST
PRODID:-//github.com/rianjs/ical.net//NONSGML ical.net 4.0//EN
VERSION:2.0
BEGIN:VEVENT
DESCRIPTION:Apex Racing League \nARA Formula Renault 2.0 Championship \nRo
 und 1 - Red Bull Ring \nPractice
DTEND:20210925T190000Z
DTSTAMP:20260424T135042Z
DTSTART:20210925T170000Z
GEO:47.220342;14.765486
LOCATION:Red Bull Ring
ORGANIZER:mailto:support@xtremescoring.com
SEQUENCE:0
SUMMARY:ARA Formula Renault 2.0 Championship - Round 1 - Red Bull Ring - P
 ractice
UID:7feba32f-7bed-4ee2-a2fb-9a5e75606029-Practice
END:VEVENT
BEGIN:VEVENT
DESCRIPTION:Apex Racing League \nARA Formula Renault 2.0 Championship \nRo
 und 1 - Red Bull Ring \nQualify
DTEND:20210925T191000Z
DTSTAMP:20260424T135042Z
DTSTART:20210925T190000Z
GEO:47.220342;14.765486
LOCATION:Red Bull Ring
ORGANIZER:mailto:support@xtremescoring.com
SEQUENCE:0
SUMMARY:ARA Formula Renault 2.0 Championship - Round 1 - Red Bull Ring - Q
 ualify
UID:7feba32f-7bed-4ee2-a2fb-9a5e75606029-Qualify
END:VEVENT
BEGIN:VEVENT
DESCRIPTION:Apex Racing League \nARA Formula Renault 2.0 Championship \nRo
 und 1 - Red Bull Ring \nRace
DTEND:20210925T200000Z
DTSTAMP:20260424T135042Z
DTSTART:20210925T191000Z
GEO:47.220342;14.765486
LOCATION:Red Bull Ring
ORGANIZER:mailto:support@xtremescoring.com
SEQUENCE:0
SUMMARY:ARA Formula Renault 2.0 Championship - Round 1 - Red Bull Ring - R
 ace
UID:7feba32f-7bed-4ee2-a2fb-9a5e75606029-Race
END:VEVENT
BEGIN:VEVENT
DESCRIPTION:Apex Racing League \nARA Formula Renault 2.0 Championship \nRo
 und 2 - Nurburgring \nPractice
DTEND:20211002T190000Z
DTSTAMP:20260424T135042Z
DTSTART:20211002T170000Z
GEO:50.333444;6.939243
LOCATION:N?rburgring Grand-Prix-Strecke
ORGANIZER:mailto:support@xtremescoring.com
SEQUENCE:0
SUMMARY:ARA Formula Renault 2.0 Championship - Round 2 - Nurburgring - Pra
 ctice
UID:3bf2ef0f-a66c-402f-903f-c2315c3e7e5a-Practice
END:VEVENT
BEGIN:VEVENT
DESCRIPTION:Apex Racing League \nARA Formula Renault 2.0 Championship \nRo
 und 2 - Nurburgring \nQualify
DTEND:20211002T191000Z
DTSTAMP:20260424T135042Z
DTSTART:20211002T190000Z
GEO:50.333444;6.939243
LOCATION:N?rburgring Grand-Prix-Strecke
ORGANIZER:mailto:support@xtremescoring.com
SEQUENCE:0
SUMMARY:ARA Formula Renault 2.0 Championship - Round 2 - Nurburgring - Qua
 lify
UID:3bf2ef0f-a66c-402f-903f-c2315c3e7e5a-Qualify
END:VEVENT
BEGIN:VEVENT
DESCRIPTION:Apex Racing League \nARA Formula Renault 2.0 Championship \nRo
 und 2 - Nurburgring \nRace
DTEND:20211002T195500Z
DTSTAMP:20260424T135042Z
DTSTART:20211002T191000Z
GEO:50.333444;6.939243
LOCATION:N?rburgring Grand-Prix-Strecke
ORGANIZER:mailto:support@xtremescoring.com
SEQUENCE:0
SUMMARY:ARA Formula Renault 2.0 Championship - Round 2 - Nurburgring - Race
UID:3bf2ef0f-a66c-402f-903f-c2315c3e7e5a-Race
END:VEVENT
BEGIN:VEVENT
DESCRIPTION:Apex Racing League \nARA Formula Renault 2.0 Championship \nRo
 und 3 - Lime Rock Park \nPractice
DTEND:20211009T190000Z
DTSTAMP:20260424T135042Z
DTSTART:20211009T170000Z
GEO:41.928211;-73.383964
LOCATION:Lime Rock Park
ORGANIZER:mailto:support@xtremescoring.com
SEQUENCE:0
SUMMARY:ARA Formula Renault 2.0 Championship - Round 3 - Lime Rock Park - 
 Practice
UID:08485e91-5194-430c-9821-ac29346e3dba-Practice
END:VEVENT
BEGIN:VEVENT
DESCRIPTION:Apex Racing League \nARA Formula Renault 2.0 Championship \nRo
 und 3 - Lime Rock Park \nQualify
DTEND:20211009T191000Z
DTSTAMP:20260424T135042Z
DTSTART:20211009T190000Z
GEO:41.928211;-73.383964
LOCATION:Lime Rock Park
ORGANIZER:mailto:support@xtremescoring.com
SEQUENCE:0
SUMMARY:ARA Formula Renault 2.0 Championship - Round 3 - Lime Rock Park - 
 Qualify
UID:08485e91-5194-430c-9821-ac29346e3dba-Qualify
END:VEVENT
BEGIN:VEVENT
DESCRIPTION:Apex Racing League \nARA Formula Renault 2.0 Championship \nRo
 und 3 - Lime Rock Park \nRace
DTEND:20211009T200000Z
DTSTAMP:20260424T135042Z
DTSTART:20211009T191000Z
GEO:41.928211;-73.383964
LOCATION:Lime Rock Park
ORGANIZER:mailto:support@xtremescoring.com
SEQUENCE:0
SUMMARY:ARA Formula Renault 2.0 Championship - Round 3 - Lime Rock Park - 
 Race
UID:08485e91-5194-430c-9821-ac29346e3dba-Race
END:VEVENT
BEGIN:VEVENT
DESCRIPTION:Apex Racing League \nARA Formula Renault 2.0 Championship \nRo
 und 4 - Barcelona \nPractice
DTEND:20211016T190000Z
DTSTAMP:20260424T135042Z
DTSTART:20211016T170000Z
GEO:41.568749;2.257138
LOCATION:Circuit de Barcelona Catalunya
ORGANIZER:mailto:support@xtremescoring.com
SEQUENCE:0
SUMMARY:ARA Formula Renault 2.0 Championship - Round 4 - Barcelona - Pract
 ice
UID:396633f7-c412-4efa-ba75-08b0eb3d1f93-Practice
END:VEVENT
BEGIN:VEVENT
DESCRIPTION:Apex Racing League \nARA Formula Renault 2.0 Championship \nRo
 und 4 - Barcelona \nQualify
DTEND:20211016T191000Z
DTSTAMP:20260424T135042Z
DTSTART:20211016T190000Z
GEO:41.568749;2.257138
LOCATION:Circuit de Barcelona Catalunya
ORGANIZER:mailto:support@xtremescoring.com
SEQUENCE:0
SUMMARY:ARA Formula Renault 2.0 Championship - Round 4 - Barcelona - Quali
 fy
UID:396633f7-c412-4efa-ba75-08b0eb3d1f93-Qualify
END:VEVENT
BEGIN:VEVENT
DESCRIPTION:Apex Racing League \nARA Formula Renault 2.0 Championship \nRo
 und 4 - Barcelona \nRace
DTEND:20211016T195500Z
DTSTAMP:20260424T135042Z
DTSTART:20211016T191000Z
GEO:41.568749;2.257138
LOCATION:Circuit de Barcelona Catalunya
ORGANIZER:mailto:support@xtremescoring.com
SEQUENCE:0
SUMMARY:ARA Formula Renault 2.0 Championship - Round 4 - Barcelona - Race
UID:396633f7-c412-4efa-ba75-08b0eb3d1f93-Race
END:VEVENT
BEGIN:VEVENT
DESCRIPTION:Apex Racing League \nARA Formula Renault 2.0 Championship \nRo
 und 5 - Mid Ohio \nPractice
DTEND:20211023T190000Z
DTSTAMP:20260424T135042Z
DTSTART:20211023T170000Z
GEO:40.690657;-82.639781
LOCATION:Mid-Ohio Sports Car Course
ORGANIZER:mailto:support@xtremescoring.com
SEQUENCE:0
SUMMARY:ARA Formula Renault 2.0 Championship - Round 5 - Mid Ohio - Practi
 ce
UID:28052aac-611a-4d94-9dc4-c9cf4c73d40f-Practice
END:VEVENT
BEGIN:VEVENT
DESCRIPTION:Apex Racing League \nARA Formula Renault 2.0 Championship \nRo
 und 5 - Mid Ohio \nQualify
DTEND:20211023T191000Z
DTSTAMP:20260424T135042Z
DTSTART:20211023T190000Z
GEO:40.690657;-82.639781
LOCATION:Mid-Ohio Sports Car Course
ORGANIZER:mailto:support@xtremescoring.com
SEQUENCE:0
SUMMARY:ARA Formula Renault 2.0 Championship - Round 5 - Mid Ohio - Qualify
UID:28052aac-611a-4d94-9dc4-c9cf4c73d40f-Qualify
END:VEVENT
BEGIN:VEVENT
DESCRIPTION:Apex Racing League \nARA Formula Renault 2.0 Championship \nRo
 und 5 - Mid Ohio \nRace
DTEND:20211023T200000Z
DTSTAMP:20260424T135042Z
DTSTART:20211023T191000Z
GEO:40.690657;-82.639781
LOCATION:Mid-Ohio Sports Car Course
ORGANIZER:mailto:support@xtremescoring.com
SEQUENCE:0
SUMMARY:ARA Formula Renault 2.0 Championship - Round 5 - Mid Ohio - Race
UID:28052aac-611a-4d94-9dc4-c9cf4c73d40f-Race
END:VEVENT
BEGIN:VEVENT
DESCRIPTION:Apex Racing League \nARA Formula Renault 2.0 Championship \nRo
 und 6 - Monza \nPractice
DTEND:20211030T190000Z
DTSTAMP:20260424T135042Z
DTSTART:20211030T170000Z
GEO:45.621799;9.282606
LOCATION:Autodromo Nazionale Monza
ORGANIZER:mailto:support@xtremescoring.com
SEQUENCE:0
SUMMARY:ARA Formula Renault 2.0 Championship - Round 6 - Monza - Practice
UID:fc540e18-2145-4787-bf53-1d03ed087b82-Practice
END:VEVENT
BEGIN:VEVENT
DESCRIPTION:Apex Racing League \nARA Formula Renault 2.0 Championship \nRo
 und 6 - Monza \nQualify
DTEND:20211030T191000Z
DTSTAMP:20260424T135042Z
DTSTART:20211030T190000Z
GEO:45.621799;9.282606
LOCATION:Autodromo Nazionale Monza
ORGANIZER:mailto:support@xtremescoring.com
SEQUENCE:0
SUMMARY:ARA Formula Renault 2.0 Championship - Round 6 - Monza - Qualify
UID:fc540e18-2145-4787-bf53-1d03ed087b82-Qualify
END:VEVENT
BEGIN:VEVENT
DESCRIPTION:Apex Racing League \nARA Formula Renault 2.0 Championship \nRo
 und 6 - Monza \nRace
DTEND:20211030T195500Z
DTSTAMP:20260424T135042Z
DTSTART:20211030T191000Z
GEO:45.621799;9.282606
LOCATION:Autodromo Nazionale Monza
ORGANIZER:mailto:support@xtremescoring.com
SEQUENCE:0
SUMMARY:ARA Formula Renault 2.0 Championship - Round 6 - Monza - Race
UID:fc540e18-2145-4787-bf53-1d03ed087b82-Race
END:VEVENT
BEGIN:VEVENT
DESCRIPTION:Apex Racing League \nARA Formula Renault 2.0 Championship \nRo
 und 7 - Okayama \nPractice
DTEND:20211106T200000Z
DTSTAMP:20260424T135042Z
DTSTART:20211106T180000Z
GEO:34.912586;134.216053
LOCATION:Okayama International Circuit
ORGANIZER:mailto:support@xtremescoring.com
SEQUENCE:0
SUMMARY:ARA Formula Renault 2.0 Championship - Round 7 - Okayama - Practice
UID:08476878-dfb1-4063-89dc-2dacbe9a64da-Practice
END:VEVENT
BEGIN:VEVENT
DESCRIPTION:Apex Racing League \nARA Formula Renault 2.0 Championship \nRo
 und 7 - Okayama \nQualify
DTEND:20211106T201000Z
DTSTAMP:20260424T135042Z
DTSTART:20211106T200000Z
GEO:34.912586;134.216053
LOCATION:Okayama International Circuit
ORGANIZER:mailto:support@xtremescoring.com
SEQUENCE:0
SUMMARY:ARA Formula Renault 2.0 Championship - Round 7 - Okayama - Qualify
UID:08476878-dfb1-4063-89dc-2dacbe9a64da-Qualify
END:VEVENT
BEGIN:VEVENT
DESCRIPTION:Apex Racing League \nARA Formula Renault 2.0 Championship \nRo
 und 7 - Okayama \nRace
DTEND:20211106T205500Z
DTSTAMP:20260424T135042Z
DTSTART:20211106T201000Z
GEO:34.912586;134.216053
LOCATION:Okayama International Circuit
ORGANIZER:mailto:support@xtremescoring.com
SEQUENCE:0
SUMMARY:ARA Formula Renault 2.0 Championship - Round 7 - Okayama - Race
UID:08476878-dfb1-4063-89dc-2dacbe9a64da-Race
END:VEVENT
BEGIN:VEVENT
DESCRIPTION:Apex Racing League \nARA Formula Renault 2.0 Championship \nRo
 und 8 - Long Beach \nPractice
DTEND:20211113T200000Z
DTSTAMP:20260424T135042Z
DTSTART:20211113T180000Z
GEO:33.764314;-118.191760
LOCATION:Long Beach Street Circuit
ORGANIZER:mailto:support@xtremescoring.com
SEQUENCE:0
SUMMARY:ARA Formula Renault 2.0 Championship - Round 8 - Long Beach - Prac
 tice
UID:814480d2-3e9c-456f-9abf-5954028e3c48-Practice
END:VEVENT
BEGIN:VEVENT
DESCRIPTION:Apex Racing League \nARA Formula Renault 2.0 Championship \nRo
 und 8 - Long Beach \nQualify
DTEND:20211113T201000Z
DTSTAMP:20260424T135042Z
DTSTART:20211113T200000Z
GEO:33.764314;-118.191760
LOCATION:Long Beach Street Circuit
ORGANIZER:mailto:support@xtremescoring.com
SEQUENCE:0
SUMMARY:ARA Formula Renault 2.0 Championship - Round 8 - Long Beach - Qual
 ify
UID:814480d2-3e9c-456f-9abf-5954028e3c48-Qualify
END:VEVENT
BEGIN:VEVENT
DESCRIPTION:Apex Racing League \nARA Formula Renault 2.0 Championship \nRo
 und 8 - Long Beach \nRace
DTEND:20211113T210000Z
DTSTAMP:20260424T135042Z
DTSTART:20211113T201000Z
GEO:33.764314;-118.191760
LOCATION:Long Beach Street Circuit
ORGANIZER:mailto:support@xtremescoring.com
SEQUENCE:0
SUMMARY:ARA Formula Renault 2.0 Championship - Round 8 - Long Beach - Race
UID:814480d2-3e9c-456f-9abf-5954028e3c48-Race
END:VEVENT
END:VCALENDAR
