BEGIN:VCALENDAR
METHOD:REQUEST
PRODID:-//github.com/rianjs/ical.net//NONSGML ical.net 4.0//EN
VERSION:2.0
BEGIN:VEVENT
DESCRIPTION:GT Akadem?an \n?slandsmeistaram?t ? Hermikappakstri \nSpa Kapp
 aksturinn \nPractice
DTEND:20251120T200000Z
DTSTAMP:20260421T183559Z
DTSTART:20251120T190000Z
GEO:50.436912;5.969856
LOCATION:Circuit de Spa-Francorchamps
ORGANIZER:mailto:support@xtremescoring.com
SEQUENCE:0
SUMMARY:?slandsmeistaram?t ? Hermikappakstri - Spa Kappaksturinn - Practice
UID:cfb638c1-7d52-4999-9e5b-a58b595a8b61-Practice
END:VEVENT
BEGIN:VEVENT
DESCRIPTION:GT Akadem?an \n?slandsmeistaram?t ? Hermikappakstri \nSpa Kapp
 aksturinn \nQualify
DTEND:20251120T202000Z
DTSTAMP:20260421T183559Z
DTSTART:20251120T200000Z
GEO:50.436912;5.969856
LOCATION:Circuit de Spa-Francorchamps
ORGANIZER:mailto:support@xtremescoring.com
SEQUENCE:0
SUMMARY:?slandsmeistaram?t ? Hermikappakstri - Spa Kappaksturinn - Qualify
UID:cfb638c1-7d52-4999-9e5b-a58b595a8b61-Qualify
END:VEVENT
BEGIN:VEVENT
DESCRIPTION:GT Akadem?an \n?slandsmeistaram?t ? Hermikappakstri \nSpa Kapp
 aksturinn \nRace
DTEND:20251120T213000Z
DTSTAMP:20260421T183559Z
DTSTART:20251120T202000Z
GEO:50.436912;5.969856
LOCATION:Circuit de Spa-Francorchamps
ORGANIZER:mailto:support@xtremescoring.com
SEQUENCE:0
SUMMARY:?slandsmeistaram?t ? Hermikappakstri - Spa Kappaksturinn - Race
UID:cfb638c1-7d52-4999-9e5b-a58b595a8b61-Race
END:VEVENT
BEGIN:VEVENT
DESCRIPTION:GT Akadem?an \n?slandsmeistaram?t ? Hermikappakstri \nOulton P
 ark Kappaksturinn \nPractice
DTEND:20251204T200000Z
DTSTAMP:20260421T183559Z
DTSTART:20251204T190000Z
GEO:53.175139;-2.622580
LOCATION:Oulton Park Circuit
ORGANIZER:mailto:support@xtremescoring.com
SEQUENCE:0
SUMMARY:?slandsmeistaram?t ? Hermikappakstri - Oulton Park Kappaksturinn -
  Practice
UID:f28e08a7-278e-4cab-8dae-fd28ad25e60c-Practice
END:VEVENT
BEGIN:VEVENT
DESCRIPTION:GT Akadem?an \n?slandsmeistaram?t ? Hermikappakstri \nOulton P
 ark Kappaksturinn \nQualify
DTEND:20251204T202000Z
DTSTAMP:20260421T183559Z
DTSTART:20251204T200000Z
GEO:53.175139;-2.622580
LOCATION:Oulton Park Circuit
ORGANIZER:mailto:support@xtremescoring.com
SEQUENCE:0
SUMMARY:?slandsmeistaram?t ? Hermikappakstri - Oulton Park Kappaksturinn -
  Qualify
UID:f28e08a7-278e-4cab-8dae-fd28ad25e60c-Qualify
END:VEVENT
BEGIN:VEVENT
DESCRIPTION:GT Akadem?an \n?slandsmeistaram?t ? Hermikappakstri \nOulton P
 ark Kappaksturinn \nRace
DTEND:20251204T213000Z
DTSTAMP:20260421T183559Z
DTSTART:20251204T202000Z
GEO:53.175139;-2.622580
LOCATION:Oulton Park Circuit
ORGANIZER:mailto:support@xtremescoring.com
SEQUENCE:0
SUMMARY:?slandsmeistaram?t ? Hermikappakstri - Oulton Park Kappaksturinn -
  Race
UID:f28e08a7-278e-4cab-8dae-fd28ad25e60c-Race
END:VEVENT
BEGIN:VEVENT
DESCRIPTION:GT Akadem?an \n?slandsmeistaram?t ? Hermikappakstri \nFuji Kap
 paksturinn \nPractice
DTEND:20260115T200000Z
DTSTAMP:20260421T183559Z
DTSTART:20260115T190000Z
GEO:35.371700;138.926700
LOCATION:Fuji International Speedway
ORGANIZER:mailto:support@xtremescoring.com
SEQUENCE:0
SUMMARY:?slandsmeistaram?t ? Hermikappakstri - Fuji Kappaksturinn - Practi
 ce
UID:ab921818-b31a-4343-b286-ae61bd9abdcc-Practice
END:VEVENT
BEGIN:VEVENT
DESCRIPTION:GT Akadem?an \n?slandsmeistaram?t ? Hermikappakstri \nFuji Kap
 paksturinn \nQualify
DTEND:20260115T202000Z
DTSTAMP:20260421T183559Z
DTSTART:20260115T200000Z
GEO:35.371700;138.926700
LOCATION:Fuji International Speedway
ORGANIZER:mailto:support@xtremescoring.com
SEQUENCE:0
SUMMARY:?slandsmeistaram?t ? Hermikappakstri - Fuji Kappaksturinn - Qualify
UID:ab921818-b31a-4343-b286-ae61bd9abdcc-Qualify
END:VEVENT
BEGIN:VEVENT
DESCRIPTION:GT Akadem?an \n?slandsmeistaram?t ? Hermikappakstri \nFuji Kap
 paksturinn \nRace
DTEND:20260115T213000Z
DTSTAMP:20260421T183559Z
DTSTART:20260115T202000Z
GEO:35.371700;138.926700
LOCATION:Fuji International Speedway
ORGANIZER:mailto:support@xtremescoring.com
SEQUENCE:0
SUMMARY:?slandsmeistaram?t ? Hermikappakstri - Fuji Kappaksturinn - Race
UID:ab921818-b31a-4343-b286-ae61bd9abdcc-Race
END:VEVENT
BEGIN:VEVENT
DESCRIPTION:GT Akadem?an \n?slandsmeistaram?t ? Hermikappakstri \nLong Bea
 ch kappaksturinn \nPractice
DTEND:20260212T200000Z
DTSTAMP:20260421T183559Z
DTSTART:20260212T190000Z
GEO:33.764314;-118.191760
LOCATION:Long Beach Street Circuit
ORGANIZER:mailto:support@xtremescoring.com
SEQUENCE:0
SUMMARY:?slandsmeistaram?t ? Hermikappakstri - Long Beach kappaksturinn - 
 Practice
UID:506d1402-ccdd-440a-9761-ac211ebb0047-Practice
END:VEVENT
BEGIN:VEVENT
DESCRIPTION:GT Akadem?an \n?slandsmeistaram?t ? Hermikappakstri \nLong Bea
 ch kappaksturinn \nQualify
DTEND:20260212T202000Z
DTSTAMP:20260421T183559Z
DTSTART:20260212T200000Z
GEO:33.764314;-118.191760
LOCATION:Long Beach Street Circuit
ORGANIZER:mailto:support@xtremescoring.com
SEQUENCE:0
SUMMARY:?slandsmeistaram?t ? Hermikappakstri - Long Beach kappaksturinn - 
 Qualify
UID:506d1402-ccdd-440a-9761-ac211ebb0047-Qualify
END:VEVENT
BEGIN:VEVENT
DESCRIPTION:GT Akadem?an \n?slandsmeistaram?t ? Hermikappakstri \nLong Bea
 ch kappaksturinn \nRace
DTEND:20260212T225000Z
DTSTAMP:20260421T183559Z
DTSTART:20260212T202000Z
GEO:33.764314;-118.191760
LOCATION:Long Beach Street Circuit
ORGANIZER:mailto:support@xtremescoring.com
SEQUENCE:0
SUMMARY:?slandsmeistaram?t ? Hermikappakstri - Long Beach kappaksturinn - 
 Race
UID:506d1402-ccdd-440a-9761-ac211ebb0047-Race
END:VEVENT
BEGIN:VEVENT
DESCRIPTION:GT Akadem?an \n?slandsmeistaram?t ? Hermikappakstri \nLaguna S
 eca Kappaksturinn \nPractice
DTEND:20260312T200000Z
DTSTAMP:20260421T183559Z
DTSTART:20260312T190000Z
GEO:36.584290;-121.755658
LOCATION:WeatherTech Raceway at Laguna Seca
ORGANIZER:mailto:support@xtremescoring.com
SEQUENCE:0
SUMMARY:?slandsmeistaram?t ? Hermikappakstri - Laguna Seca Kappaksturinn -
  Practice
UID:ebdaffac-6814-450a-8f6f-2e2138cffcd2-Practice
END:VEVENT
BEGIN:VEVENT
DESCRIPTION:GT Akadem?an \n?slandsmeistaram?t ? Hermikappakstri \nLaguna S
 eca Kappaksturinn \nQualify
DTEND:20260312T202000Z
DTSTAMP:20260421T183559Z
DTSTART:20260312T200000Z
GEO:36.584290;-121.755658
LOCATION:WeatherTech Raceway at Laguna Seca
ORGANIZER:mailto:support@xtremescoring.com
SEQUENCE:0
SUMMARY:?slandsmeistaram?t ? Hermikappakstri - Laguna Seca Kappaksturinn -
  Qualify
UID:ebdaffac-6814-450a-8f6f-2e2138cffcd2-Qualify
END:VEVENT
BEGIN:VEVENT
DESCRIPTION:GT Akadem?an \n?slandsmeistaram?t ? Hermikappakstri \nLaguna S
 eca Kappaksturinn \nRace
DTEND:20260312T212000Z
DTSTAMP:20260421T183559Z
DTSTART:20260312T202000Z
GEO:36.584290;-121.755658
LOCATION:WeatherTech Raceway at Laguna Seca
ORGANIZER:mailto:support@xtremescoring.com
SEQUENCE:0
SUMMARY:?slandsmeistaram?t ? Hermikappakstri - Laguna Seca Kappaksturinn -
  Race
UID:ebdaffac-6814-450a-8f6f-2e2138cffcd2-Race
END:VEVENT
BEGIN:VEVENT
DESCRIPTION:GT Akadem?an \n?slandsmeistaram?t ? Hermikappakstri \nInterlag
 os Kappaksturinn \nPractice
DTEND:20260402T200000Z
DTSTAMP:20260421T183559Z
DTSTART:20260402T190000Z
GEO:-23.701185;-46.700148
LOCATION:Aut?dromo Jos? Carlos Pace
ORGANIZER:mailto:support@xtremescoring.com
SEQUENCE:0
SUMMARY:?slandsmeistaram?t ? Hermikappakstri - Interlagos Kappaksturinn - 
 Practice
UID:9c5888e3-ac72-4d5e-825f-03a7b73a1d68-Practice
END:VEVENT
BEGIN:VEVENT
DESCRIPTION:GT Akadem?an \n?slandsmeistaram?t ? Hermikappakstri \nInterlag
 os Kappaksturinn \nQualify
DTEND:20260402T202000Z
DTSTAMP:20260421T183559Z
DTSTART:20260402T200000Z
GEO:-23.701185;-46.700148
LOCATION:Aut?dromo Jos? Carlos Pace
ORGANIZER:mailto:support@xtremescoring.com
SEQUENCE:0
SUMMARY:?slandsmeistaram?t ? Hermikappakstri - Interlagos Kappaksturinn - 
 Qualify
UID:9c5888e3-ac72-4d5e-825f-03a7b73a1d68-Qualify
END:VEVENT
BEGIN:VEVENT
DESCRIPTION:GT Akadem?an \n?slandsmeistaram?t ? Hermikappakstri \nInterlag
 os Kappaksturinn \nRace
DTEND:20260402T213000Z
DTSTAMP:20260421T183559Z
DTSTART:20260402T202000Z
GEO:-23.701185;-46.700148
LOCATION:Aut?dromo Jos? Carlos Pace
ORGANIZER:mailto:support@xtremescoring.com
SEQUENCE:0
SUMMARY:?slandsmeistaram?t ? Hermikappakstri - Interlagos Kappaksturinn - 
 Race
UID:9c5888e3-ac72-4d5e-825f-03a7b73a1d68-Race
END:VEVENT
END:VCALENDAR
