BEGIN:VCALENDAR
METHOD:REQUEST
PRODID:-//github.com/rianjs/ical.net//NONSGML ical.net 4.0//EN
VERSION:2.0
BEGIN:VEVENT
DESCRIPTION:Simpit Road Series \nThe Simpit Road Series \nSilverstone Circ
 uit \nPractice
DTEND:20260322T185000Z
DTSTAMP:20260424T224456Z
DTSTART:20260322T180000Z
GEO:52.073301;-1.016858
LOCATION:Silverstone Circuit
ORGANIZER:mailto:support@xtremescoring.com
SEQUENCE:0
SUMMARY:The Simpit Road Series - Silverstone Circuit - Practice
UID:4b16200f-8cfe-4270-b295-e79204d327fd-Practice
END:VEVENT
BEGIN:VEVENT
DESCRIPTION:Simpit Road Series \nThe Simpit Road Series \nSilverstone Circ
 uit \nQualify
DTEND:20260322T190000Z
DTSTAMP:20260424T224456Z
DTSTART:20260322T185000Z
GEO:52.073301;-1.016858
LOCATION:Silverstone Circuit
ORGANIZER:mailto:support@xtremescoring.com
SEQUENCE:0
SUMMARY:The Simpit Road Series - Silverstone Circuit - Qualify
UID:4b16200f-8cfe-4270-b295-e79204d327fd-Qualify
END:VEVENT
BEGIN:VEVENT
DESCRIPTION:Simpit Road Series \nThe Simpit Road Series \nSilverstone Circ
 uit \nRace
DTEND:20260322T200000Z
DTSTAMP:20260424T224456Z
DTSTART:20260322T190000Z
GEO:52.073301;-1.016858
LOCATION:Silverstone Circuit
ORGANIZER:mailto:support@xtremescoring.com
SEQUENCE:0
SUMMARY:The Simpit Road Series - Silverstone Circuit - Race
UID:4b16200f-8cfe-4270-b295-e79204d327fd-Race
END:VEVENT
BEGIN:VEVENT
DESCRIPTION:Simpit Road Series \nThe Simpit Road Series \nSebring Internat
 ional Raceway \nPractice
DTEND:20260329T185000Z
DTSTAMP:20260424T224456Z
DTSTART:20260329T180000Z
GEO:27.455013;-81.351874
LOCATION:Sebring International Raceway
ORGANIZER:mailto:support@xtremescoring.com
SEQUENCE:0
SUMMARY:The Simpit Road Series - Sebring International Raceway - Practice
UID:e4c762d2-ad7b-4955-ad57-ad3d0c9d5691-Practice
END:VEVENT
BEGIN:VEVENT
DESCRIPTION:Simpit Road Series \nThe Simpit Road Series \nSebring Internat
 ional Raceway \nQualify
DTEND:20260329T190000Z
DTSTAMP:20260424T224456Z
DTSTART:20260329T185000Z
GEO:27.455013;-81.351874
LOCATION:Sebring International Raceway
ORGANIZER:mailto:support@xtremescoring.com
SEQUENCE:0
SUMMARY:The Simpit Road Series - Sebring International Raceway - Qualify
UID:e4c762d2-ad7b-4955-ad57-ad3d0c9d5691-Qualify
END:VEVENT
BEGIN:VEVENT
DESCRIPTION:Simpit Road Series \nThe Simpit Road Series \nSebring Internat
 ional Raceway \nRace
DTEND:20260329T200000Z
DTSTAMP:20260424T224456Z
DTSTART:20260329T190000Z
GEO:27.455013;-81.351874
LOCATION:Sebring International Raceway
ORGANIZER:mailto:support@xtremescoring.com
SEQUENCE:0
SUMMARY:The Simpit Road Series - Sebring International Raceway - Race
UID:e4c762d2-ad7b-4955-ad57-ad3d0c9d5691-Race
END:VEVENT
BEGIN:VEVENT
DESCRIPTION:Simpit Road Series \nThe Simpit Road Series \nAlgarve Internat
 ional Circuit \nPractice
DTEND:20260412T185000Z
DTSTAMP:20260424T224456Z
DTSTART:20260412T180000Z
GEO:37.232267;-8.630063
LOCATION:Algarve International Circuit
ORGANIZER:mailto:support@xtremescoring.com
SEQUENCE:0
SUMMARY:The Simpit Road Series - Algarve International Circuit - Practice
UID:8436d48f-5e46-4567-98bb-698631f57e5e-Practice
END:VEVENT
BEGIN:VEVENT
DESCRIPTION:Simpit Road Series \nThe Simpit Road Series \nAlgarve Internat
 ional Circuit \nQualify
DTEND:20260412T190000Z
DTSTAMP:20260424T224456Z
DTSTART:20260412T185000Z
GEO:37.232267;-8.630063
LOCATION:Algarve International Circuit
ORGANIZER:mailto:support@xtremescoring.com
SEQUENCE:0
SUMMARY:The Simpit Road Series - Algarve International Circuit - Qualify
UID:8436d48f-5e46-4567-98bb-698631f57e5e-Qualify
END:VEVENT
BEGIN:VEVENT
DESCRIPTION:Simpit Road Series \nThe Simpit Road Series \nAlgarve Internat
 ional Circuit \nRace
DTEND:20260412T200000Z
DTSTAMP:20260424T224456Z
DTSTART:20260412T190000Z
GEO:37.232267;-8.630063
LOCATION:Algarve International Circuit
ORGANIZER:mailto:support@xtremescoring.com
SEQUENCE:0
SUMMARY:The Simpit Road Series - Algarve International Circuit - Race
UID:8436d48f-5e46-4567-98bb-698631f57e5e-Race
END:VEVENT
BEGIN:VEVENT
DESCRIPTION:Simpit Road Series \nThe Simpit Road Series \nAutodromo Intern
 azionale del Mugello \nPractice
DTEND:20260419T185000Z
DTSTAMP:20260424T224456Z
DTSTART:20260419T180000Z
GEO:43.997595;11.371478
LOCATION:Autodromo Internazionale del Mugello
ORGANIZER:mailto:support@xtremescoring.com
SEQUENCE:0
SUMMARY:The Simpit Road Series - Autodromo Internazionale del Mugello - Pr
 actice
UID:fa14dd04-bbac-4557-8f73-dd390598d729-Practice
END:VEVENT
BEGIN:VEVENT
DESCRIPTION:Simpit Road Series \nThe Simpit Road Series \nAutodromo Intern
 azionale del Mugello \nQualify
DTEND:20260419T190000Z
DTSTAMP:20260424T224456Z
DTSTART:20260419T185000Z
GEO:43.997595;11.371478
LOCATION:Autodromo Internazionale del Mugello
ORGANIZER:mailto:support@xtremescoring.com
SEQUENCE:0
SUMMARY:The Simpit Road Series - Autodromo Internazionale del Mugello - Qu
 alify
UID:fa14dd04-bbac-4557-8f73-dd390598d729-Qualify
END:VEVENT
BEGIN:VEVENT
DESCRIPTION:Simpit Road Series \nThe Simpit Road Series \nAutodromo Intern
 azionale del Mugello \nRace
DTEND:20260419T200000Z
DTSTAMP:20260424T224456Z
DTSTART:20260419T190000Z
GEO:43.997595;11.371478
LOCATION:Autodromo Internazionale del Mugello
ORGANIZER:mailto:support@xtremescoring.com
SEQUENCE:0
SUMMARY:The Simpit Road Series - Autodromo Internazionale del Mugello - Ra
 ce
UID:fa14dd04-bbac-4557-8f73-dd390598d729-Race
END:VEVENT
BEGIN:VEVENT
DESCRIPTION:Simpit Road Series \nThe Simpit Road Series \nAutodromo Intern
 azionale Enzo e Dino Ferrari \nPractice
DTEND:20260426T185000Z
DTSTAMP:20260424T224456Z
DTSTART:20260426T180000Z
GEO:44.344358;11.717198
LOCATION:Autodromo Internazionale Enzo e Dino Ferrari
ORGANIZER:mailto:support@xtremescoring.com
SEQUENCE:0
SUMMARY:The Simpit Road Series - Autodromo Internazionale Enzo e Dino Ferr
 ari - Practice
UID:aa7a299f-a4ed-4b4e-9cfa-14acfe3511d2-Practice
END:VEVENT
BEGIN:VEVENT
DESCRIPTION:Simpit Road Series \nThe Simpit Road Series \nAutodromo Intern
 azionale Enzo e Dino Ferrari \nQualify
DTEND:20260426T190000Z
DTSTAMP:20260424T224456Z
DTSTART:20260426T185000Z
GEO:44.344358;11.717198
LOCATION:Autodromo Internazionale Enzo e Dino Ferrari
ORGANIZER:mailto:support@xtremescoring.com
SEQUENCE:0
SUMMARY:The Simpit Road Series - Autodromo Internazionale Enzo e Dino Ferr
 ari - Qualify
UID:aa7a299f-a4ed-4b4e-9cfa-14acfe3511d2-Qualify
END:VEVENT
BEGIN:VEVENT
DESCRIPTION:Simpit Road Series \nThe Simpit Road Series \nAutodromo Intern
 azionale Enzo e Dino Ferrari \nRace
DTEND:20260426T200000Z
DTSTAMP:20260424T224456Z
DTSTART:20260426T190000Z
GEO:44.344358;11.717198
LOCATION:Autodromo Internazionale Enzo e Dino Ferrari
ORGANIZER:mailto:support@xtremescoring.com
SEQUENCE:0
SUMMARY:The Simpit Road Series - Autodromo Internazionale Enzo e Dino Ferr
 ari - Race
UID:aa7a299f-a4ed-4b4e-9cfa-14acfe3511d2-Race
END:VEVENT
BEGIN:VEVENT
DESCRIPTION:Simpit Road Series \nThe Simpit Road Series \nWeatherTech Race
 way at Laguna Seca \nPractice
DTEND:20260503T185000Z
DTSTAMP:20260424T224456Z
DTSTART:20260503T180000Z
GEO:36.584290;-121.755658
LOCATION:WeatherTech Raceway at Laguna Seca
ORGANIZER:mailto:support@xtremescoring.com
SEQUENCE:0
SUMMARY:The Simpit Road Series - WeatherTech Raceway at Laguna Seca - Prac
 tice
UID:9a9ca309-893a-4d0e-a701-7077ecb1bb5f-Practice
END:VEVENT
BEGIN:VEVENT
DESCRIPTION:Simpit Road Series \nThe Simpit Road Series \nWeatherTech Race
 way at Laguna Seca \nQualify
DTEND:20260503T190000Z
DTSTAMP:20260424T224456Z
DTSTART:20260503T185000Z
GEO:36.584290;-121.755658
LOCATION:WeatherTech Raceway at Laguna Seca
ORGANIZER:mailto:support@xtremescoring.com
SEQUENCE:0
SUMMARY:The Simpit Road Series - WeatherTech Raceway at Laguna Seca - Qual
 ify
UID:9a9ca309-893a-4d0e-a701-7077ecb1bb5f-Qualify
END:VEVENT
BEGIN:VEVENT
DESCRIPTION:Simpit Road Series \nThe Simpit Road Series \nWeatherTech Race
 way at Laguna Seca \nRace
DTEND:20260503T200000Z
DTSTAMP:20260424T224456Z
DTSTART:20260503T190000Z
GEO:36.584290;-121.755658
LOCATION:WeatherTech Raceway at Laguna Seca
ORGANIZER:mailto:support@xtremescoring.com
SEQUENCE:0
SUMMARY:The Simpit Road Series - WeatherTech Raceway at Laguna Seca - Race
UID:9a9ca309-893a-4d0e-a701-7077ecb1bb5f-Race
END:VEVENT
BEGIN:VEVENT
DESCRIPTION:Simpit Road Series \nThe Simpit Road Series \nSuzuka Internati
 onal \nPractice
DTEND:20260517T185000Z
DTSTAMP:20260424T224456Z
DTSTART:20260517T180000Z
GEO:34.845594;136.536758
LOCATION:Suzuka International Racing Course
ORGANIZER:mailto:support@xtremescoring.com
SEQUENCE:0
SUMMARY:The Simpit Road Series - Suzuka International - Practice
UID:b9593e42-9dc3-445f-9fd1-83d9e65a57fd-Practice
END:VEVENT
BEGIN:VEVENT
DESCRIPTION:Simpit Road Series \nThe Simpit Road Series \nSuzuka Internati
 onal \nQualify
DTEND:20260517T190000Z
DTSTAMP:20260424T224456Z
DTSTART:20260517T185000Z
GEO:34.845594;136.536758
LOCATION:Suzuka International Racing Course
ORGANIZER:mailto:support@xtremescoring.com
SEQUENCE:0
SUMMARY:The Simpit Road Series - Suzuka International - Qualify
UID:b9593e42-9dc3-445f-9fd1-83d9e65a57fd-Qualify
END:VEVENT
BEGIN:VEVENT
DESCRIPTION:Simpit Road Series \nThe Simpit Road Series \nSuzuka Internati
 onal \nRace
DTEND:20260517T200000Z
DTSTAMP:20260424T224456Z
DTSTART:20260517T190000Z
GEO:34.845594;136.536758
LOCATION:Suzuka International Racing Course
ORGANIZER:mailto:support@xtremescoring.com
SEQUENCE:0
SUMMARY:The Simpit Road Series - Suzuka International - Race
UID:b9593e42-9dc3-445f-9fd1-83d9e65a57fd-Race
END:VEVENT
BEGIN:VEVENT
DESCRIPTION:Simpit Road Series \nThe Simpit Road Series \nCircuit de Never
 s Magny-Cours \nPractice
DTEND:20260524T185000Z
DTSTAMP:20260424T224456Z
DTSTART:20260524T180000Z
GEO:46.863458;3.163344
LOCATION:Circuit de Nevers Magny-Cours
ORGANIZER:mailto:support@xtremescoring.com
SEQUENCE:0
SUMMARY:The Simpit Road Series - Circuit de Nevers Magny-Cours - Practice
UID:3ea8f9df-816c-45ef-9349-9214a8d85551-Practice
END:VEVENT
BEGIN:VEVENT
DESCRIPTION:Simpit Road Series \nThe Simpit Road Series \nCircuit de Never
 s Magny-Cours \nQualify
DTEND:20260524T190000Z
DTSTAMP:20260424T224456Z
DTSTART:20260524T185000Z
GEO:46.863458;3.163344
LOCATION:Circuit de Nevers Magny-Cours
ORGANIZER:mailto:support@xtremescoring.com
SEQUENCE:0
SUMMARY:The Simpit Road Series - Circuit de Nevers Magny-Cours - Qualify
UID:3ea8f9df-816c-45ef-9349-9214a8d85551-Qualify
END:VEVENT
BEGIN:VEVENT
DESCRIPTION:Simpit Road Series \nThe Simpit Road Series \nCircuit de Never
 s Magny-Cours \nRace
DTEND:20260524T200000Z
DTSTAMP:20260424T224456Z
DTSTART:20260524T190000Z
GEO:46.863458;3.163344
LOCATION:Circuit de Nevers Magny-Cours
ORGANIZER:mailto:support@xtremescoring.com
SEQUENCE:0
SUMMARY:The Simpit Road Series - Circuit de Nevers Magny-Cours - Race
UID:3ea8f9df-816c-45ef-9349-9214a8d85551-Race
END:VEVENT
BEGIN:VEVENT
DESCRIPTION:Simpit Road Series \nThe Simpit Road Series \nThruxton Circuit
  \nPractice
DTEND:20260531T185000Z
DTSTAMP:20260424T224456Z
DTSTART:20260531T180000Z
GEO:51.207660;-1.608988
LOCATION:Thruxton Circuit
ORGANIZER:mailto:support@xtremescoring.com
SEQUENCE:0
SUMMARY:The Simpit Road Series - Thruxton Circuit - Practice
UID:8352567c-6d6f-43d8-bcf8-fddc6a872c3b-Practice
END:VEVENT
BEGIN:VEVENT
DESCRIPTION:Simpit Road Series \nThe Simpit Road Series \nThruxton Circuit
  \nQualify
DTEND:20260531T190000Z
DTSTAMP:20260424T224456Z
DTSTART:20260531T185000Z
GEO:51.207660;-1.608988
LOCATION:Thruxton Circuit
ORGANIZER:mailto:support@xtremescoring.com
SEQUENCE:0
SUMMARY:The Simpit Road Series - Thruxton Circuit - Qualify
UID:8352567c-6d6f-43d8-bcf8-fddc6a872c3b-Qualify
END:VEVENT
BEGIN:VEVENT
DESCRIPTION:Simpit Road Series \nThe Simpit Road Series \nThruxton Circuit
  \nRace
DTEND:20260531T200000Z
DTSTAMP:20260424T224456Z
DTSTART:20260531T190000Z
GEO:51.207660;-1.608988
LOCATION:Thruxton Circuit
ORGANIZER:mailto:support@xtremescoring.com
SEQUENCE:0
SUMMARY:The Simpit Road Series - Thruxton Circuit - Race
UID:8352567c-6d6f-43d8-bcf8-fddc6a872c3b-Race
END:VEVENT
BEGIN:VEVENT
DESCRIPTION:Simpit Road Series \nThe Simpit Road Series \nRoad America \nP
 ractice
DTEND:20260607T185000Z
DTSTAMP:20260424T224456Z
DTSTART:20260607T180000Z
GEO:43.797510;-87.992157
LOCATION:Road America
ORGANIZER:mailto:support@xtremescoring.com
SEQUENCE:0
SUMMARY:The Simpit Road Series - Road America - Practice
UID:340c466a-31cc-4eef-a530-4ace8508e6ef-Practice
END:VEVENT
BEGIN:VEVENT
DESCRIPTION:Simpit Road Series \nThe Simpit Road Series \nRoad America \nQ
 ualify
DTEND:20260607T190000Z
DTSTAMP:20260424T224456Z
DTSTART:20260607T185000Z
GEO:43.797510;-87.992157
LOCATION:Road America
ORGANIZER:mailto:support@xtremescoring.com
SEQUENCE:0
SUMMARY:The Simpit Road Series - Road America - Qualify
UID:340c466a-31cc-4eef-a530-4ace8508e6ef-Qualify
END:VEVENT
BEGIN:VEVENT
DESCRIPTION:Simpit Road Series \nThe Simpit Road Series \nRoad America \nR
 ace
DTEND:20260607T200000Z
DTSTAMP:20260424T224456Z
DTSTART:20260607T190000Z
GEO:43.797510;-87.992157
LOCATION:Road America
ORGANIZER:mailto:support@xtremescoring.com
SEQUENCE:0
SUMMARY:The Simpit Road Series - Road America - Race
UID:340c466a-31cc-4eef-a530-4ace8508e6ef-Race
END:VEVENT
END:VCALENDAR
