BEGIN:VCALENDAR
METHOD:REQUEST
PRODID:-//github.com/rianjs/ical.net//NONSGML ical.net 4.0//EN
VERSION:2.0
BEGIN:VEVENT
DESCRIPTION:PAZA Production \n2024-3 - Odyssey TCR Series powered by SAMSU
 NG SSD \n1. fordul? \nPractice
DTEND:20240506T190000Z
DTSTAMP:20260419T213402Z
DTSTART:20240506T170000Z
GEO:47.581860;19.250570
LOCATION:Hungaroring
ORGANIZER:mailto:support@xtremescoring.com
SEQUENCE:0
SUMMARY:2024-3 - Odyssey TCR Series powered by SAMSUNG SSD - 1. fordul? - 
 Practice
UID:95d1dbb6-f319-4a61-a461-2ab39c913291-Practice
END:VEVENT
BEGIN:VEVENT
DESCRIPTION:PAZA Production \n2024-3 - Odyssey TCR Series powered by SAMSU
 NG SSD \n1. fordul? \nQualify
DTEND:20240506T192000Z
DTSTAMP:20260419T213402Z
DTSTART:20240506T190000Z
GEO:47.581860;19.250570
LOCATION:Hungaroring
ORGANIZER:mailto:support@xtremescoring.com
SEQUENCE:0
SUMMARY:2024-3 - Odyssey TCR Series powered by SAMSUNG SSD - 1. fordul? - 
 Qualify
UID:95d1dbb6-f319-4a61-a461-2ab39c913291-Qualify
END:VEVENT
BEGIN:VEVENT
DESCRIPTION:PAZA Production \n2024-3 - Odyssey TCR Series powered by SAMSU
 NG SSD \n1. fordul? \nRace
DTEND:20240506T205000Z
DTSTAMP:20260419T213402Z
DTSTART:20240506T192000Z
GEO:47.581860;19.250570
LOCATION:Hungaroring
ORGANIZER:mailto:support@xtremescoring.com
SEQUENCE:0
SUMMARY:2024-3 - Odyssey TCR Series powered by SAMSUNG SSD - 1. fordul? - 
 Race
UID:95d1dbb6-f319-4a61-a461-2ab39c913291-Race
END:VEVENT
BEGIN:VEVENT
DESCRIPTION:PAZA Production \n2024-3 - Odyssey TCR Series powered by SAMSU
 NG SSD \n2. fordul? \nPractice
DTEND:20240513T190000Z
DTSTAMP:20260419T213402Z
DTSTART:20240513T170000Z
GEO:34.845594;136.536758
LOCATION:Suzuka International Racing Course
ORGANIZER:mailto:support@xtremescoring.com
SEQUENCE:0
SUMMARY:2024-3 - Odyssey TCR Series powered by SAMSUNG SSD - 2. fordul? - 
 Practice
UID:76cc1bae-903b-4880-9980-3c0fb0d2bfe7-Practice
END:VEVENT
BEGIN:VEVENT
DESCRIPTION:PAZA Production \n2024-3 - Odyssey TCR Series powered by SAMSU
 NG SSD \n2. fordul? \nQualify
DTEND:20240513T192000Z
DTSTAMP:20260419T213402Z
DTSTART:20240513T190000Z
GEO:34.845594;136.536758
LOCATION:Suzuka International Racing Course
ORGANIZER:mailto:support@xtremescoring.com
SEQUENCE:0
SUMMARY:2024-3 - Odyssey TCR Series powered by SAMSUNG SSD - 2. fordul? - 
 Qualify
UID:76cc1bae-903b-4880-9980-3c0fb0d2bfe7-Qualify
END:VEVENT
BEGIN:VEVENT
DESCRIPTION:PAZA Production \n2024-3 - Odyssey TCR Series powered by SAMSU
 NG SSD \n2. fordul? \nRace
DTEND:20240513T205000Z
DTSTAMP:20260419T213402Z
DTSTART:20240513T192000Z
GEO:34.845594;136.536758
LOCATION:Suzuka International Racing Course
ORGANIZER:mailto:support@xtremescoring.com
SEQUENCE:0
SUMMARY:2024-3 - Odyssey TCR Series powered by SAMSUNG SSD - 2. fordul? - 
 Race
UID:76cc1bae-903b-4880-9980-3c0fb0d2bfe7-Race
END:VEVENT
BEGIN:VEVENT
DESCRIPTION:PAZA Production \n2024-3 - Odyssey TCR Series powered by SAMSU
 NG SSD \n3. fordul? \nPractice
DTEND:20240520T190000Z
DTSTAMP:20260419T213402Z
DTSTART:20240520T170000Z
GEO:50.333444;6.939243
LOCATION:N?rburgring Combined
ORGANIZER:mailto:support@xtremescoring.com
SEQUENCE:0
SUMMARY:2024-3 - Odyssey TCR Series powered by SAMSUNG SSD - 3. fordul? - 
 Practice
UID:19f86a28-6bf1-4d44-ac55-dc11317bed3c-Practice
END:VEVENT
BEGIN:VEVENT
DESCRIPTION:PAZA Production \n2024-3 - Odyssey TCR Series powered by SAMSU
 NG SSD \n3. fordul? \nQualify
DTEND:20240520T192000Z
DTSTAMP:20260419T213402Z
DTSTART:20240520T190000Z
GEO:50.333444;6.939243
LOCATION:N?rburgring Combined
ORGANIZER:mailto:support@xtremescoring.com
SEQUENCE:0
SUMMARY:2024-3 - Odyssey TCR Series powered by SAMSUNG SSD - 3. fordul? - 
 Qualify
UID:19f86a28-6bf1-4d44-ac55-dc11317bed3c-Qualify
END:VEVENT
BEGIN:VEVENT
DESCRIPTION:PAZA Production \n2024-3 - Odyssey TCR Series powered by SAMSU
 NG SSD \n3. fordul? \nRace
DTEND:20240520T205000Z
DTSTAMP:20260419T213402Z
DTSTART:20240520T192000Z
GEO:50.333444;6.939243
LOCATION:N?rburgring Combined
ORGANIZER:mailto:support@xtremescoring.com
SEQUENCE:0
SUMMARY:2024-3 - Odyssey TCR Series powered by SAMSUNG SSD - 3. fordul? - 
 Race
UID:19f86a28-6bf1-4d44-ac55-dc11317bed3c-Race
END:VEVENT
BEGIN:VEVENT
DESCRIPTION:PAZA Production \n2024-3 - Odyssey TCR Series powered by SAMSU
 NG SSD \n4. fordul? \nPractice
DTEND:20240527T190000Z
DTSTAMP:20260419T213402Z
DTSTART:20240527T170000Z
GEO:33.764314;-118.191760
LOCATION:Long Beach Street Circuit
ORGANIZER:mailto:support@xtremescoring.com
SEQUENCE:0
SUMMARY:2024-3 - Odyssey TCR Series powered by SAMSUNG SSD - 4. fordul? - 
 Practice
UID:1542d6c8-443e-4832-801d-ed13585241d3-Practice
END:VEVENT
BEGIN:VEVENT
DESCRIPTION:PAZA Production \n2024-3 - Odyssey TCR Series powered by SAMSU
 NG SSD \n4. fordul? \nQualify
DTEND:20240527T192000Z
DTSTAMP:20260419T213402Z
DTSTART:20240527T190000Z
GEO:33.764314;-118.191760
LOCATION:Long Beach Street Circuit
ORGANIZER:mailto:support@xtremescoring.com
SEQUENCE:0
SUMMARY:2024-3 - Odyssey TCR Series powered by SAMSUNG SSD - 4. fordul? - 
 Qualify
UID:1542d6c8-443e-4832-801d-ed13585241d3-Qualify
END:VEVENT
BEGIN:VEVENT
DESCRIPTION:PAZA Production \n2024-3 - Odyssey TCR Series powered by SAMSU
 NG SSD \n4. fordul? \nRace
DTEND:20240527T205000Z
DTSTAMP:20260419T213402Z
DTSTART:20240527T192000Z
GEO:33.764314;-118.191760
LOCATION:Long Beach Street Circuit
ORGANIZER:mailto:support@xtremescoring.com
SEQUENCE:0
SUMMARY:2024-3 - Odyssey TCR Series powered by SAMSUNG SSD - 4. fordul? - 
 Race
UID:1542d6c8-443e-4832-801d-ed13585241d3-Race
END:VEVENT
BEGIN:VEVENT
DESCRIPTION:PAZA Production \n2024-3 - Odyssey TCR Series powered by SAMSU
 NG SSD \n5. fordul? \nPractice
DTEND:20240603T190000Z
DTSTAMP:20260419T213402Z
DTSTART:20240603T170000Z
GEO:51.358105;0.253634
LOCATION:Brands Hatch Circuit
ORGANIZER:mailto:support@xtremescoring.com
SEQUENCE:0
SUMMARY:2024-3 - Odyssey TCR Series powered by SAMSUNG SSD - 5. fordul? - 
 Practice
UID:28fd9c69-8b81-4d24-9b0a-b7c941d36e19-Practice
END:VEVENT
BEGIN:VEVENT
DESCRIPTION:PAZA Production \n2024-3 - Odyssey TCR Series powered by SAMSU
 NG SSD \n5. fordul? \nQualify
DTEND:20240603T192000Z
DTSTAMP:20260419T213402Z
DTSTART:20240603T190000Z
GEO:51.358105;0.253634
LOCATION:Brands Hatch Circuit
ORGANIZER:mailto:support@xtremescoring.com
SEQUENCE:0
SUMMARY:2024-3 - Odyssey TCR Series powered by SAMSUNG SSD - 5. fordul? - 
 Qualify
UID:28fd9c69-8b81-4d24-9b0a-b7c941d36e19-Qualify
END:VEVENT
BEGIN:VEVENT
DESCRIPTION:PAZA Production \n2024-3 - Odyssey TCR Series powered by SAMSU
 NG SSD \n5. fordul? \nRace
DTEND:20240603T205000Z
DTSTAMP:20260419T213402Z
DTSTART:20240603T192000Z
GEO:51.358105;0.253634
LOCATION:Brands Hatch Circuit
ORGANIZER:mailto:support@xtremescoring.com
SEQUENCE:0
SUMMARY:2024-3 - Odyssey TCR Series powered by SAMSUNG SSD - 5. fordul? - 
 Race
UID:28fd9c69-8b81-4d24-9b0a-b7c941d36e19-Race
END:VEVENT
BEGIN:VEVENT
DESCRIPTION:PAZA Production \n2024-3 - Odyssey TCR Series powered by SAMSU
 NG SSD \n6. fordul? \nPractice
DTEND:20240610T190000Z
DTSTAMP:20260419T213402Z
DTSTART:20240610T170000Z
GEO:46.863458;3.163344
LOCATION:Circuit de Nevers Magny-Cours
ORGANIZER:mailto:support@xtremescoring.com
SEQUENCE:0
SUMMARY:2024-3 - Odyssey TCR Series powered by SAMSUNG SSD - 6. fordul? - 
 Practice
UID:e566a9a7-8dc0-48c1-979e-09f2e19a1f5f-Practice
END:VEVENT
BEGIN:VEVENT
DESCRIPTION:PAZA Production \n2024-3 - Odyssey TCR Series powered by SAMSU
 NG SSD \n6. fordul? \nQualify
DTEND:20240610T192000Z
DTSTAMP:20260419T213402Z
DTSTART:20240610T190000Z
GEO:46.863458;3.163344
LOCATION:Circuit de Nevers Magny-Cours
ORGANIZER:mailto:support@xtremescoring.com
SEQUENCE:0
SUMMARY:2024-3 - Odyssey TCR Series powered by SAMSUNG SSD - 6. fordul? - 
 Qualify
UID:e566a9a7-8dc0-48c1-979e-09f2e19a1f5f-Qualify
END:VEVENT
BEGIN:VEVENT
DESCRIPTION:PAZA Production \n2024-3 - Odyssey TCR Series powered by SAMSU
 NG SSD \n6. fordul? \nRace
DTEND:20240610T205000Z
DTSTAMP:20260419T213402Z
DTSTART:20240610T192000Z
GEO:46.863458;3.163344
LOCATION:Circuit de Nevers Magny-Cours
ORGANIZER:mailto:support@xtremescoring.com
SEQUENCE:0
SUMMARY:2024-3 - Odyssey TCR Series powered by SAMSUNG SSD - 6. fordul? - 
 Race
UID:e566a9a7-8dc0-48c1-979e-09f2e19a1f5f-Race
END:VEVENT
END:VCALENDAR
