BEGIN:VCALENDAR
METHOD:REQUEST
PRODID:-//github.com/rianjs/ical.net//NONSGML ical.net 4.0//EN
VERSION:2.0
BEGIN:VEVENT
DESCRIPTION:PAZA Production \nVSR NASCAR \n1. fordul? \nPractice
DTEND:20230605T180000Z
DTSTAMP:20260425T161118Z
DTSTART:20230605T160000Z
GEO:29.185169;-81.072722
LOCATION:Daytona International Speedway
ORGANIZER:mailto:support@xtremescoring.com
SEQUENCE:0
SUMMARY:VSR NASCAR - 1. fordul? - Practice
UID:a97f25ce-d32b-4f54-ade4-280b8df2aa7c-Practice
END:VEVENT
BEGIN:VEVENT
DESCRIPTION:PAZA Production \nVSR NASCAR \n1. fordul? \nQualify
DTEND:20230605T180500Z
DTSTAMP:20260425T161118Z
DTSTART:20230605T180000Z
GEO:29.185169;-81.072722
LOCATION:Daytona International Speedway
ORGANIZER:mailto:support@xtremescoring.com
SEQUENCE:0
SUMMARY:VSR NASCAR - 1. fordul? - Qualify
UID:a97f25ce-d32b-4f54-ade4-280b8df2aa7c-Qualify
END:VEVENT
BEGIN:VEVENT
DESCRIPTION:PAZA Production \nVSR NASCAR \n1. fordul? \nRace
DTEND:20230605T200500Z
DTSTAMP:20260425T161118Z
DTSTART:20230605T180500Z
GEO:29.185169;-81.072722
LOCATION:Daytona International Speedway
ORGANIZER:mailto:support@xtremescoring.com
SEQUENCE:0
SUMMARY:VSR NASCAR - 1. fordul? - Race
UID:a97f25ce-d32b-4f54-ade4-280b8df2aa7c-Race
END:VEVENT
BEGIN:VEVENT
DESCRIPTION:PAZA Production \nVSR NASCAR \n2. fordul? \nPractice
DTEND:20230612T180000Z
DTSTAMP:20260425T161118Z
DTSTART:20230612T160000Z
GEO:33.374870;-112.313415
LOCATION:[Legacy] Phoenix Raceway - 2008
ORGANIZER:mailto:support@xtremescoring.com
SEQUENCE:0
SUMMARY:VSR NASCAR - 2. fordul? - Practice
UID:4441108a-f37a-4ff1-a49f-651ea9e97813-Practice
END:VEVENT
BEGIN:VEVENT
DESCRIPTION:PAZA Production \nVSR NASCAR \n2. fordul? \nQualify
DTEND:20230612T180500Z
DTSTAMP:20260425T161118Z
DTSTART:20230612T180000Z
GEO:33.374870;-112.313415
LOCATION:[Legacy] Phoenix Raceway - 2008
ORGANIZER:mailto:support@xtremescoring.com
SEQUENCE:0
SUMMARY:VSR NASCAR - 2. fordul? - Qualify
UID:4441108a-f37a-4ff1-a49f-651ea9e97813-Qualify
END:VEVENT
BEGIN:VEVENT
DESCRIPTION:PAZA Production \nVSR NASCAR \n2. fordul? \nRace
DTEND:20230612T200500Z
DTSTAMP:20260425T161118Z
DTSTART:20230612T180500Z
GEO:33.374870;-112.313415
LOCATION:[Legacy] Phoenix Raceway - 2008
ORGANIZER:mailto:support@xtremescoring.com
SEQUENCE:0
SUMMARY:VSR NASCAR - 2. fordul? - Race
UID:4441108a-f37a-4ff1-a49f-651ea9e97813-Race
END:VEVENT
BEGIN:VEVENT
DESCRIPTION:PAZA Production \nVSR NASCAR \n3. fordul? \nPractice
DTEND:20230619T180000Z
DTSTAMP:20260425T161118Z
DTSTART:20230619T160000Z
GEO:33.037326;-97.284312
LOCATION:[Legacy] Texas Motor Speedway - 2009
ORGANIZER:mailto:support@xtremescoring.com
SEQUENCE:0
SUMMARY:VSR NASCAR - 3. fordul? - Practice
UID:aca642d7-9f49-4aa2-af96-d8af0069bc16-Practice
END:VEVENT
BEGIN:VEVENT
DESCRIPTION:PAZA Production \nVSR NASCAR \n3. fordul? \nQualify
DTEND:20230619T180500Z
DTSTAMP:20260425T161118Z
DTSTART:20230619T180000Z
GEO:33.037326;-97.284312
LOCATION:[Legacy] Texas Motor Speedway - 2009
ORGANIZER:mailto:support@xtremescoring.com
SEQUENCE:0
SUMMARY:VSR NASCAR - 3. fordul? - Qualify
UID:aca642d7-9f49-4aa2-af96-d8af0069bc16-Qualify
END:VEVENT
BEGIN:VEVENT
DESCRIPTION:PAZA Production \nVSR NASCAR \n3. fordul? \nRace
DTEND:20230619T200500Z
DTSTAMP:20260425T161118Z
DTSTART:20230619T180500Z
GEO:33.037326;-97.284312
LOCATION:[Legacy] Texas Motor Speedway - 2009
ORGANIZER:mailto:support@xtremescoring.com
SEQUENCE:0
SUMMARY:VSR NASCAR - 3. fordul? - Race
UID:aca642d7-9f49-4aa2-af96-d8af0069bc16-Race
END:VEVENT
BEGIN:VEVENT
DESCRIPTION:PAZA Production \nVSR NASCAR \n4. fordul? \nPractice
DTEND:20230626T180000Z
DTSTAMP:20260425T161118Z
DTSTART:20230626T160000Z
GEO:34.152190;-83.815110
LOCATION:[Legacy] Michigan International Speedway - 2009
ORGANIZER:mailto:support@xtremescoring.com
SEQUENCE:0
SUMMARY:VSR NASCAR - 4. fordul? - Practice
UID:1965e50b-17bf-4c64-be0c-eaefd2cf2860-Practice
END:VEVENT
BEGIN:VEVENT
DESCRIPTION:PAZA Production \nVSR NASCAR \n4. fordul? \nQualify
DTEND:20230626T180500Z
DTSTAMP:20260425T161118Z
DTSTART:20230626T180000Z
GEO:34.152190;-83.815110
LOCATION:[Legacy] Michigan International Speedway - 2009
ORGANIZER:mailto:support@xtremescoring.com
SEQUENCE:0
SUMMARY:VSR NASCAR - 4. fordul? - Qualify
UID:1965e50b-17bf-4c64-be0c-eaefd2cf2860-Qualify
END:VEVENT
BEGIN:VEVENT
DESCRIPTION:PAZA Production \nVSR NASCAR \n4. fordul? \nRace
DTEND:20230626T200500Z
DTSTAMP:20260425T161118Z
DTSTART:20230626T180500Z
GEO:34.152190;-83.815110
LOCATION:[Legacy] Michigan International Speedway - 2009
ORGANIZER:mailto:support@xtremescoring.com
SEQUENCE:0
SUMMARY:VSR NASCAR - 4. fordul? - Race
UID:1965e50b-17bf-4c64-be0c-eaefd2cf2860-Race
END:VEVENT
BEGIN:VEVENT
DESCRIPTION:PAZA Production \nVSR NASCAR \n5. fordul? \nPractice
DTEND:20230703T180000Z
DTSTAMP:20260425T161118Z
DTSTART:20230703T160000Z
GEO:41.054344;-75.513473
LOCATION:[Legacy] Pocono Raceway - 2009
ORGANIZER:mailto:support@xtremescoring.com
SEQUENCE:0
SUMMARY:VSR NASCAR - 5. fordul? - Practice
UID:00847400-86ac-4af3-937c-2cf249b0ae75-Practice
END:VEVENT
BEGIN:VEVENT
DESCRIPTION:PAZA Production \nVSR NASCAR \n5. fordul? \nQualify
DTEND:20230703T180500Z
DTSTAMP:20260425T161118Z
DTSTART:20230703T180000Z
GEO:41.054344;-75.513473
LOCATION:[Legacy] Pocono Raceway - 2009
ORGANIZER:mailto:support@xtremescoring.com
SEQUENCE:0
SUMMARY:VSR NASCAR - 5. fordul? - Qualify
UID:00847400-86ac-4af3-937c-2cf249b0ae75-Qualify
END:VEVENT
BEGIN:VEVENT
DESCRIPTION:PAZA Production \nVSR NASCAR \n5. fordul? \nRace
DTEND:20230703T200500Z
DTSTAMP:20260425T161118Z
DTSTART:20230703T180500Z
GEO:41.054344;-75.513473
LOCATION:[Legacy] Pocono Raceway - 2009
ORGANIZER:mailto:support@xtremescoring.com
SEQUENCE:0
SUMMARY:VSR NASCAR - 5. fordul? - Race
UID:00847400-86ac-4af3-937c-2cf249b0ae75-Race
END:VEVENT
BEGIN:VEVENT
DESCRIPTION:PAZA Production \nVSR NASCAR \n6. fordul? \nPractice
DTEND:20230710T180000Z
DTSTAMP:20260425T161118Z
DTSTART:20230710T160000Z
GEO:35.351164;-80.691266
LOCATION:Charlotte Motor Speedway
ORGANIZER:mailto:support@xtremescoring.com
SEQUENCE:0
SUMMARY:VSR NASCAR - 6. fordul? - Practice
UID:fc7f917f-5a54-4fa3-954d-99f17bddce9b-Practice
END:VEVENT
BEGIN:VEVENT
DESCRIPTION:PAZA Production \nVSR NASCAR \n6. fordul? \nQualify
DTEND:20230710T180500Z
DTSTAMP:20260425T161118Z
DTSTART:20230710T180000Z
GEO:35.351164;-80.691266
LOCATION:Charlotte Motor Speedway
ORGANIZER:mailto:support@xtremescoring.com
SEQUENCE:0
SUMMARY:VSR NASCAR - 6. fordul? - Qualify
UID:fc7f917f-5a54-4fa3-954d-99f17bddce9b-Qualify
END:VEVENT
BEGIN:VEVENT
DESCRIPTION:PAZA Production \nVSR NASCAR \n6. fordul? \nRace
DTEND:20230710T200500Z
DTSTAMP:20260425T161118Z
DTSTART:20230710T180500Z
GEO:35.351164;-80.691266
LOCATION:Charlotte Motor Speedway
ORGANIZER:mailto:support@xtremescoring.com
SEQUENCE:0
SUMMARY:VSR NASCAR - 6. fordul? - Race
UID:fc7f917f-5a54-4fa3-954d-99f17bddce9b-Race
END:VEVENT
END:VCALENDAR
