BEGIN:VCALENDAR
METHOD:REQUEST
PRODID:-//github.com/rianjs/ical.net//NONSGML ical.net 4.0//EN
VERSION:2.0
BEGIN:VEVENT
DESCRIPTION:PAZA Production \nVSR NASCAR \n1. fordul? \nPractice
DTEND:20251201T200000Z
DTSTAMP:20260421T010756Z
DTSTART:20251201T180000Z
GEO:33.037326;-97.284312
LOCATION:Texas Motor Speedway
ORGANIZER:mailto:support@xtremescoring.com
SEQUENCE:0
SUMMARY:VSR NASCAR - 1. fordul? - Practice
UID:7a49ee23-43df-4fbe-811e-0af5d2706193-Practice
END:VEVENT
BEGIN:VEVENT
DESCRIPTION:PAZA Production \nVSR NASCAR \n1. fordul? \nQualify
DTEND:20251201T200500Z
DTSTAMP:20260421T010756Z
DTSTART:20251201T200000Z
GEO:33.037326;-97.284312
LOCATION:Texas Motor Speedway
ORGANIZER:mailto:support@xtremescoring.com
SEQUENCE:0
SUMMARY:VSR NASCAR - 1. fordul? - Qualify
UID:7a49ee23-43df-4fbe-811e-0af5d2706193-Qualify
END:VEVENT
BEGIN:VEVENT
DESCRIPTION:PAZA Production \nVSR NASCAR \n1. fordul? \nRace
DTEND:20251202T092600Z
DTSTAMP:20260421T010756Z
DTSTART:20251201T200500Z
GEO:33.037326;-97.284312
LOCATION:Texas Motor Speedway
ORGANIZER:mailto:support@xtremescoring.com
SEQUENCE:0
SUMMARY:VSR NASCAR - 1. fordul? - Race
UID:7a49ee23-43df-4fbe-811e-0af5d2706193-Race
END:VEVENT
BEGIN:VEVENT
DESCRIPTION:PAZA Production \nVSR NASCAR \n2. fordul? \nPractice
DTEND:20251208T200000Z
DTSTAMP:20260421T010756Z
DTSTART:20251208T180000Z
GEO:33.374870;-112.313415
LOCATION:Phoenix Raceway
ORGANIZER:mailto:support@xtremescoring.com
SEQUENCE:0
SUMMARY:VSR NASCAR - 2. fordul? - Practice
UID:9ad3ff0c-4e2c-49c4-b73a-3f547e48460f-Practice
END:VEVENT
BEGIN:VEVENT
DESCRIPTION:PAZA Production \nVSR NASCAR \n2. fordul? \nQualify
DTEND:20251208T200500Z
DTSTAMP:20260421T010756Z
DTSTART:20251208T200000Z
GEO:33.374870;-112.313415
LOCATION:Phoenix Raceway
ORGANIZER:mailto:support@xtremescoring.com
SEQUENCE:0
SUMMARY:VSR NASCAR - 2. fordul? - Qualify
UID:9ad3ff0c-4e2c-49c4-b73a-3f547e48460f-Qualify
END:VEVENT
BEGIN:VEVENT
DESCRIPTION:PAZA Production \nVSR NASCAR \n2. fordul? \nRace
DTEND:20251209T035300Z
DTSTAMP:20260421T010756Z
DTSTART:20251208T200500Z
GEO:33.374870;-112.313415
LOCATION:Phoenix Raceway
ORGANIZER:mailto:support@xtremescoring.com
SEQUENCE:0
SUMMARY:VSR NASCAR - 2. fordul? - Race
UID:9ad3ff0c-4e2c-49c4-b73a-3f547e48460f-Race
END:VEVENT
BEGIN:VEVENT
DESCRIPTION:PAZA Production \nVSR NASCAR \n3. fordul? \nPractice
DTEND:20251215T200000Z
DTSTAMP:20260421T010756Z
DTSTART:20251215T180000Z
GEO:33.385979;-84.318471
LOCATION:EchoPark Speedway (Atlanta)
ORGANIZER:mailto:support@xtremescoring.com
SEQUENCE:0
SUMMARY:VSR NASCAR - 3. fordul? - Practice
UID:e1069de4-04f9-4604-b147-cf4adfc5fdc1-Practice
END:VEVENT
BEGIN:VEVENT
DESCRIPTION:PAZA Production \nVSR NASCAR \n3. fordul? \nQualify
DTEND:20251215T200500Z
DTSTAMP:20260421T010756Z
DTSTART:20251215T200000Z
GEO:33.385979;-84.318471
LOCATION:EchoPark Speedway (Atlanta)
ORGANIZER:mailto:support@xtremescoring.com
SEQUENCE:0
SUMMARY:VSR NASCAR - 3. fordul? - Qualify
UID:e1069de4-04f9-4604-b147-cf4adfc5fdc1-Qualify
END:VEVENT
BEGIN:VEVENT
DESCRIPTION:PAZA Production \nVSR NASCAR \n3. fordul? \nRace
DTEND:20251216T023500Z
DTSTAMP:20260421T010756Z
DTSTART:20251215T200500Z
GEO:33.385979;-84.318471
LOCATION:EchoPark Speedway (Atlanta)
ORGANIZER:mailto:support@xtremescoring.com
SEQUENCE:0
SUMMARY:VSR NASCAR - 3. fordul? - Race
UID:e1069de4-04f9-4604-b147-cf4adfc5fdc1-Race
END:VEVENT
BEGIN:VEVENT
DESCRIPTION:PAZA Production \nVSR NASCAR \n4. fordul? \nPractice
DTEND:20251222T200000Z
DTSTAMP:20260421T010756Z
DTSTART:20251222T180000Z
GEO:36.515694;-82.259161
LOCATION:Bristol Motor Speedway
ORGANIZER:mailto:support@xtremescoring.com
SEQUENCE:0
SUMMARY:VSR NASCAR - 4. fordul? - Practice
UID:914d8680-1bc6-44c8-aff6-eca7ecfa703f-Practice
END:VEVENT
BEGIN:VEVENT
DESCRIPTION:PAZA Production \nVSR NASCAR \n4. fordul? \nQualify
DTEND:20251222T200500Z
DTSTAMP:20260421T010756Z
DTSTART:20251222T200000Z
GEO:36.515694;-82.259161
LOCATION:Bristol Motor Speedway
ORGANIZER:mailto:support@xtremescoring.com
SEQUENCE:0
SUMMARY:VSR NASCAR - 4. fordul? - Qualify
UID:914d8680-1bc6-44c8-aff6-eca7ecfa703f-Qualify
END:VEVENT
BEGIN:VEVENT
DESCRIPTION:PAZA Production \nVSR NASCAR \n4. fordul? \nRace
DTEND:20251223T083500Z
DTSTAMP:20260421T010756Z
DTSTART:20251222T200500Z
GEO:36.515694;-82.259161
LOCATION:Bristol Motor Speedway
ORGANIZER:mailto:support@xtremescoring.com
SEQUENCE:0
SUMMARY:VSR NASCAR - 4. fordul? - Race
UID:914d8680-1bc6-44c8-aff6-eca7ecfa703f-Race
END:VEVENT
BEGIN:VEVENT
DESCRIPTION:PAZA Production \nVSR NASCAR \n5. fordul? (Bejgli 600) \nPract
 ice
DTEND:20251229T190000Z
DTSTAMP:20260421T010756Z
DTSTART:20251229T170000Z
GEO:35.351164;-80.691266
LOCATION:Charlotte Motor Speedway
ORGANIZER:mailto:support@xtremescoring.com
SEQUENCE:0
SUMMARY:VSR NASCAR - 5. fordul? (Bejgli 600) - Practice
UID:a22be031-eca9-430b-9967-6da7e14ce832-Practice
END:VEVENT
BEGIN:VEVENT
DESCRIPTION:PAZA Production \nVSR NASCAR \n5. fordul? (Bejgli 600) \nQuali
 fy
DTEND:20251229T190500Z
DTSTAMP:20260421T010756Z
DTSTART:20251229T190000Z
GEO:35.351164;-80.691266
LOCATION:Charlotte Motor Speedway
ORGANIZER:mailto:support@xtremescoring.com
SEQUENCE:0
SUMMARY:VSR NASCAR - 5. fordul? (Bejgli 600) - Qualify
UID:a22be031-eca9-430b-9967-6da7e14ce832-Qualify
END:VEVENT
BEGIN:VEVENT
DESCRIPTION:PAZA Production \nVSR NASCAR \n5. fordul? (Bejgli 600) \nRace
DTEND:20251230T150500Z
DTSTAMP:20260421T010756Z
DTSTART:20251229T190500Z
GEO:35.351164;-80.691266
LOCATION:Charlotte Motor Speedway
ORGANIZER:mailto:support@xtremescoring.com
SEQUENCE:0
SUMMARY:VSR NASCAR - 5. fordul? (Bejgli 600) - Race
UID:a22be031-eca9-430b-9967-6da7e14ce832-Race
END:VEVENT
BEGIN:VEVENT
DESCRIPTION:PAZA Production \nVSR NASCAR \n6. fordul? \nPractice
DTEND:20260105T200000Z
DTSTAMP:20260421T010756Z
DTSTART:20260105T180000Z
GEO:30.134581;-97.638045
LOCATION:Circuit of the Americas
ORGANIZER:mailto:support@xtremescoring.com
SEQUENCE:0
SUMMARY:VSR NASCAR - 6. fordul? - Practice
UID:31764548-b967-426d-9972-c097a6958b12-Practice
END:VEVENT
BEGIN:VEVENT
DESCRIPTION:PAZA Production \nVSR NASCAR \n6. fordul? \nQualify
DTEND:20260105T200500Z
DTSTAMP:20260421T010756Z
DTSTART:20260105T200000Z
GEO:30.134581;-97.638045
LOCATION:Circuit of the Americas
ORGANIZER:mailto:support@xtremescoring.com
SEQUENCE:0
SUMMARY:VSR NASCAR - 6. fordul? - Qualify
UID:31764548-b967-426d-9972-c097a6958b12-Qualify
END:VEVENT
BEGIN:VEVENT
DESCRIPTION:PAZA Production \nVSR NASCAR \n6. fordul? \nRace
DTEND:20260105T223500Z
DTSTAMP:20260421T010756Z
DTSTART:20260105T200500Z
GEO:30.134581;-97.638045
LOCATION:Circuit of the Americas
ORGANIZER:mailto:support@xtremescoring.com
SEQUENCE:0
SUMMARY:VSR NASCAR - 6. fordul? - Race
UID:31764548-b967-426d-9972-c097a6958b12-Race
END:VEVENT
BEGIN:VEVENT
DESCRIPTION:PAZA Production \nVSR NASCAR \n7. fordul? \nPractice
DTEND:20260112T200000Z
DTSTAMP:20260421T010756Z
DTSTART:20260112T180000Z
GEO:36.046652;-86.412149
LOCATION:Nashville Superspeedway
ORGANIZER:mailto:support@xtremescoring.com
SEQUENCE:0
SUMMARY:VSR NASCAR - 7. fordul? - Practice
UID:f7636d44-ed7f-4936-a22e-b9e3708baff7-Practice
END:VEVENT
BEGIN:VEVENT
DESCRIPTION:PAZA Production \nVSR NASCAR \n7. fordul? \nQualify
DTEND:20260112T200500Z
DTSTAMP:20260421T010756Z
DTSTART:20260112T200000Z
GEO:36.046652;-86.412149
LOCATION:Nashville Superspeedway
ORGANIZER:mailto:support@xtremescoring.com
SEQUENCE:0
SUMMARY:VSR NASCAR - 7. fordul? - Qualify
UID:f7636d44-ed7f-4936-a22e-b9e3708baff7-Qualify
END:VEVENT
BEGIN:VEVENT
DESCRIPTION:PAZA Production \nVSR NASCAR \n7. fordul? \nRace
DTEND:20260113T033500Z
DTSTAMP:20260421T010756Z
DTSTART:20260112T200500Z
GEO:36.046652;-86.412149
LOCATION:Nashville Superspeedway
ORGANIZER:mailto:support@xtremescoring.com
SEQUENCE:0
SUMMARY:VSR NASCAR - 7. fordul? - Race
UID:f7636d44-ed7f-4936-a22e-b9e3708baff7-Race
END:VEVENT
BEGIN:VEVENT
DESCRIPTION:PAZA Production \nVSR NASCAR \n8. fordul? \nPractice
DTEND:20260119T200000Z
DTSTAMP:20260421T010756Z
DTSTART:20260119T180000Z
GEO:41.674667;-93.015162
LOCATION:Iowa Speedway
ORGANIZER:mailto:support@xtremescoring.com
SEQUENCE:0
SUMMARY:VSR NASCAR - 8. fordul? - Practice
UID:fc0859b6-9a2e-4c0b-ba90-f77799d05e32-Practice
END:VEVENT
BEGIN:VEVENT
DESCRIPTION:PAZA Production \nVSR NASCAR \n8. fordul? \nQualify
DTEND:20260119T200500Z
DTSTAMP:20260421T010756Z
DTSTART:20260119T200000Z
GEO:41.674667;-93.015162
LOCATION:Iowa Speedway
ORGANIZER:mailto:support@xtremescoring.com
SEQUENCE:0
SUMMARY:VSR NASCAR - 8. fordul? - Qualify
UID:fc0859b6-9a2e-4c0b-ba90-f77799d05e32-Qualify
END:VEVENT
BEGIN:VEVENT
DESCRIPTION:PAZA Production \nVSR NASCAR \n8. fordul? \nRace
DTEND:20260120T045000Z
DTSTAMP:20260421T010756Z
DTSTART:20260119T200500Z
GEO:41.674667;-93.015162
LOCATION:Iowa Speedway
ORGANIZER:mailto:support@xtremescoring.com
SEQUENCE:0
SUMMARY:VSR NASCAR - 8. fordul? - Race
UID:fc0859b6-9a2e-4c0b-ba90-f77799d05e32-Race
END:VEVENT
BEGIN:VEVENT
DESCRIPTION:PAZA Production \nVSR NASCAR \n9. fordul? \nPractice
DTEND:20260126T200000Z
DTSTAMP:20260421T010756Z
DTSTART:20260126T180000Z
GEO:41.474952;-88.059494
LOCATION:Chicagoland Speedway
ORGANIZER:mailto:support@xtremescoring.com
SEQUENCE:0
SUMMARY:VSR NASCAR - 9. fordul? - Practice
UID:901bd30a-5909-4b77-a8db-2d89fd45dc46-Practice
END:VEVENT
BEGIN:VEVENT
DESCRIPTION:PAZA Production \nVSR NASCAR \n9. fordul? \nQualify
DTEND:20260126T200500Z
DTSTAMP:20260421T010756Z
DTSTART:20260126T200000Z
GEO:41.474952;-88.059494
LOCATION:Chicagoland Speedway
ORGANIZER:mailto:support@xtremescoring.com
SEQUENCE:0
SUMMARY:VSR NASCAR - 9. fordul? - Qualify
UID:901bd30a-5909-4b77-a8db-2d89fd45dc46-Qualify
END:VEVENT
BEGIN:VEVENT
DESCRIPTION:PAZA Production \nVSR NASCAR \n9. fordul? \nRace
DTEND:20260127T024700Z
DTSTAMP:20260421T010756Z
DTSTART:20260126T200500Z
GEO:41.474952;-88.059494
LOCATION:Chicagoland Speedway
ORGANIZER:mailto:support@xtremescoring.com
SEQUENCE:0
SUMMARY:VSR NASCAR - 9. fordul? - Race
UID:901bd30a-5909-4b77-a8db-2d89fd45dc46-Race
END:VEVENT
BEGIN:VEVENT
DESCRIPTION:PAZA Production \nVSR NASCAR \n10. fordul? \nPractice
DTEND:20260202T200000Z
DTSTAMP:20260421T010756Z
DTSTART:20260202T180000Z
GEO:25.451778;-80.411089
LOCATION:Homestead Miami Speedway
ORGANIZER:mailto:support@xtremescoring.com
SEQUENCE:0
SUMMARY:VSR NASCAR - 10. fordul? - Practice
UID:6ef156df-a92b-43a4-876f-fd4108b0d74b-Practice
END:VEVENT
BEGIN:VEVENT
DESCRIPTION:PAZA Production \nVSR NASCAR \n10. fordul? \nQualify
DTEND:20260202T200500Z
DTSTAMP:20260421T010756Z
DTSTART:20260202T200000Z
GEO:25.451778;-80.411089
LOCATION:Homestead Miami Speedway
ORGANIZER:mailto:support@xtremescoring.com
SEQUENCE:0
SUMMARY:VSR NASCAR - 10. fordul? - Qualify
UID:6ef156df-a92b-43a4-876f-fd4108b0d74b-Qualify
END:VEVENT
BEGIN:VEVENT
DESCRIPTION:PAZA Production \nVSR NASCAR \n10. fordul? \nRace
DTEND:20260203T092600Z
DTSTAMP:20260421T010756Z
DTSTART:20260202T200500Z
GEO:25.451778;-80.411089
LOCATION:Homestead Miami Speedway
ORGANIZER:mailto:support@xtremescoring.com
SEQUENCE:0
SUMMARY:VSR NASCAR - 10. fordul? - Race
UID:6ef156df-a92b-43a4-876f-fd4108b0d74b-Race
END:VEVENT
END:VCALENDAR
